BEGIN:VCALENDAR
VERSION:2.0
PRODID:-//NiteLite Promotions - ECPv6.15.20//NONSGML v1.0//EN
CALSCALE:GREGORIAN
METHOD:PUBLISH
X-ORIGINAL-URL:https://nitelite.com
X-WR-CALDESC:Events for NiteLite Promotions
REFRESH-INTERVAL;VALUE=DURATION:PT1H
X-Robots-Tag:noindex
X-PUBLISHED-TTL:PT1H
BEGIN:VTIMEZONE
TZID:America/Chicago
BEGIN:DAYLIGHT
TZOFFSETFROM:-0600
TZOFFSETTO:-0500
TZNAME:CDT
DTSTART:20210314T080000
END:DAYLIGHT
BEGIN:STANDARD
TZOFFSETFROM:-0500
TZOFFSETTO:-0600
TZNAME:CST
DTSTART:20211107T070000
END:STANDARD
BEGIN:DAYLIGHT
TZOFFSETFROM:-0600
TZOFFSETTO:-0500
TZNAME:CDT
DTSTART:20220313T080000
END:DAYLIGHT
BEGIN:STANDARD
TZOFFSETFROM:-0500
TZOFFSETTO:-0600
TZNAME:CST
DTSTART:20221106T070000
END:STANDARD
BEGIN:DAYLIGHT
TZOFFSETFROM:-0600
TZOFFSETTO:-0500
TZNAME:CDT
DTSTART:20230312T080000
END:DAYLIGHT
BEGIN:STANDARD
TZOFFSETFROM:-0500
TZOFFSETTO:-0600
TZNAME:CST
DTSTART:20231105T070000
END:STANDARD
BEGIN:DAYLIGHT
TZOFFSETFROM:-0600
TZOFFSETTO:-0500
TZNAME:CDT
DTSTART:20240310T080000
END:DAYLIGHT
BEGIN:STANDARD
TZOFFSETFROM:-0500
TZOFFSETTO:-0600
TZNAME:CST
DTSTART:20241103T070000
END:STANDARD
BEGIN:DAYLIGHT
TZOFFSETFROM:-0600
TZOFFSETTO:-0500
TZNAME:CDT
DTSTART:20250309T080000
END:DAYLIGHT
BEGIN:STANDARD
TZOFFSETFROM:-0500
TZOFFSETTO:-0600
TZNAME:CST
DTSTART:20251102T070000
END:STANDARD
BEGIN:DAYLIGHT
TZOFFSETFROM:-0600
TZOFFSETTO:-0500
TZNAME:CDT
DTSTART:20260308T080000
END:DAYLIGHT
BEGIN:STANDARD
TZOFFSETFROM:-0500
TZOFFSETTO:-0600
TZNAME:CST
DTSTART:20261101T070000
END:STANDARD
END:VTIMEZONE
BEGIN:VEVENT
DTSTART;TZID=America/Chicago:20250320T193000
DTEND;TZID=America/Chicago:20250320T193000
DTSTAMP:20260423T162205
CREATED:20241119T212437Z
LAST-MODIFIED:20241119T212437Z
UID:10000353-1742499000-1742499000@nitelite.com
SUMMARY:One Night of Queen
DESCRIPTION:One Night of Queen appears on March 20\, 2025 at 7:30pm at the UIS Performing Arts Center in Springfield\, IL! \n“More than a likeness.” – Brian May\, Queen \nCelebrating the 40th anniversary of Queen’s ‘The Works Tour’. \nFor over 20 years Gary Mullen and The Works have been performing their world-renowned One Night of Queen live concert. \nGary Mullen & The Works featuring Gary Mullen on vocals\, David Brockett on guitar\, Malcolm Gentles on keyboards\, Jon Halliwell on drums and Alan McGeoch on bass guitar will have you dancing in the aisles during their show\, while the band pays tribute to the stage theatrics\, showmanship\, and music of arguably the greatest rock band of all time: Queen. \nIn 2000\, Gary Mullen won the Granada TV programme “Stars in Their Eyes” with his performance as Queen’s lead singer: Freddie Mercury. Mullen’s embodiment of Freddie Mercury resulted in him gaining 864\,838 votes in the show’s Live Grand Final. The number of fans who voted for Mullen was more than double that of the runner-up\, thus setting the all time record number of votes in the history of the program. \nFor over two decades\, Gary Mullen & The Works have performed to audiences around the world\, playing more than 2\,500 live shows to audiences in over 20 countries – performing and selling out many of the same venues that Queen have\, all around the world. As of 2023\, they are the most successful tribute band in France\, playing to over 250\,000 people! \nThey WILL ROCK YOU and are GUARANTEED TO BLOW YOUR MIND! Don’t miss your chance to celebrate One Night Of Queen with Gary Mullen & The Works! The Show DOES go on! \nBuy Tickets: https://uispac.com/one-night-of-queen-2/
URL:https://nitelite.com/event/one-night-of-queen-springfield-il-2/
LOCATION:UIS Performing Arts Center\, One University Plaza\, MS PAC 292\, Springfield\, IL\, 62703\, United States
CATEGORIES:All Events,Entertaiment,Event,Live Music,Tribute Acts,Upcoming Events
ATTACH;FMTTYPE=image/jpeg:https://nitelite.com/wp-content/uploads/2024/11/ONOQueen-Springfield-1200x628-02.jpg
END:VEVENT
BEGIN:VEVENT
DTSTART;TZID=America/Chicago:20250202T190000
DTEND;TZID=America/Chicago:20250202T190000
DTSTAMP:20260423T162205
CREATED:20240924T151823Z
LAST-MODIFIED:20240924T151823Z
UID:10000335-1738522800-1738522800@nitelite.com
SUMMARY:Charlie Berens:  Good Old Fashioned Tour
DESCRIPTION:Charlie Berens:  Good Old Fashioned Tour appears at UIS Performing Arts Center in Springfield\, IL on February 2 at 7PM! \nCharlie Berens is a comedian\, New York Times Best Selling Author\, Emmy-winning journalist\, musician and creator of the Manitowoc Minute. He creates weekly content for his various social platforms and has amassed over 9 million followers. \nIn 2017\, Charlie began hosting his weekly comedic online news show\, the Manitowoc Minute. Since then\, Charlie’s been creating Midwest-focused sketch comedy videos on his social media platforms. He’s also traveled the country with three sold out stand-up comedy tours. \nIn 2020\, Charlie paired up with Horseshoes & Hand Grenades alum Adam Greuel to release the music/comedy album\, Unthawed. The album\, which is a mixture of bluegrass\, country and Charlie’s comedy\, hit #1 on the Billboard Bluegrass chart and #6 on the Bluegrass Comedy chart. The duo followed that up with Dive Bar Dinner in 2023\, which also charted on the Billboard Charts. \nCharlie’s first book\, The Midwest Survival Guide\, was released in November of 2021 by William Morrow/Harper Collins and immediately became a New York Times Best Seller! ABC is currently developing a half-hour comedy based on the book. His Midwest Survival Guide Tour sold over 150\,000 tickets! \n2023 also saw the release of his first stand-up special\, Charlie Berens: Midwest Goodbye. \nCharlie just launched his very own brandy! Berens Old Fashioned Brandy is being producing by the Dancing Goat distillery and is in stores now! \nCharlie hosts the Cripescast podcast where he interviews musicians\, artists\, comedians\, creators and more to talk about their story and connections to the Midwest. Guests have included Nate Bargatze\, Michael Yo\, Kim and Penn Holderness\, Jeff Foxworthy\, and Roy Wood\, Jr. \nIn addition to Cripescast\, Charlie co-hosts the Bellied Up podcast w/ Myles the You Betcha guy. Every Thursday\, Charlie and Myles belly up at a small town bar and take live callers from all over the Midwest and rest of the world. \nCharlie is currently touring America on his Good Old Fashioned Tour! \nTickets on sale Friday 9/27 at 10am!
URL:https://nitelite.com/event/charlie-berens-springfield-il/
LOCATION:UIS Performing Arts Center\, One University Plaza\, MS PAC 292\, Springfield\, IL\, 62703\, United States
CATEGORIES:All Events,Comedy,Entertaiment,Event,Upcoming Events
ATTACH;FMTTYPE=image/jpeg:https://nitelite.com/wp-content/uploads/2024/09/Berens-Springfield-1200x628-02.jpg
ORGANIZER;CN="NiteLite Promotions":MAILTO:events@nitelite.com
END:VEVENT
BEGIN:VEVENT
DTSTART;TZID=America/Chicago:20240509T193000
DTEND;TZID=America/Chicago:20240509T193000
DTSTAMP:20260423T162205
CREATED:20231010T222938Z
LAST-MODIFIED:20231010T222942Z
UID:10000254-1715283000-1715283000@nitelite.com
SUMMARY:Bored Teachers:  We Can't Make This Stuff Up Tour
DESCRIPTION:Bored Teachers:  We Can’t Make This Stuff Up Tour appears at the UIS Perfoming Arts Center in Springfield\, IL on May 9 at 7:30PM! \nBored Teachers Studios\, the #1 teacher-entertainment platform\, presents the funniest teacher-comedians in the world all on one stage. Their hilarious skits have amassed hundreds of millions of views on the internet\, and they’re all joining comic forces on stage for a night of laughter you do not want to miss. Put that red pen down\, call your teacher besties\, and come burn off some of that stress from the school year! \nBuy Tickets: https://uispac.com/bored-teachers-we-cant-make-this-stuff-up-comedy-tour/ \n 
URL:https://nitelite.com/event/bored-teachers-springfield-il/
LOCATION:UIS Performing Arts Center\, One University Plaza\, MS PAC 292\, Springfield\, IL\, 62703\, United States
CATEGORIES:All Events,Comedy,Entertaiment,Event,Upcoming Events
ATTACH;FMTTYPE=image/jpeg:https://nitelite.com/wp-content/uploads/2023/10/BTeachers-Springfield-1200x628-02.jpg
END:VEVENT
BEGIN:VEVENT
DTSTART;TZID=America/Chicago:20231111T200000
DTEND;TZID=America/Chicago:20231111T200000
DTSTAMP:20260423T162205
CREATED:20230811T215820Z
LAST-MODIFIED:20230811T215820Z
UID:10000236-1699732800-1699732800@nitelite.com
SUMMARY:Straight No Chaser:  Sleighin' It Tour
DESCRIPTION:Straight No Chaser:  Sleighin’ It Tour will appear at UIS Performing Arts Center in Springfield\, IL on November 11 at 8PM! \nIf the phrase “male a cappella group” conjures up an image of students in blue blazers\, ties\, and khakis singing traditional college songs on ivied campuses… think again. Straight No Chaser (SNC) are neither strait-laced nor straight-faced\, but neither are they vaudeville-style kitsch. They have emerged as a phenomenon with a massive fanbase and a long list of accomplishments including 2 RIAA Gold Certified albums\, over 1.5 million concert tickets sold\, over 1 billion streams on Pandora\, and over 2 million albums sold worldwide. Straight No Chaser is the real deal\, the captivating sound of nine unadulterated human voices coming together to make extraordinary music that is moving people in a fundamental sense… and with a sense of humor. \nBuy Tickets:  UIS Performing Arts Center – Straight No Chaser: Sleighin’ It Tour – Nov. 11
URL:https://nitelite.com/event/straight-no-chaser-sleighin-it-tour-springfield-il/
LOCATION:UIS Performing Arts Center\, One University Plaza\, MS PAC 292\, Springfield\, IL\, 62703\, United States
CATEGORIES:All Events,Entertaiment,Event,Live Music,Upcoming Events
ATTACH;FMTTYPE=image/jpeg:https://nitelite.com/wp-content/uploads/2023/08/SNC-UIS-1200x628-02.jpg
END:VEVENT
BEGIN:VEVENT
DTSTART;TZID=America/Chicago:20231107T193000
DTEND;TZID=America/Chicago:20231107T193000
DTSTAMP:20260423T162205
CREATED:20230718T215455Z
LAST-MODIFIED:20230718T215455Z
UID:10000233-1699385400-1699385400@nitelite.com
SUMMARY:One Night of Queen
DESCRIPTION:One Night of Queen appears at the UIS Performing Arts Center in Springfield\, IL  on November 7 at 7:30PM! \nFor over 20 years Gary Mullen and The Works have been performing their world-renowned One Night of Queen live concert. \nGary Mullen & The Works (featuring Gary Mullen on vocals\, David Brockett on guitar\, Malcolm Gentles on keyboards\, Jon Halliwell on drums and …TBC.. on bass) will have you dancing in the aisles during their show\, while the band pays tribute to the stage theatrics\, showmanship\, and music of Rock & Roll Hall of Fame inductees: Queen.\nIn 2000\, Gary Mullen won the Granada TV programme “Stars in Their Eyes” with his performance as Queen’s lead singer: Freddie Mercury. Mullen’s embodiment of Freddie Mercury resulted in him gaining 864\,838 votes in the show’s Live Grand Final. The number of fans who voted for Mullen was more than double that of the runner-up\, thus setting an all-time record for votes in the history of the programme. \nFor over two decades\, Gary Mullen & The Works have performed to sold-out audiences around the world\, playing more than 2\,500 live shows to audiences in over 20 countries – performing in many of the same venues that Queen have played at around the world. \nSo if you’re ready to rock ‘n’ roll\, don’t miss your chance to celebrate One Night Of Queen with Gary Mullen & The Works! \nThe Show DOES go on!
URL:https://nitelite.com/event/one-night-of-queen-springfield-il/
LOCATION:UIS Performing Arts Center\, One University Plaza\, MS PAC 292\, Springfield\, IL\, 62703\, United States
CATEGORIES:All Events,Entertaiment,Event,Live Music,Tribute Acts,Upcoming Events
ATTACH;FMTTYPE=image/jpeg:https://nitelite.com/wp-content/uploads/2023/07/ONOQ.Springfield.14.jpg
END:VEVENT
BEGIN:VEVENT
DTSTART;TZID=America/Chicago:20221015T200000
DTEND;TZID=America/Chicago:20221015T200000
DTSTAMP:20260423T162205
CREATED:20220214T190237Z
LAST-MODIFIED:20220214T190303Z
UID:10000137-1665864000-1665864000@nitelite.com
SUMMARY:Whose Live Anyway?
DESCRIPTION:The current cast members of the Emmy-nominated TV show Whose Live Anyway?  are coming to the UIS Performing Arts Center on Saturday\, October 15 at 8PM! \nWhose Live Anyway? is 90 minutes of hilarious improvised comedy and song all based on audience suggestions. Cast members Ryan Stiles\, Greg Proops\, Jeff B. Davis\, and Joel Murray will leave you gasping with the very witty scenes they invent before your eyes. \n\nAudience participation is key to the show so bring your suggestions and you might be asked to join the cast onstage!\n\n\nWHOSE LIVE ANYWAY? showcases some of the improv games made famous on the long-running TV show as well as some exciting new ones\, featuring musical direction by Bob Derkach.\n\n \n\nAll ages are welcomed\, but please note that some “PG-13” language will be used during the performance.\n\n \nTickets are ON SALE NOW at https://uispac.com/events/whose-live-anyway\n\n\n\n\n\n\n\n\n\n 
URL:https://nitelite.com/event/whose-live-anyway-springfield-il/
LOCATION:UIS Performing Arts Center\, One University Plaza\, MS PAC 292\, Springfield\, IL\, 62703\, United States
CATEGORIES:All Events,Comedy
ATTACH;FMTTYPE=image/jpeg:https://nitelite.com/wp-content/uploads/2022/02/Whose-Live-1200x628-2.jpg
ORGANIZER;CN="NiteLite Promotions":MAILTO:events@nitelite.com
END:VEVENT
END:VCALENDAR