BEGIN:VCALENDAR
VERSION:2.0
PRODID:-//NiteLite Promotions - ECPv6.15.20//NONSGML v1.0//EN
CALSCALE:GREGORIAN
METHOD:PUBLISH
X-WR-CALNAME:NiteLite Promotions
X-ORIGINAL-URL:https://nitelite.com
X-WR-CALDESC:Events for NiteLite Promotions
REFRESH-INTERVAL;VALUE=DURATION:PT1H
X-Robots-Tag:noindex
X-PUBLISHED-TTL:PT1H
BEGIN:VTIMEZONE
TZID:America/Chicago
BEGIN:DAYLIGHT
TZOFFSETFROM:-0600
TZOFFSETTO:-0500
TZNAME:CDT
DTSTART:20230312T080000
END:DAYLIGHT
BEGIN:STANDARD
TZOFFSETFROM:-0500
TZOFFSETTO:-0600
TZNAME:CST
DTSTART:20231105T070000
END:STANDARD
BEGIN:DAYLIGHT
TZOFFSETFROM:-0600
TZOFFSETTO:-0500
TZNAME:CDT
DTSTART:20240310T080000
END:DAYLIGHT
BEGIN:STANDARD
TZOFFSETFROM:-0500
TZOFFSETTO:-0600
TZNAME:CST
DTSTART:20241103T070000
END:STANDARD
BEGIN:DAYLIGHT
TZOFFSETFROM:-0600
TZOFFSETTO:-0500
TZNAME:CDT
DTSTART:20250309T080000
END:DAYLIGHT
BEGIN:STANDARD
TZOFFSETFROM:-0500
TZOFFSETTO:-0600
TZNAME:CST
DTSTART:20251102T070000
END:STANDARD
END:VTIMEZONE
BEGIN:VEVENT
DTSTART;TZID=America/Chicago:20240201T200000
DTEND;TZID=America/Chicago:20240201T200000
DTSTAMP:20260423T204207
CREATED:20231117T230330Z
LAST-MODIFIED:20231117T230330Z
UID:10000275-1706817600-1706817600@nitelite.com
SUMMARY:Dude Dad Live!
DESCRIPTION:Dude Dad Live! appears at the Turner Hall Ballroom in Milwaukee\, WI on February 1 at 8PM! \nTaylor Calmus AKA ‘Dude Dad’ is Colorado based video creator who has become a viral sensation through his family based comedy videos. A father of 3.5 kids and a husband to his wife Heidi\, Taylor taps into the relatability of parenthood to help parents laugh at their own struggles. \nHe also stars in Magnolia Network’s Super Dad\, in which he helps other dads make their kid’s backyard dreams a reality. \nTaylor is originally from the rural community of Howard\, SD but also spent 10 years living in Los Angeles. There he was in numerous TV shows\, commercials\, and has regular appearances on Jimmy Kimmel Live. \n* Recommended for ages 18+ * \nBuy Tickets: https://www.axs.com/events/510102/dude-dad-live-tickets?skin=pabst
URL:https://nitelite.com/event/dude-dad-live-milwaukee-wi/
LOCATION:Turner Hall Ballroom\, 1040 Vel R. Phillips Avenue\, Milwaukee\, WI\, 53203\, United States
CATEGORIES:All Events,Comedy,Entertaiment,Event,Upcoming Events
ATTACH;FMTTYPE=image/png:https://nitelite.com/wp-content/uploads/2023/11/2024.02.01-P-Dude-Dad-Live1920x1080-TV-Screens-1.png
END:VEVENT
END:VCALENDAR