BEGIN:VCALENDAR
VERSION:2.0
PRODID:-//NiteLite Promotions - ECPv6.15.20//NONSGML v1.0//EN
CALSCALE:GREGORIAN
METHOD:PUBLISH
X-WR-CALNAME:NiteLite Promotions
X-ORIGINAL-URL:https://nitelite.com
X-WR-CALDESC:Events for NiteLite Promotions
REFRESH-INTERVAL;VALUE=DURATION:PT1H
X-Robots-Tag:noindex
X-PUBLISHED-TTL:PT1H
BEGIN:VTIMEZONE
TZID:America/Chicago
BEGIN:DAYLIGHT
TZOFFSETFROM:-0600
TZOFFSETTO:-0500
TZNAME:CDT
DTSTART:20230312T080000
END:DAYLIGHT
BEGIN:STANDARD
TZOFFSETFROM:-0500
TZOFFSETTO:-0600
TZNAME:CST
DTSTART:20231105T070000
END:STANDARD
BEGIN:DAYLIGHT
TZOFFSETFROM:-0600
TZOFFSETTO:-0500
TZNAME:CDT
DTSTART:20240310T080000
END:DAYLIGHT
BEGIN:STANDARD
TZOFFSETFROM:-0500
TZOFFSETTO:-0600
TZNAME:CST
DTSTART:20241103T070000
END:STANDARD
BEGIN:DAYLIGHT
TZOFFSETFROM:-0600
TZOFFSETTO:-0500
TZNAME:CDT
DTSTART:20250309T080000
END:DAYLIGHT
BEGIN:STANDARD
TZOFFSETFROM:-0500
TZOFFSETTO:-0600
TZNAME:CST
DTSTART:20251102T070000
END:STANDARD
END:VTIMEZONE
BEGIN:VEVENT
DTSTART;TZID=America/Chicago:20241121T193000
DTEND;TZID=America/Chicago:20241121T193000
DTSTAMP:20260423T185348
CREATED:20240424T115205Z
LAST-MODIFIED:20240424T115205Z
UID:10000320-1732217400-1732217400@nitelite.com
SUMMARY:Bored Teachers:  The Struggle is Real! Comedy Tour
DESCRIPTION:Bored Teachers:  The Struggle is Real! Comedy Tour appears at The Virginia Theatre in Champaign\, IL on November 21 at 7:30PM! \nBORED TEACHERS are back with all new material in their 2024 “The Struggle is Real!!” Comedy Tour. For years\, Bored Teachers Studios has brought humor to teachers around the world to ease their day-to-day struggles in the classroom. They’ve amassed over a billion views of their viral videos on social media and are the #1 ranked teacher-comedy podcast — and #6 of all Stand Up Comedy shows on Apple Podcasts. \nBORED TEACHERS was launched over 8 years ago by founders James and Marilou Tarantino\, both classroom teachers and avid travelers who had met teachers from all over the world who experienced similar struggles and frustrations. The Tarantinos formed a community of their own on social media that shared—in humorous skits\, memes\, and articles—the real experiences of teachers everywhere and how undervalued they are. These stories were so relatable that the BORED TEACHERS creative team grew into a production powerhouse garnishing tens of millions of views for every skit\, story\, and podcast clip posted to the BORED TEACHERS channel. \nBORED TEACHERS is the #1 teacher-entertainment media company in the world. With more than 10 million followers\, BORED TEACHERS is a “one stop shop” for laughter\, stress relief\, and advocacy on behalf of educators. They shine a light on global issues in education through comedy\, and teachers everywhere subscribe to BORED TEACHERS for the relatable teacher humor presented in their viral comedy tour\, hilarious skits\, sarcastic social posts\, classroom anecdotes\, top-of-the-charts podcasts\, and comic articles. \nPlease note that PG-13 language is used during some sets. \nBuy Tickets: https://thevirginia.showare.com/orderticketsvenue.asp?p=1836
URL:https://nitelite.com/event/bored-teachers-champaign-il/
LOCATION:The Virginia Theatre\, 203 West Park Avenue\, Champaign\, 61820\, United States
CATEGORIES:All Events,Comedy,Entertaiment,Event,Upcoming Events
ATTACH;FMTTYPE=image/jpeg:https://nitelite.com/wp-content/uploads/2024/04/BoredTeachers.Champaign.12.jpg
END:VEVENT
END:VCALENDAR