BEGIN:VCALENDAR
VERSION:2.0
PRODID:-//NiteLite Promotions - ECPv6.15.20//NONSGML v1.0//EN
CALSCALE:GREGORIAN
METHOD:PUBLISH
X-ORIGINAL-URL:https://nitelite.com
X-WR-CALDESC:Events for NiteLite Promotions
REFRESH-INTERVAL;VALUE=DURATION:PT1H
X-Robots-Tag:noindex
X-PUBLISHED-TTL:PT1H
BEGIN:VTIMEZONE
TZID:America/Chicago
BEGIN:DAYLIGHT
TZOFFSETFROM:-0600
TZOFFSETTO:-0500
TZNAME:CDT
DTSTART:20210314T080000
END:DAYLIGHT
BEGIN:STANDARD
TZOFFSETFROM:-0500
TZOFFSETTO:-0600
TZNAME:CST
DTSTART:20211107T070000
END:STANDARD
BEGIN:DAYLIGHT
TZOFFSETFROM:-0600
TZOFFSETTO:-0500
TZNAME:CDT
DTSTART:20220313T080000
END:DAYLIGHT
BEGIN:STANDARD
TZOFFSETFROM:-0500
TZOFFSETTO:-0600
TZNAME:CST
DTSTART:20221106T070000
END:STANDARD
BEGIN:DAYLIGHT
TZOFFSETFROM:-0600
TZOFFSETTO:-0500
TZNAME:CDT
DTSTART:20230312T080000
END:DAYLIGHT
BEGIN:STANDARD
TZOFFSETFROM:-0500
TZOFFSETTO:-0600
TZNAME:CST
DTSTART:20231105T070000
END:STANDARD
BEGIN:DAYLIGHT
TZOFFSETFROM:-0600
TZOFFSETTO:-0500
TZNAME:CDT
DTSTART:20240310T080000
END:DAYLIGHT
BEGIN:STANDARD
TZOFFSETFROM:-0500
TZOFFSETTO:-0600
TZNAME:CST
DTSTART:20241103T070000
END:STANDARD
BEGIN:DAYLIGHT
TZOFFSETFROM:-0600
TZOFFSETTO:-0500
TZNAME:CDT
DTSTART:20250309T080000
END:DAYLIGHT
BEGIN:STANDARD
TZOFFSETFROM:-0500
TZOFFSETTO:-0600
TZNAME:CST
DTSTART:20251102T070000
END:STANDARD
END:VTIMEZONE
BEGIN:VEVENT
DTSTART;TZID=America/Chicago:20241005T200000
DTEND;TZID=America/Chicago:20241005T200000
DTSTAMP:20260423T204328
CREATED:20240413T035957Z
LAST-MODIFIED:20240413T040002Z
UID:10000315-1728158400-1728158400@nitelite.com
SUMMARY:Charlie Berens: Good Old Fashioned Tour
DESCRIPTION:Charlie Berens:  Good Old Fashioned Tour appears at the Sanford Center in Bemidji\, MN on October 5 at 8PM! \nCHARLIE BERENS is a comedian\, New York Times Best Selling Author\, Emmy-winning journalist\, musician and creator of the Manitowoc Minute. The Wisconsin native has been featured on Comedy Central\, Fox\, CBS\, Funny or Die\, TBS\, Variety\, MTV News and more. He creates weekly content for his various social platforms and has amassed over 7.5 million followers. \nCharlie began his career working for MTV News’ Choose or Lose. After that he worked in front and behind the camera for emerging YouTube news channels. In 2012\, Tribune Media tapped Charlie to host the comedic news show Nightcap. In 2013 he won an Emmy for “The Cost of Water” while reporting for KDAF. \nIn 2017\, Charlie began hosting his weekly comedic online news show\, the Manitowoc Minute. Since then\, Charlie’s been creating Midwest-focused sketch comedy videos on his social media platforms. He’s also traveled the country with three sold out stand-up comedy tours. \nIn 2020\, Charlie paired up with Horseshoes & Hand Grenades alum Adam Greul to release the music/comedy album\, Unthawed. The album\, which is a mixture of bluegrass\, country and Charlie’s comedy\, hit #1 on the Billboard Bluegrass chart and #6 on the Bluegrass Comedy chart. Charlie’s first book\, The Midwest Survival Guide\, was released in November of 2021 by William Morrow/Harper Collins and immediately became a New York Times Best Seller! Charlie is currently on his third stand-up tour in support of the book’s release. His Midwest Survival Guide Tour sold over 150\,000 tickets! Charlie hosts the Cripescast podcast where he interviews musicians\, artists\, comedians\, creators and more to talk about their story and connections to the Midwest. Guests have included Jeff Foxworthy\, Nate Bargatze and Roy Wood\, Jr. \nBuy Tickets:  https://www.ticketmaster.com/charlie-berens-good-old-fashioned-tour-bemidji-minnesota-10-05-2024/event/060060838C7B28D9
URL:https://nitelite.com/event/charlie-berens-bemidji-mn-2/
LOCATION:The Sanford Center\, 111 Event Center Drive NE\, Bemidji\, MN\, 56601\, United States
CATEGORIES:All Events,Comedy,Entertaiment,Event,Upcoming Events
ATTACH;FMTTYPE=image/jpeg:https://nitelite.com/wp-content/uploads/2024/04/Berens-Bemidji-1920x1080-01.jpg
END:VEVENT
BEGIN:VEVENT
DTSTART;TZID=America/Chicago:20221119T200000
DTEND;TZID=America/Chicago:20221119T200000
DTSTAMP:20260423T204328
CREATED:20220617T225322Z
LAST-MODIFIED:20220617T225322Z
UID:10000118-1668888000-1668888000@nitelite.com
SUMMARY:Charlie Berens
DESCRIPTION:Charlie Berens is keepin’ ‘er ‘movin to the Sanford Center in Bemidji\, MN on November 19 at 8PM! \nCHARLIE BERENS is an Emmy-winning journalist\, comedian\, and creator of the Manitowoc Minute.  The Wisconsin native has been featured on Fox\, CBS\, Funny or Die\, TBS Digital\, Variety\, MTV News and more.   Charlie began his career working for MTV News’ Choose or Lose. In 2012\, Tribune Media tapped Charlie to host the comedic news show Nightcap. In 2013\, he won an Emmy for “The Cost of Water” while reporting for KDAF\, a television station in Dallas\, TX. \nIn 2014\, CBS Sports Network hired Charlie to host the sports gameshow You’re So Money. Also in 2014\, PMC (Variety\, Deadline) made Charlie the host of their comedy/entertainment news brand @Hollywood. From red carpets to Sundance to SXSW to Coachella\, Charlie has interviewed hundreds of celebrities\, politicians\, actors\, and musicians. \nCharlie is a frequent collaborator on Funny or Die. His comedic mashups including “If Jack Dawson Was Really from Wisconsin” have garnered more than 13 million views. I n 2017\, Charlie began the viral Midwest comedic news series Manitowoc Minute. His fans flock daily to his Facebook page to view his content. He currently has over 550\,000 Facebook followers. After garnering millions of views\, he’s toured the United States selling out venues within minutes. \nMost recently\, Charlie’s Midwest-focused sketch comedy videos have garnered hundreds of millions of views. In addition to sketch comedy and the Manitowoc Minute\, Charlie also hosts Dark Side Of on Discovery ID. \nTickets are ON SALE at https://www.ticketmaster.com/charlie-berens-bemidji-minnesota-11-19-2022/event/06005CCDB81A6303
URL:https://nitelite.com/event/charlie-berens-bemidji-mn/
LOCATION:The Sanford Center\, 111 Event Center Drive NE\, Bemidji\, MN\, 56601\, United States
CATEGORIES:All Events,Comedy
ATTACH;FMTTYPE=image/jpeg:https://nitelite.com/wp-content/uploads/2022/02/CharlieBerens.Burnsville.17.jpg
END:VEVENT
END:VCALENDAR