BEGIN:VCALENDAR
VERSION:2.0
PRODID:-//NiteLite Promotions - ECPv6.15.20//NONSGML v1.0//EN
CALSCALE:GREGORIAN
METHOD:PUBLISH
X-ORIGINAL-URL:https://nitelite.com
X-WR-CALDESC:Events for NiteLite Promotions
REFRESH-INTERVAL;VALUE=DURATION:PT1H
X-Robots-Tag:noindex
X-PUBLISHED-TTL:PT1H
BEGIN:VTIMEZONE
TZID:America/Chicago
BEGIN:DAYLIGHT
TZOFFSETFROM:-0600
TZOFFSETTO:-0500
TZNAME:CDT
DTSTART:20220313T080000
END:DAYLIGHT
BEGIN:STANDARD
TZOFFSETFROM:-0500
TZOFFSETTO:-0600
TZNAME:CST
DTSTART:20221106T070000
END:STANDARD
BEGIN:DAYLIGHT
TZOFFSETFROM:-0600
TZOFFSETTO:-0500
TZNAME:CDT
DTSTART:20230312T080000
END:DAYLIGHT
BEGIN:STANDARD
TZOFFSETFROM:-0500
TZOFFSETTO:-0600
TZNAME:CST
DTSTART:20231105T070000
END:STANDARD
BEGIN:DAYLIGHT
TZOFFSETFROM:-0600
TZOFFSETTO:-0500
TZNAME:CDT
DTSTART:20240310T080000
END:DAYLIGHT
BEGIN:STANDARD
TZOFFSETFROM:-0500
TZOFFSETTO:-0600
TZNAME:CST
DTSTART:20241103T070000
END:STANDARD
BEGIN:DAYLIGHT
TZOFFSETFROM:-0600
TZOFFSETTO:-0500
TZNAME:CDT
DTSTART:20250309T080000
END:DAYLIGHT
BEGIN:STANDARD
TZOFFSETFROM:-0500
TZOFFSETTO:-0600
TZNAME:CST
DTSTART:20251102T070000
END:STANDARD
BEGIN:DAYLIGHT
TZOFFSETFROM:-0600
TZOFFSETTO:-0500
TZNAME:CDT
DTSTART:20260308T080000
END:DAYLIGHT
BEGIN:STANDARD
TZOFFSETFROM:-0500
TZOFFSETTO:-0600
TZNAME:CST
DTSTART:20261101T070000
END:STANDARD
BEGIN:DAYLIGHT
TZOFFSETFROM:-0600
TZOFFSETTO:-0500
TZNAME:CDT
DTSTART:20270314T080000
END:DAYLIGHT
BEGIN:STANDARD
TZOFFSETFROM:-0500
TZOFFSETTO:-0600
TZNAME:CST
DTSTART:20271107T070000
END:STANDARD
END:VTIMEZONE
BEGIN:VEVENT
DTSTART;TZID=America/Chicago:20260321T190000
DTEND;TZID=America/Chicago:20260321T190000
DTSTAMP:20260423T213108
CREATED:20250715T223006Z
LAST-MODIFIED:20251010T184351Z
UID:10000405-1774119600-1774119600@nitelite.com
SUMMARY:Craig Ferguson:  Pants on Fire
DESCRIPTION:Craig Ferguson:  Pants on Fire appears on March 21\, 2026 at 7PM at the Pantages Theatre in Minneapolis\, MN! \nCraig Ferguson is a multiple Grammy nominated\, Peabody and Emmy Award-winning actor\, writer\, producer\, director and comedian with a diverse career that encompasses film\, television and the stage. He is a New York Times bestselling author and has recorded numerous standup specials for Netflix\, Epix\, Comedy Central and Amazon \nThe wildly popular Late Late Show with Craig Ferguson ran on CBS for ten years and remains a cult favorite on YouTube racking up millions of views every year on fan posted bootleg clips. \nBorn in Glasgow\, Scotland\, Ferguson got his start in the entertainment industry as a drummer for some of the worst punk bands in the U.K. Following his musical stint\, he began bartending in a local pub in Glasgow where he was introduced to Sir Michael Boyd\, the artistic directo r of The Tron Theatre in Glasgow\, who persuaded Ferguson to try acting. After several low paying acting gigs\, Ferguson discovered he had a knack for comedy and was soon the star of his own BBC television show\, “The Ferguson Theory.” After several stints on the UK comedy circuit\, Ferguson brought his act to America in 1995 to star with Betty White and Marie Osmond in the short-lived ABC comedy\, “Maybe This Time.” After the show ended\, ABC decided to add the talented Scotsman to “The Drew Carey Show\,” playing Drew Carey’s boss\, ‘Nigel Wick\,’ from 1996-2003. \nIn 2016\, Ferguson debuted his original History Channel show\, “Join or Die\,” which featured him and his celebrity friends debating provocative topics with history experts. He also hosted Celebrity Name Game in syndication where he won the Emmy for best host two years in a row and The Hustler for ABC/Disney. \nFerguson has written the feature films “The Big Tease” and “Saving Grace”. In 2003\, he made his directorial debut with “I’ll Be There\,” which he also wrote and starred in. “I’ll Be There” went on to receive the Audience Award for Best Film at the Aspen\, Dallas\, and Valencia film festivals. Craig was also named “best new director” at the Napa Valley Film Festival. Ferguson’s other film credits include\, “Niagra Motel\,” “Lenny the Wonder Dog\,” “Prendimi l’anima\,” “Life Without Dick\,” “Chain of Fools” and “Born Romantic.” In 2011\, Ferguson portrayed ‘Owl’ in the Disney classic “Winnie the Pooh\,” and in 2012 he portrayed ‘Lord Macintosh’ in Disney’s Oscar winning animated feature “Brave.”  He also voices Gobber in the hugely successful How To Train Your Dragon movies. \nFerguson has achieved notable success on the North American comedy circuit and has performed to sold-out theaters all across the country\, including Carnegie Hall and Radio City Music Hall. He has five widely acclaimed stand-up comedy specials: “A Wee Bit O’ Revolution” which premiere in 2009 on Comedy Central; “Does This Need to Be Said” in 2011 on EPIX and Comedy Central; “I’m Here to Help” in 2013 on Netflix\, which earned him a Grammy nomination for Best Comedy Album; “Just Being Honest” in 2015 on EPIX\, which earned him a second Grammy nomination for Best Comedy Album; and “Tickle Fight” in 2017 on Netflix and the six part stand up/docu-series “Hobo Fabulous” on Amazon in 2020. \nIn 2006\, Ferguson debuted his first novel entitled Between the Bridge and the River\, which made it onto the bestseller list.  In 2008\, Ferguson succeeded in becoming a US Citizen. His first gig as a new American was hosting the White House Correspondence Dinner in the company of President George W Bush and Vice President Dick Cheney. Critics raved of his witty and comical deliverance speech to the 3\,000 attendees who included political journalists\, celebrities\, and Washington’s power players. In 2009\, Harper Collins published Ferguson’s memoir American on Purpose – a book about why and how late night funnyman Craig Ferguson became an American. The book was listed on the New York Times bestseller list. It was also nominated for a Grammy Award for Best Spoken Word. \nHis most recent book Riding the Elephant- a series of linked biographical stories- is available from Penguin books. \nBUY TICKETS \nAges 16+
URL:https://nitelite.com/event/craig-ferguson-minneapolis-mn-2/
LOCATION:The Pantages Theatre\, 710 Hennepin Ave\, Minneapolis\, MN\, 55402\, United States
CATEGORIES:All Events,Comedy,Entertaiment,Event,Upcoming Events
ATTACH;FMTTYPE=image/jpeg:https://nitelite.com/wp-content/uploads/2025/07/CFerguson-Madison-1200x628-01.jpg
END:VEVENT
BEGIN:VEVENT
DTSTART;TZID=America/Chicago:20260220T190000
DTEND;TZID=America/Chicago:20260220T190000
DTSTAMP:20260423T213108
CREATED:20251222T201630Z
LAST-MODIFIED:20251222T201636Z
UID:10000431-1771614000-1771614000@nitelite.com
SUMMARY:Dude Dad's Parent's Night Out
DESCRIPTION:Dude Dad’s Parent’s Night Out appears at the Pantages Theatre in Minneapolis\, MN on February 20\, 2026 at 7PM! \nTaylor Calmus AKA ‘Dude Dad’ is Colorado based video creator who has become a viral sensation through his comedy videos. A father of 4 kids and a husband to his wife Heidi\, Taylor taps into the relatability of parenthood to help parents laugh at their own struggles. \nBUY TICKETS
URL:https://nitelite.com/event/dude-dad-minneapolis-mn/
LOCATION:The Pantages Theatre\, 710 Hennepin Ave\, Minneapolis\, MN\, 55402\, United States
CATEGORIES:All Events,Comedy,Entertaiment,Event,Upcoming Events
ATTACH;FMTTYPE=image/jpeg:https://nitelite.com/wp-content/uploads/2025/12/Spaghetti-Minneapolis_1200x628_2026.jpg
ORGANIZER;CN="NiteLite Promotions":MAILTO:events@nitelite.com
END:VEVENT
BEGIN:VEVENT
DTSTART;TZID=America/Chicago:20231104T200000
DTEND;TZID=America/Chicago:20231104T200000
DTSTAMP:20260423T213108
CREATED:20230620T154810Z
LAST-MODIFIED:20230620T154810Z
UID:10000227-1699128000-1699128000@nitelite.com
SUMMARY:Craig Ferguson:  The Fancy Rascal Tour
DESCRIPTION:Craig Ferguson:  The Fancy Rascal Tour appears on November 4 at the Pantages Theatre in Minneapolis\, MN! \nCraig Ferguson is a multiple Grammy nominated\, Peabody and Emmy Award-winning actor\, writer\, producer\, director and comedian with a diverse career that encompasses film\, television and the stage. He is a New York Times bestselling author and has recorded numerous standup specials for Netflix\, Epix\, Comedy Central and Amazon. \nThe wildly popular Late Late Show with Craig Ferguson ran on CBS for ten years and remains a cult favorite on YouTube racking up millions of views every year on fan posted bootleg clips. \nBorn in Glasgow\, Scotland\, Ferguson got his start in the entertainment industry as a drummer for some of the worst punk bands in the U.K. Following his musical stint\, he began bartending in a local pub in Glasgow where he was introduced to Sir Michael Boyd\, the artistic director of The Tron Theatre in Glasgow\, who persuaded Ferguson to try acting. After several low paying acting gigs\, Ferguson discovered he had a knack for comedy and was soon the star of his own BBC television show\, “The Ferguson Theory.” After several stints on the UK comedy circuit\, Ferguson brought his act to America in 1995 to star with Betty White and Marie Osmond in the short-lived ABC comedy\, “Maybe This Time.” After the show ended\, ABC decided to add the talented Scotsman to The Drew Carey Show\, playing Drew Carey’s boss\, ‘Nigel Wick\,’ from 1996-2003. \nIn 2016\, Ferguson debuted his original History Channel show\, Join or Die\, which featured him and his celebrity friends debating provocative topics with history experts. He also hosted Celebrity Name Game in syndication where he won the Emmy for best host two years in a row and The Hustler for ABC/Disney. \nFerguson has achieved notable success on the North American comedy circuit and has performed to sold-out theaters all across the country\, including Carnegie Hall and Radio City Music Hall. He has five widely acclaimed stand-up comedy specials: “A Wee Bit O’ Revolution” which premiere in 2009 on Comedy Central; “Does This Need to Be Said” in 2011 on EPIX and Comedy Central; “I’m Here to Help” in 2013 on Netflix\, which earned him a Grammy nomination for Best Comedy Album; “Just Being Honest” in 2015 on EPIX\, which earned him a second Grammy nomination for Best Comedy Album; and “Tickle Fight” in 2017 on Netflix and the six part stand up/docu-series “Hobo Fabulous” on Amazon in 2020. \nHis most recent book Riding the Elephant\, a series of linked biographical stories\, is available from Penguin books. \nGet tickets:  https://www.ticketmaster.com/event/06005ECEA55732AB
URL:https://nitelite.com/event/craig-ferguson-minneapolis-mn/
LOCATION:The Pantages Theatre\, 710 Hennepin Ave\, Minneapolis\, MN\, 55402\, United States
CATEGORIES:All Events,Comedy,Entertaiment,Event,Upcoming Events
ATTACH;FMTTYPE=image/png:https://nitelite.com/wp-content/uploads/2023/06/CraigFerguson.MN_.13.png
END:VEVENT
BEGIN:VEVENT
DTSTART;TZID=America/Chicago:20231104T170000
DTEND;TZID=America/Chicago:20231104T170000
DTSTAMP:20260423T213108
CREATED:20230711T160839Z
LAST-MODIFIED:20230711T160839Z
UID:10000229-1699117200-1699117200@nitelite.com
SUMMARY:Craig Ferguson:  The Fancy Rascal Tour
DESCRIPTION:Craig Ferguson:  The Fancy Rascal Tour appears on November 4 at the Pantages Theatre in Minneapolis\, MN! \nCraig Ferguson is a multiple Grammy nominated\, Peabody and Emmy Award-winning actor\, writer\, producer\, director and comedian with a diverse career that encompasses film\, television and the stage. He is a New York Times bestselling author and has recorded numerous standup specials for Netflix\, Epix\, Comedy Central and Amazon. \nThe wildly popular Late Late Show with Craig Ferguson ran on CBS for ten years and remains a cult favorite on YouTube racking up millions of views every year on fan posted bootleg clips. \nBorn in Glasgow\, Scotland\, Ferguson got his start in the entertainment industry as a drummer for some of the worst punk bands in the U.K. Following his musical stint\, he began bartending in a local pub in Glasgow where he was introduced to Sir Michael Boyd\, the artistic director of The Tron Theatre in Glasgow\, who persuaded Ferguson to try acting. After several low paying acting gigs\, Ferguson discovered he had a knack for comedy and was soon the star of his own BBC television show\, “The Ferguson Theory.” After several stints on the UK comedy circuit\, Ferguson brought his act to America in 1995 to star with Betty White and Marie Osmond in the short-lived ABC comedy\, “Maybe This Time.” After the show ended\, ABC decided to add the talented Scotsman to The Drew Carey Show\, playing Drew Carey’s boss\, ‘Nigel Wick\,’ from 1996-2003. \nIn 2016\, Ferguson debuted his original History Channel show\, Join or Die\, which featured him and his celebrity friends debating provocative topics with history experts. He also hosted Celebrity Name Game in syndication where he won the Emmy for best host two years in a row and The Hustler for ABC/Disney. \nFerguson has achieved notable success on the North American comedy circuit and has performed to sold-out theaters all across the country\, including Carnegie Hall and Radio City Music Hall. He has five widely acclaimed stand-up comedy specials: “A Wee Bit O’ Revolution” which premiere in 2009 on Comedy Central; “Does This Need to Be Said” in 2011 on EPIX and Comedy Central; “I’m Here to Help” in 2013 on Netflix\, which earned him a Grammy nomination for Best Comedy Album; “Just Being Honest” in 2015 on EPIX\, which earned him a second Grammy nomination for Best Comedy Album; and “Tickle Fight” in 2017 on Netflix and the six part stand up/docu-series “Hobo Fabulous” on Amazon in 2020. \nHis most recent book Riding the Elephant\, a series of linked biographical stories\, is available from Penguin books.
URL:https://nitelite.com/event/craig-ferguson-minneapolis-mn-5pm/
LOCATION:The Pantages Theatre\, 710 Hennepin Ave\, Minneapolis\, MN\, 55402\, United States
CATEGORIES:All Events,Comedy,Entertaiment,Event,Upcoming Events
ATTACH;FMTTYPE=image/png:https://nitelite.com/wp-content/uploads/2023/06/CraigFerguson.MN_.13.png
END:VEVENT
BEGIN:VEVENT
DTSTART;TZID=America/Chicago:20230930T200000
DTEND;TZID=America/Chicago:20230930T200000
DTSTAMP:20260423T213108
CREATED:20230419T221802Z
LAST-MODIFIED:20230419T222206Z
UID:10000207-1696104000-1696104000@nitelite.com
SUMMARY:Drew Lynch
DESCRIPTION:Comedian Drew Lynch appears at the Pantages Theatre in Minneapolis\, MN on September 30th! \nComedian and actor Drew Lynch captured the hearts of America with his Golden Buzzer performance on Season 10 of America’s Got Talent (NBC)\, where he finished in second place. Since then\, Drew has amassed millions of followers on social media while touring the world nonstop to sold out audiences. In February 2023\, Drew released his second special ‘And These Are Jokes’ which is catching steam all over the internet. He also appeared in a recurring role in the final season of IFC’s hit series Maron as well as TBS’ Conan. A favorite on the podcast circuit\, Drew has made multiple appearances on some of the most downloaded shows\, giving his unique take on everything from pop culture to news headlines to the life of a traveling comic.
URL:https://nitelite.com/event/drew-lynch-minneapolis-mn/
LOCATION:The Pantages Theatre\, 710 Hennepin Ave\, Minneapolis\, MN\, 55402\, United States
CATEGORIES:All Events,Comedy,Event,Upcoming Events
ATTACH;FMTTYPE=image/jpeg:https://nitelite.com/wp-content/uploads/2023/04/DrewLynch.MN_.13.jpg
END:VEVENT
END:VCALENDAR