BEGIN:VCALENDAR
VERSION:2.0
PRODID:-//NiteLite Promotions - ECPv6.15.20//NONSGML v1.0//EN
CALSCALE:GREGORIAN
METHOD:PUBLISH
X-ORIGINAL-URL:https://nitelite.com
X-WR-CALDESC:Events for NiteLite Promotions
REFRESH-INTERVAL;VALUE=DURATION:PT1H
X-Robots-Tag:noindex
X-PUBLISHED-TTL:PT1H
BEGIN:VTIMEZONE
TZID:America/Chicago
BEGIN:DAYLIGHT
TZOFFSETFROM:-0600
TZOFFSETTO:-0500
TZNAME:CDT
DTSTART:20210314T080000
END:DAYLIGHT
BEGIN:STANDARD
TZOFFSETFROM:-0500
TZOFFSETTO:-0600
TZNAME:CST
DTSTART:20211107T070000
END:STANDARD
BEGIN:DAYLIGHT
TZOFFSETFROM:-0600
TZOFFSETTO:-0500
TZNAME:CDT
DTSTART:20220313T080000
END:DAYLIGHT
BEGIN:STANDARD
TZOFFSETFROM:-0500
TZOFFSETTO:-0600
TZNAME:CST
DTSTART:20221106T070000
END:STANDARD
BEGIN:DAYLIGHT
TZOFFSETFROM:-0600
TZOFFSETTO:-0500
TZNAME:CDT
DTSTART:20230312T080000
END:DAYLIGHT
BEGIN:STANDARD
TZOFFSETFROM:-0500
TZOFFSETTO:-0600
TZNAME:CST
DTSTART:20231105T070000
END:STANDARD
BEGIN:DAYLIGHT
TZOFFSETFROM:-0600
TZOFFSETTO:-0500
TZNAME:CDT
DTSTART:20240310T080000
END:DAYLIGHT
BEGIN:STANDARD
TZOFFSETFROM:-0500
TZOFFSETTO:-0600
TZNAME:CST
DTSTART:20241103T070000
END:STANDARD
BEGIN:DAYLIGHT
TZOFFSETFROM:-0600
TZOFFSETTO:-0500
TZNAME:CDT
DTSTART:20250309T080000
END:DAYLIGHT
BEGIN:STANDARD
TZOFFSETFROM:-0500
TZOFFSETTO:-0600
TZNAME:CST
DTSTART:20251102T070000
END:STANDARD
BEGIN:DAYLIGHT
TZOFFSETFROM:-0600
TZOFFSETTO:-0500
TZNAME:CDT
DTSTART:20260308T080000
END:DAYLIGHT
BEGIN:STANDARD
TZOFFSETFROM:-0500
TZOFFSETTO:-0600
TZNAME:CST
DTSTART:20261101T070000
END:STANDARD
BEGIN:DAYLIGHT
TZOFFSETFROM:-0600
TZOFFSETTO:-0500
TZNAME:CDT
DTSTART:20270314T080000
END:DAYLIGHT
BEGIN:STANDARD
TZOFFSETFROM:-0500
TZOFFSETTO:-0600
TZNAME:CST
DTSTART:20271107T070000
END:STANDARD
END:VTIMEZONE
BEGIN:VEVENT
DTSTART;TZID=America/Chicago:20260322T200000
DTEND;TZID=America/Chicago:20260322T200000
DTSTAMP:20260423T204315
CREATED:20250715T222447Z
LAST-MODIFIED:20251010T183817Z
UID:10000404-1774209600-1774209600@nitelite.com
SUMMARY:Craig Ferguson:  Pants on Fire
DESCRIPTION:Craig Ferguson:  Pants on Fire appears on March 22\, 2026 at 8PM at the Pabst Theatre in Milwaukee\, WI! \nCraig Ferguson is a multiple Grammy nominated\, Peabody and Emmy Award-winning actor\, writer\, producer\, director and comedian with a diverse career that encompasses film\, television and the stage. He is a New York Times bestselling author and has recorded numerous standup specials for Netflix\, Epix\, Comedy Central and Amazon \nThe wildly popular Late Late Show with Craig Ferguson ran on CBS for ten years and remains a cult favorite on YouTube racking up millions of views every year on fan posted bootleg clips. \nBorn in Glasgow\, Scotland\, Ferguson got his start in the entertainment industry as a drummer for some of the worst punk bands in the U.K. Following his musical stint\, he began bartending in a local pub in Glasgow where he was introduced to Sir Michael Boyd\, the artistic directo r of The Tron Theatre in Glasgow\, who persuaded Ferguson to try acting. After several low paying acting gigs\, Ferguson discovered he had a knack for comedy and was soon the star of his own BBC television show\, “The Ferguson Theory.” After several stints on the UK comedy circuit\, Ferguson brought his act to America in 1995 to star with Betty White and Marie Osmond in the short-lived ABC comedy\, “Maybe This Time.” After the show ended\, ABC decided to add the talented Scotsman to “The Drew Carey Show\,” playing Drew Carey’s boss\, ‘Nigel Wick\,’ from 1996-2003. \nIn 2016\, Ferguson debuted his original History Channel show\, “Join or Die\,” which featured him and his celebrity friends debating provocative topics with history experts. He also hosted Celebrity Name Game in syndication where he won the Emmy for best host two years in a row and The Hustler for ABC/Disney. \nFerguson has written the feature films “The Big Tease” and “Saving Grace”. In 2003\, he made his directorial debut with “I’ll Be There\,” which he also wrote and starred in. “I’ll Be There” went on to receive the Audience Award for Best Film at the Aspen\, Dallas\, and Valencia film festivals. Craig was also named “best new director” at the Napa Valley Film Festival. Ferguson’s other film credits include\, “Niagra Motel\,” “Lenny the Wonder Dog\,” “Prendimi l’anima\,” “Life Without Dick\,” “Chain of Fools” and “Born Romantic.” In 2011\, Ferguson portrayed ‘Owl’ in the Disney classic “Winnie the Pooh\,” and in 2012 he portrayed ‘Lord Macintosh’ in Disney’s Oscar winning animated feature “Brave.”  He also voices Gobber in the hugely successful How To Train Your Dragon movies. \nFerguson has achieved notable success on the North American comedy circuit and has performed to sold-out theaters all across the country\, including Carnegie Hall and Radio City Music Hall. He has five widely acclaimed stand-up comedy specials: “A Wee Bit O’ Revolution” which premiere in 2009 on Comedy Central; “Does This Need to Be Said” in 2011 on EPIX and Comedy Central; “I’m Here to Help” in 2013 on Netflix\, which earned him a Grammy nomination for Best Comedy Album; “Just Being Honest” in 2015 on EPIX\, which earned him a second Grammy nomination for Best Comedy Album; and “Tickle Fight” in 2017 on Netflix and the six part stand up/docu-series “Hobo Fabulous” on Amazon in 2020. \nIn 2006\, Ferguson debuted his first novel entitled Between the Bridge and the River\, which made it onto the bestseller list.  In 2008\, Ferguson succeeded in becoming a US Citizen. His first gig as a new American was hosting the White House Correspondence Dinner in the company of President George W Bush and Vice President Dick Cheney. Critics raved of his witty and comical deliverance speech to the 3\,000 attendees who included political journalists\, celebrities\, and Washington’s power players. In 2009\, Harper Collins published Ferguson’s memoir American on Purpose – a book about why and how late night funnyman Craig Ferguson became an American. The book was listed on the New York Times bestseller list. It was also nominated for a Grammy Award for Best Spoken Word. \nHis most recent book Riding the Elephant- a series of linked biographical stories- is available from Penguin books. \nBUY TICKETS \nAges 16+
URL:https://nitelite.com/event/craig-ferguson-milwaukee-wi/
LOCATION:The Pabst Theater\, 144 East Wells Street\, Milwaukee\, WI\, 53202\, United States
CATEGORIES:All Events,Comedy,Entertaiment,Event,Upcoming Events
ATTACH;FMTTYPE=image/jpeg:https://nitelite.com/wp-content/uploads/2025/07/CFerguson-Madison-1200x628-01.jpg
END:VEVENT
BEGIN:VEVENT
DTSTART;TZID=America/Chicago:20250608T200000
DTEND;TZID=America/Chicago:20250608T200000
DTSTAMP:20260423T204315
CREATED:20250321T222029Z
LAST-MODIFIED:20250520T221312Z
UID:10000373-1749412800-1749412800@nitelite.com
SUMMARY:Blackberry Smoke:  Rattle\, Ramble\, and Roll Tour 2025
DESCRIPTION:Blackberry Smoke:  Rattle\, Ramble\, and Roll Tour 2025 appears on June 8\, 2025 at 8PM at the Pabst Theater in Milwaukee\, WI! \nThroughout their career\, Blackberry Smoke have embodied Georgia’s rich musical legacy\, honoring the people\, places and sounds of their home state. Their latest album\, Be Right Here draws inspiration from Southern rock\, blues-leaning classic rock and rootsy vintage country and is full of vivid and relatable characters that ensure the songs often resemble rich short stories. \nOver the past two decades\, Blackberry Smoke has amassed the following of a loyal fanbase\, leading their last six full-length albums to achieve great chart success\, including 2021’s You Hear Georgia\, which reached #1 on Billboard’s Americana/Folk Albums chart and 2024’s Be Right Here\, which reached the top 5 on the Top Current Album Sales chart. \nTouring relentlessly\, the band know a little something about hitting the road in order to find a place to belong\, and supported by the strong fanbase of Brothers and Sisters\, legions of whom travel across the globe to support the band\, they in turn give fans a palace to belong. \nOver the years the band has appeared across the globe on stages such as Austin City Limits\, Bonnaroo\, Summerfest\, Glastonbury\, Download UK\, to name a few\, and has no plans to stop anytime soon. \nFor Blackberry Smoke\, embracing the light and finding the silver lining are once again at the heart of what they do best. \nLearn more about Blackberry Smoke at BlackberrySmoke.com \nBUY TICKETS 
URL:https://nitelite.com/event/blackberry-smoke-milwaukee-wi/
LOCATION:The Pabst Theater\, 144 East Wells Street\, Milwaukee\, WI\, 53202\, United States
CATEGORIES:All Events,Entertaiment,Event,Live Music,Upcoming Events
ATTACH;FMTTYPE=image/png:https://nitelite.com/wp-content/uploads/2025/03/2025.06.08-P-Blackberry-Smoke1920x1005-FB-Event.png
END:VEVENT
BEGIN:VEVENT
DTSTART;TZID=America/Chicago:20240919T200000
DTEND;TZID=America/Chicago:20240919T200000
DTSTAMP:20260423T204315
CREATED:20240424T121014Z
LAST-MODIFIED:20240424T121014Z
UID:10000323-1726776000-1726776000@nitelite.com
SUMMARY:Leonid & Friends
DESCRIPTION:Leonid & Friends appears at the Pabst Theater in Milwaukee\, WI on September 19 at 8PM! \nIn just three short years\, LEONID & FRIENDS have blown the minds of legions of fans with their uncanny ability to capture the spirit\, musicality\, and fire of American supergroup Chicago. Leonid Vorobyev’s goal was a studio project in dedication to Chicago under the motto “musicians for musicians”. Their first video went viral\, but they really gained traction when Chicago itself published the video on its official website. They have since expanded their repertoire to include Earth Wind & Fire\, Blood Sweat & Tears\, Ides of March\, Stevie Wonder\, Steely Dan\, Deep Purple\, and new original material. This incredible 11-piece band now has over 700\,000 followers across social media\, an astonishing 200 million+ video views\, and over 200 successful US shows under their belt. The future is only looking up for Leonid & Friends. \nBuy Tickets:  https://www.axs.com/events/544889/leonid-friends-tickets
URL:https://nitelite.com/event/leonid-friends-milwaukee-wi-2/
LOCATION:The Pabst Theater\, 144 East Wells Street\, Milwaukee\, WI\, 53202\, United States
CATEGORIES:All Events,Entertaiment,Event,Live Music,Tribute Acts,Upcoming Events
ATTACH;FMTTYPE=image/png:https://nitelite.com/wp-content/uploads/2024/04/2024.09.19-P-Leonid-Friends1200x628-FB-Promo.png
END:VEVENT
BEGIN:VEVENT
DTSTART;TZID=America/Chicago:20230923T200000
DTEND;TZID=America/Chicago:20230923T200000
DTSTAMP:20260423T204315
CREATED:20230509T204510Z
LAST-MODIFIED:20230509T205711Z
UID:10000213-1695499200-1695499200@nitelite.com
SUMMARY:Leonid & Friends
DESCRIPTION:Leonid & Friends appear at the Pabst Theater in Milwaukee\, WI on September 23 at 8PM! \nIn just three short years\, Leonid & Friends have blown the minds of legions of fans with their uncanny ability to capture the spirit\, musicality\, and fire of American supergroup Chicago. Leonid Vorobyev’s goal was a studio project in dedication to Chicago under the motto “musicians for musicians.” Their first video went viral\, but they really gained traction when Chicago itself published the video on its official website. This incredible 11-piece band now has over 700\,000 followers across social media\, an astonishing 150 million+ video views\, and over 200 successful US shows under their belt. \nTicket on sale at:  https://www.axs.com/events/484427/leonid-friends-tickets?skin=pabst
URL:https://nitelite.com/event/leonid-friends-milwaukee-wi/
LOCATION:The Pabst Theater\, 144 East Wells Street\, Milwaukee\, WI\, 53202\, United States
CATEGORIES:All Events,Entertaiment,Event,Live Music,Tribute Acts,Upcoming Events
ATTACH;FMTTYPE=image/png:https://nitelite.com/wp-content/uploads/2023/05/2023.09.23-P-Leonid-Friends-1920x1080-TV-Screens.png
END:VEVENT
BEGIN:VEVENT
DTSTART;TZID=America/Chicago:20221109T193000
DTEND;TZID=America/Chicago:20221109T193000
DTSTAMP:20260423T204315
CREATED:20220214T193855Z
LAST-MODIFIED:20221018T215927Z
UID:10000141-1668022200-1668022200@nitelite.com
SUMMARY:W.A.S.P. with Special Guest Armored Saint
DESCRIPTION:W.A.S.P appears with special guest\, Armored Saint at the Pabst Theatre in Milwaukee\, WI on Wednesday\, November 9 at 7:30PM! \nWitness Live the Winged Assassins Spectacle of “SHOCK and ROLL” as They Take You Back…Back to the Beginning! June 6th 2022 marks the 40th Anniversary of one of the most infamous\, notorious\, controversial Heavy Metal Bands in the World…W.A.S.P. So join W.A.S.P. for this very special 40th Anniversary World Tour! Witness Live the Winged Assassins spectacle of “SHOCK and ROLL” as they take you Back…Back to the Beginning!   \nBlackie Lawless talking about the 40th Anniversary World Tour\, “For the W.A.S.P. 40th Anniversary World Tour we’re going back to the beginning. We’re taking the show back to where it all started. Complete with all the fire and all the blood that shocked the world the first time. We only did this type of show on the first world tour and never did it again…until now! I’m gonna scream and I’m gonna bleed\, cause I Wanna be Somebody! We’re taking everybody back…back to the beginning!” \nTickets are ON SALE NOW at https://www.axs.com/events/422791/w-a-s-p-tickets?skin=pabst \n\n\n\n\n\n\n\n\n\n 
URL:https://nitelite.com/event/wasp-with-armored-saint-milwaukee-wi/
LOCATION:The Pabst Theater\, 144 East Wells Street\, Milwaukee\, WI\, 53202\, United States
CATEGORIES:All Events,Live Music,Rock Music
ATTACH;FMTTYPE=image/jpeg:https://nitelite.com/wp-content/uploads/2022/02/WASP.Pabst_.13.jpg
ORGANIZER;CN="NiteLite Promotions":MAILTO:events@nitelite.com
END:VEVENT
BEGIN:VEVENT
DTSTART;TZID=America/Chicago:20221009T190000
DTEND;TZID=America/Chicago:20221009T190000
DTSTAMP:20260423T204315
CREATED:20220323T205602Z
LAST-MODIFIED:20220415T212848Z
UID:10000148-1665342000-1665342000@nitelite.com
SUMMARY:Michael Schenker
DESCRIPTION:Legendary rock guitarist Michael Schenker appears at The Pabst Theater\, in Milwaukee\, WI – with special guests Eric Martin and Images of Eden on October 9 at 7PM! \nThere are few rock guitarists on this planet who have had such a lasting influence on so many renowned musicians as Michael Schenker. With his outstandingly fluid style\, inexhaustible wealth of ideas and instinctive feel for hooks and melodies\, Michael Schenker is a living legend who\, despite his longstanding and distinguished history\, still impresses with his unflagging energy and drive. The blond stringman from Sarstedt (near Hanover) began his international career in the early 1970s with the Scorpions\, achieved worldwide fame after joining British rock group U.F.O. and then seamlessly continued his exceptional global success story under his own name\, as well as with acts such as Michael Schenker Group (MSG for short)\, Temple Of Rock and Michael Schenker Fest. Schenker and his career\, which has spanned more than fifty years\, are absolute exceptions in the otherwise short-lived music industry. \nTickets are ON SALE Friday\, March 25 at 10am!  https://www.axs.com/events/429057/michael-schenker-tickets?skin=pabst
URL:https://nitelite.com/event/michael-schenker-milwaukee-wi/
LOCATION:The Pabst Theater\, 144 East Wells Street\, Milwaukee\, WI\, 53202\, United States
CATEGORIES:All Events,Live Music,Rock Music
ATTACH;FMTTYPE=image/jpeg:https://nitelite.com/wp-content/uploads/2022/03/MichaelSchenker.Milwaukee.13.jpg
ORGANIZER;CN="NiteLite Promotions":MAILTO:events@nitelite.com
END:VEVENT
END:VCALENDAR