BEGIN:VCALENDAR
VERSION:2.0
PRODID:-//NiteLite Promotions - ECPv6.15.20//NONSGML v1.0//EN
CALSCALE:GREGORIAN
METHOD:PUBLISH
X-ORIGINAL-URL:https://nitelite.com
X-WR-CALDESC:Events for NiteLite Promotions
REFRESH-INTERVAL;VALUE=DURATION:PT1H
X-Robots-Tag:noindex
X-PUBLISHED-TTL:PT1H
BEGIN:VTIMEZONE
TZID:America/Chicago
BEGIN:DAYLIGHT
TZOFFSETFROM:-0600
TZOFFSETTO:-0500
TZNAME:CDT
DTSTART:20210314T080000
END:DAYLIGHT
BEGIN:STANDARD
TZOFFSETFROM:-0500
TZOFFSETTO:-0600
TZNAME:CST
DTSTART:20211107T070000
END:STANDARD
BEGIN:DAYLIGHT
TZOFFSETFROM:-0600
TZOFFSETTO:-0500
TZNAME:CDT
DTSTART:20220313T080000
END:DAYLIGHT
BEGIN:STANDARD
TZOFFSETFROM:-0500
TZOFFSETTO:-0600
TZNAME:CST
DTSTART:20221106T070000
END:STANDARD
BEGIN:DAYLIGHT
TZOFFSETFROM:-0600
TZOFFSETTO:-0500
TZNAME:CDT
DTSTART:20230312T080000
END:DAYLIGHT
BEGIN:STANDARD
TZOFFSETFROM:-0500
TZOFFSETTO:-0600
TZNAME:CST
DTSTART:20231105T070000
END:STANDARD
BEGIN:DAYLIGHT
TZOFFSETFROM:-0600
TZOFFSETTO:-0500
TZNAME:CDT
DTSTART:20240310T080000
END:DAYLIGHT
BEGIN:STANDARD
TZOFFSETFROM:-0500
TZOFFSETTO:-0600
TZNAME:CST
DTSTART:20241103T070000
END:STANDARD
BEGIN:DAYLIGHT
TZOFFSETFROM:-0600
TZOFFSETTO:-0500
TZNAME:CDT
DTSTART:20250309T080000
END:DAYLIGHT
BEGIN:STANDARD
TZOFFSETFROM:-0500
TZOFFSETTO:-0600
TZNAME:CST
DTSTART:20251102T070000
END:STANDARD
BEGIN:DAYLIGHT
TZOFFSETFROM:-0600
TZOFFSETTO:-0500
TZNAME:CDT
DTSTART:20260308T080000
END:DAYLIGHT
BEGIN:STANDARD
TZOFFSETFROM:-0500
TZOFFSETTO:-0600
TZNAME:CST
DTSTART:20261101T070000
END:STANDARD
END:VTIMEZONE
BEGIN:VEVENT
DTSTART;TZID=America/Chicago:20251212T200000
DTEND;TZID=America/Chicago:20251212T200000
DTSTAMP:20260423T171625
CREATED:20250815T174930Z
LAST-MODIFIED:20250815T174930Z
UID:10000410-1765569600-1765569600@nitelite.com
SUMMARY:Straight No Chaser:  Holiday Road Tour
DESCRIPTION:Straight No Chaser:  Holiday Road Tour appears on December 12 at 8PM at Embassy Theatre in Ft. Wayne\, IN! \nRIAA-certified Gold and holiday favorites a cappella group Straight No Chaser are back with their Holiday Road Tour. Straight No Chaser will be sharing the joy\, “dad jokes\,” and songs of the season with families around the country. The Holiday Road Tour  is a nod to the theme song of the cult classic film National Lampoon’s Christmas Vacation. \nBUY TICKETS
URL:https://nitelite.com/event/straight-no-chaser-ft-wayne-in-3/
LOCATION:The Embassy Theatre\, 125 W. Jefferson Blvd.\, Ft. Wayne\, IN\, 46802\, United States
CATEGORIES:All Events,Entertaiment,Event,Live Music,Upcoming Events
ATTACH;FMTTYPE=image/jpeg:https://nitelite.com/wp-content/uploads/2025/08/SNC-FtWayne-1200x628-01.jpg
ORGANIZER;CN="NiteLite Promotions":MAILTO:events@nitelite.com
END:VEVENT
BEGIN:VEVENT
DTSTART;TZID=America/Chicago:20251211T193000
DTEND;TZID=America/Chicago:20251211T193000
DTSTAMP:20260423T171625
CREATED:20250721T210936Z
LAST-MODIFIED:20250721T210941Z
UID:10000406-1765481400-1765481400@nitelite.com
SUMMARY:A Magical Cirque Christmas
DESCRIPTION:A Magical Cirque Christmas appears on December 11 at 7:30PM at Embassy Theatre in Ft. Wayne\, IN! \nA Magical Cirque Christmas is a dazzling holiday variety show that captivates audiences of all ages. Bursting with festive charm\, laugh-out-loud comedy\, and heartwarming magic\, this high-flying spectacle showcases the extraordinary talents of the world’s most elite cirque performers. From gravity-defying acrobatics to jaw-dropping feats of strength and agility\, every act is set to a modern soundtrack of beloved Christmas classics. It’s a spellbinding winter journey through music\, movement\, and holiday joy perfect for the whole family. \nBUY TICKETS
URL:https://nitelite.com/event/a-magical-cirque-christmas-ft-wayne-in/
LOCATION:The Embassy Theatre\, 125 W. Jefferson Blvd.\, Ft. Wayne\, IN\, 46802\, United States
CATEGORIES:All Events,Entertaiment,Event,Upcoming Events
ATTACH;FMTTYPE=image/jpeg:https://nitelite.com/wp-content/uploads/2025/07/thumbnail_Cirque-Appleton-1200x628-01.jpg
END:VEVENT
BEGIN:VEVENT
DTSTART;TZID=America/Chicago:20251024T200000
DTEND;TZID=America/Chicago:20251024T200000
DTSTAMP:20260423T171625
CREATED:20250321T223718Z
LAST-MODIFIED:20250321T223720Z
UID:10000376-1761336000-1761336000@nitelite.com
SUMMARY:Steve Martin & Martin Short: The Dukes of Funnytown
DESCRIPTION:Steve Martin & Martin Short: The Dukes of Funnytown with very special guests Jeff Babko and The Steep Canyon Rangers appear on October 24\, 2025 at 8PM at the Embassy Theatre in Ft. Wayne\, IN! \nSteve Martin and Martin Short’s “The Dukes of Funnytown!” is a show that redefines the form in unexpected and profound ways\, from two of the funniest\, most influential and acclaimed talents of the past century. Their humor is often subversive\, but it is always a joyous self-deprecating romp from two comedy masters driven to make each other laugh as much as the audience. The jokes come at you at a rapid-fire pace with little set-up and big punch lines as they mock Hollywood and the fickle nature of celebrity\, but the comedy truly soars when they lovingly (and relentlessly) roast each other. Martin and \nShort’s chemistry and timing on stage reflects a friendship forged over three decades which developed when they met for the first time on the set of the 1986 film “Three Amigos.” These two titans of comedy have been touring together since 2015\, when they launched their first live show entitled “A Very Stupid Conversation.” \nBUY TICKETS
URL:https://nitelite.com/event/steve-martin-martin-short-ft-wayne-in/
LOCATION:The Embassy Theatre\, 125 W. Jefferson Blvd.\, Ft. Wayne\, IN\, 46802\, United States
CATEGORIES:All Events,Comedy,Entertaiment,Event,Upcoming Events
ATTACH;FMTTYPE=image/jpeg:https://nitelite.com/wp-content/uploads/2025/03/thumbnail_SMartin-FtWayne-1200x628-2.jpg
END:VEVENT
BEGIN:VEVENT
DTSTART;TZID=America/Chicago:20250621T200000
DTEND;TZID=America/Chicago:20250621T200000
DTSTAMP:20260423T171625
CREATED:20250113T154524Z
LAST-MODIFIED:20250520T221346Z
UID:10000369-1750536000-1750536000@nitelite.com
SUMMARY:Chicago
DESCRIPTION:Multi-Grammy award winning band and Rock ‘n Roll Hall of Fame inductees Chicago appear at the Embassy Theatre in Ft. Wayne\, IN on June 21 at 8PM! \nABOUT CHICAGO \nHailed as one of the “most important bands in music since the dawn of the rock and roll era\, the legendary rock and roll band with horns\, Chicago\, came in as the highest charting American band in Billboard Magazine’s Top 125 Artists Of All Time. Chicago is the first American rock band to chart Top 40 albums in six consecutive decades. \nIn 2024 Chicago released CHICAGO AT THE JOHN F. KENNEDY CENTER FOR THE PERFORMING ARTS\, WASHINGTON\, D.C. (9/16/1971)\, a 26-track live collection recorded at the historic venue. The show covers all three studio albums from their 1969 debut to 1971 and more than two hours of live music by Robert Lamm (keyboard\, vocals)\, Terry Kath (guitar\, vocals)\, Peter Cetera (vocals\, bass)\, Danny Seraphine (drums)\, Lee Loughnane (trumpet\, vocals)\, James Pankow (trombone)\, and Walt Parazaider (woodwinds\, vocals). \nChicago released CHICAGO GREATEST CHRISTMAS HITS\, a new collection combining songs from all three of its beloved Christmas albums\, in 2023 via Warner Music Group/Rhino. \nChicago released their 38th studio album\, BORN FOR THIS MOMENT in 2022\, which included the hit single “If This is Goodbye.” \nFeaturing the signature sounds Chicago fans have come to love\, BORN FOR THIS MOMENT\, captures the true heart of this legendary band. Over the entire course of 14 vibrant new songs\, BORN FOR THIS MOMENT encapsulates the unique blend of award-winning and personal songwriting\, multilayered harmonic vocalizations\, and world-class arrangements that have been electrifying audiences across the globe for decades. \nIn Fall of 2022\, Gravitas Ventures released Chicago’s documentary “The Last Band on Stage” directed by Peter Curtis Pardini and narrated by the band’s longtime friend and actor Joe Mantegna. On March 14\, 2020. Chicago is the last band playing in the U.S. as COVID lockdowns begin and “The Last Band on Stage” tells the incredible story of how the 57 year-old band survived a pandemic that stopped the world in its tracks. \n“Chicago has faced many obstacles in lasting 57 years but the pandemic was possibly their greatest challenge. I’m excited for people to see the story of how they got back to the stage to continue performing\,” said director Peter Curtis Pardini. “We’re excited to be bringing The Last Band on Stage to audiences worldwide. This funny and informative documentary offers an inside look at how the legendary band Chicago were able to produce content even during the height of the COVID-19 pandemic\,” said Gravitas Ventures’ Acquisition Coordinator\, Mackenzie Maguire. \nChicago received The Recording Academy’s Lifetime Achievement Award from the GRAMMYS. The Lifetime Achievement Award celebrates performers who have made outstanding contributions of artistic significance to the field of recording. A special award ceremony and tribute concert celebrating the honorees was held in 2020. \nChicago was inducted into the 2016 Rock and Roll Hall of Fame. This was their first nomination. They’ve been eligible since 1994. A long time coming! \nChicago’s first album\, Chicago Transit Authority\, was inducted into the GRAMMY Hall Of Fame in 2014.  Chicago managed to fuse pop\, rock and jazz together perfectly in this double album. \nRobert Lamm and James Pankow have become inductees of the Songwriters Hall of Fame in 2017. These legendary songwriters wrote mega-hits such as\, “25 or 6 to 4\,” “Saturday In The Park\,” “Feelin’ Stronger Every Day\,” “Make Me Smile\,” and many others. \nThe International Trombone Association presented its 2020 Lifetime Achievement Award to James Pankow. The Lifetime Achievement Award recognizes people who have distinguished themselves by their contributions to the trombone profession over a long career. \nChicago’s lifetime achievements include two Grammy Awards\, two American Music Awards\, Founding Artists of the John F. Kennedy Center for the Performing Arts\, a star on the Hollywood Walk of Fame\, a Chicago street dedicated in their honor\, and keys to and proclamations from an impressive list of US cities. Record sales top the 100\,000\,000 mark\, and include 21 Top 10 \nBUY TICKETS
URL:https://nitelite.com/event/chicago-ft-wayne-in/
LOCATION:The Embassy Theatre\, 125 W. Jefferson Blvd.\, Ft. Wayne\, IN\, 46802\, United States
CATEGORIES:All Events,Event,Live Music,Rock Music,Upcoming Events
ATTACH;FMTTYPE=image/jpeg:https://nitelite.com/wp-content/uploads/2025/01/Chicago-FtWayne-1200x628-01.jpg
END:VEVENT
BEGIN:VEVENT
DTSTART;TZID=America/Chicago:20241220T190000
DTEND;TZID=America/Chicago:20241220T190000
DTSTAMP:20260423T171625
CREATED:20240812T164541Z
LAST-MODIFIED:20240812T164541Z
UID:10000334-1734721200-1734721200@nitelite.com
SUMMARY:Straight No Chaser:  Top Shelf Tour
DESCRIPTION:Straight No Chaser:  Top Shelf Tour appears on December 20 at 7PM at the Embassy Theatre in Ft. Wayne\, IN! \nIf the phrase “male a cappella group” conjures up an image of students in blue blazers\, ties\, and khakis singing traditional college songs on ivied campuses… think again. Straight No Chaser (SNC) are neither strait-laced nor straight-faced\, but neither are they vaudeville-style kitsch. They have emerged as a phenomenon with a massive fanbase and a long list of accomplishments including 2 RIAA Gold Certified albums\, over 1.5 million concert tickets sold\, over 1 billion streams on Pandora\, and over 2 million albums sold worldwide. Straight No Chaser is the real deal\, the captivating sound of nine unadulterated human voices coming together to make extraordinary music that is moving people in a fundamental sense… and with a sense of humor.
URL:https://nitelite.com/event/straight-no-chaser-top-shelf-ft-wayne-in/
LOCATION:The Embassy Theatre\, 125 W. Jefferson Blvd.\, Ft. Wayne\, IN\, 46802\, United States
CATEGORIES:All Events,Entertaiment,Event,Live Music,Upcoming Events
ATTACH;FMTTYPE=image/jpeg:https://nitelite.com/wp-content/uploads/2024/08/SNC-FtWayne-1200x628-01.jpg
END:VEVENT
BEGIN:VEVENT
DTSTART;TZID=America/Chicago:20240126T200000
DTEND;TZID=America/Chicago:20240126T200000
DTSTAMP:20260423T171625
CREATED:20231010T223340Z
LAST-MODIFIED:20231010T223340Z
UID:10000255-1706299200-1706299200@nitelite.com
SUMMARY:Tim Allen
DESCRIPTION:Tim Allen appears at the Embassy Theatre in Ft. Wayne\, IN on January 26 at 8PM! \nA star at home on both screen and stage\, Tim Allen has been a favorite of audiences ever since he broke out of the pack of future greats who found their voices at Los Angeles’ iconic Comedy Store in the ’80s. However busy he may be as one of comedy’s biggest stars on screens big and small\, Tim Allen stays true to his stand-up roots. Audiences for his live performances are just as eager to show their appreciation for his warm\, wry and sometimes wild take on life in America\, raising families and getting older. \nFor mature audiences – Ages 18 and up \nBuy Tickets: https://www.ticketmaster.com/tim-allen-ages-18-and-over-fort-wayne-indiana-01-26-2024/event/05005F25AA811B2C
URL:https://nitelite.com/event/tim-allen-ft-wayne-in/
LOCATION:The Embassy Theatre\, 125 W. Jefferson Blvd.\, Ft. Wayne\, IN\, 46802\, United States
CATEGORIES:All Events,Comedy,Entertaiment,Event,Upcoming Events
ATTACH;FMTTYPE=image/jpeg:https://nitelite.com/wp-content/uploads/2023/07/TimAllen.MN_.12.jpg
END:VEVENT
BEGIN:VEVENT
DTSTART;TZID=America/Chicago:20231220T193000
DTEND;TZID=America/Chicago:20231220T193000
DTSTAMP:20260423T171625
CREATED:20230510T193403Z
LAST-MODIFIED:20230510T193403Z
UID:10000217-1703100600-1703100600@nitelite.com
SUMMARY:Straight No Chaser:  Sleighin' It Tour
DESCRIPTION:Straight No Chaser:  Sleighin’ It Tour will appear at the Embassy Theatre on December 20 at 7:30PM! \nIf the phrase “male a cappella group” conjures up an image of students in blue blazers\, ties\, and khakis singing traditional college songs on ivied campuses… think again. Straight No Chaser (SNC) are neither strait-laced nor straight-faced\, but neither are they vaudeville-style kitsch. They have emerged as a phenomenon with a massive fanbase and a long list of accomplishments including 2 RIAA Gold Certified albums\, over 1.5 million concert tickets sold\, over 1 billion streams on Pandora\, and over 2 million albums sold worldwide. Straight No Chaser is the real deal\, the captivating sound of nine unadulterated human voices coming together to make extraordinary music that is moving people in a fundamental sense… and with a sense of humor. \n  \nTickets on sale at: https://www.ticketmaster.com/straight-no-chaser-sleighin-it-tour-fort-wayne-indiana-12-20-2023/event/05005EA3043A74C4
URL:https://nitelite.com/event/straight-no-chaser-ft-wayne-in-2/
LOCATION:The Embassy Theatre\, 125 W. Jefferson Blvd.\, Ft. Wayne\, IN\, 46802\, United States
CATEGORIES:All Events,Entertaiment,Event,Live Music,Upcoming Events
ATTACH;FMTTYPE=image/jpeg:https://nitelite.com/wp-content/uploads/2023/05/SNC-1200x628-01.jpg
END:VEVENT
BEGIN:VEVENT
DTSTART;TZID=America/Chicago:20230929T200000
DTEND;TZID=America/Chicago:20230929T200000
DTSTAMP:20260423T171625
CREATED:20230227T160033Z
LAST-MODIFIED:20230226T010845Z
UID:10000197-1696017600-1696017600@nitelite.com
SUMMARY:Kevin James:  The Irregardless Tour
DESCRIPTION:Kevin James:  The Irregardless Tour appears at the Embassy Theatre in Ft. Wayne\, IN on Friday\, September 29 at 8PM. \n  \nKevin James began his career as a stand-up on the Long Island comedy scene. After being discovered at the 1996 Montreal Comedy Festival\, he signed a network development deal to create his own sitcom. \n  \nThe King of Queens\, which premiered in 1998\, ran for nine seasons on CBS with James starring and executive producing\, and it garnered him an Emmy nomination for Outstanding Lead Actor in a Comedy Series. The show concluded its run in 2007 but continues to air daily in syndication across the country and around the world. James also starred in\, and executive produced The Crew\, a sitcom set in the world of NASCAR and is currently developing a single camera comedy (both for Netflix). \n  \nJames brought his stand-up act to TV with Sweat the Small Stuff\, a one hour special for Comedy Central. Kevin James and Ray Romano executive produced and starred in the HBO Sports Special Making the Cut: The Roadto Pebble Beach; a documentary about the Pebble Beach Pro Am Golf\nTournament that was nominated for a Sports Emmy. His second comedy special Never Don’t Give Up premiered on Netflix to critical acclaim. \n  \nJames was the producer\, co-writer\, and star of the hit comedies Paul Blart: Mall Cop 1 & 2\, Zookeeper\, and Here Comes The Boom. James made his feature film debut in Columbia Pictures’ Hitch starring opposite Will Smith\, and starred alongside Adam Sandler in Pixels\, Grown Ups\, Grown Ups 2\, I Now Pronounce You Chuck and Larry\, and Hubie Halloween. He starred in the feature True Memoirs of an International Assassin for Netflix\, the independent action thriller Becky\, and starred in and produced Home Team for Netflix.
URL:https://nitelite.com/event/kevin-james-the-irregardless-tour-ft-wayne-in/
LOCATION:The Embassy Theatre\, 125 W. Jefferson Blvd.\, Ft. Wayne\, IN\, 46802\, United States
CATEGORIES:All Events,Comedy,Entertaiment,Event,Upcoming Events
ATTACH;FMTTYPE=image/jpeg:https://nitelite.com/wp-content/uploads/2023/02/KevinJames.IN_.14.jpg
END:VEVENT
BEGIN:VEVENT
DTSTART;TZID=America/Chicago:20221214T193000
DTEND;TZID=America/Chicago:20221214T193000
DTSTAMP:20260423T171625
CREATED:20220504T160706Z
LAST-MODIFIED:20220504T160741Z
UID:10000168-1671046200-1671046200@nitelite.com
SUMMARY:Straight No Chaser:  The 25th Anniversary Celebration
DESCRIPTION:Chart-topping a cappella group Straight No Chaser will celebrate their 25th anniversary on December 14 at 7:30PM at the Embassy Theatre in Ft. Wayne\, IN! \n  \nFormed during the 1996-1997 school year at Indiana University\, a cappella group Straight No Chaser – which began\, according to group member Steve Morgan as a “way to meet girls” – eventually emerged at the forefront of the modern day a cappella movement\, and has since sold more than three million albums worldwide\, garnered more than a billion streams\, and sold more than 1.5 million concert tickets worldwide. \n  \n“When we started Straight No Chaser as college kids at Indiana University\, we never imagined that 25 years later\, we’d have two albums certified gold and tour dates around the world\,” said group member Walter Chase.  “What a ride it has been.  It has literally been a dream come true.” \n  \nThis fall\, the group will kick off their “The 25th Anniversary Celebration” tour on October 20th in Deadwood\, South Dakota\, and will perform through New Year’s Eve\, where the tour wraps up in Portland\, OR. In total\, this fall the group will perform 62 shows.  Tickets for most dates go on-sale this Friday\, May 6th. A full itinerary is below. \n  \nIn commemoration of “The 25th Anniversary Celebration\,” Straight No Chaser will release an exclusive NFT to mark the occasion.  All details will be revealed in the coming days on Straight No Chaser’s site and social platforms (all links are below). \n  \nAdditionally\, PBS stations nationwide will air “Straight No Chaser: The 25th Anniversary Celebration\,” starting this June.  The concert\, filmed at the Murat Theatre at Old National Center in Indianapolis in 2019 where the group has sold out 27 shows\, features the nine group members performing classics like “Proud Mary\,” “Lean on Me” and “Twistin\,’” as well as pop mash-ups\, like “Uptown Funk/Thriller.” \n  \nEarlier this year\, Straight No Chaser\, known for their soundtrack to the holidays\, released a book of cocktail and food recipes\, sharing their family traditions with their fans. Straight No Chaser Sound Bites: A Cappella\, Cocktails\, and Cuisine\, a recipe book with personal family memories shared with the broader Chaser family and published by Red Lightning Books (a sister company of IU Press)\, is available on Amazon\, Barnes & Noble\, Red Lightning\, and on Straight No Chaser’s site. \n  \nThis fall\, Straight No Chaser will release a physical version of last year’s deluxe edition of Social Christmasing\, which featured an original\, “Christmas Show\,” written by group member Mike Luginbill and “Celebrate Me Home\,” featuring Kenny Loggins\, in addition to the album’s original tracklist which included their signature twist on Christmas classics like “Silver Bells” and “Frosty The Snowman\,” five new original songs\,and a hopeful take on the Counting Crows classic “A Long December.” \n  \nTickets on sale at https://www.ticketmaster.com/straight-no-chaser-the-25th-anniversary-fort-wayne-indiana-12-14-2022/event/05005C86F395605A
URL:https://nitelite.com/event/straight-no-chaser-ft-wayne-in/
LOCATION:The Embassy Theatre\, 125 W. Jefferson Blvd.\, Ft. Wayne\, IN\, 46802\, United States
CATEGORIES:All Events,Live Music
ATTACH;FMTTYPE=image/jpeg:https://nitelite.com/wp-content/uploads/2022/05/SNC.FtWayne.11.jpg
END:VEVENT
END:VCALENDAR