BEGIN:VCALENDAR
VERSION:2.0
PRODID:-//NiteLite Promotions - ECPv6.15.20//NONSGML v1.0//EN
CALSCALE:GREGORIAN
METHOD:PUBLISH
X-WR-CALNAME:NiteLite Promotions
X-ORIGINAL-URL:https://nitelite.com
X-WR-CALDESC:Events for NiteLite Promotions
REFRESH-INTERVAL;VALUE=DURATION:PT1H
X-Robots-Tag:noindex
X-PUBLISHED-TTL:PT1H
BEGIN:VTIMEZONE
TZID:America/Chicago
BEGIN:DAYLIGHT
TZOFFSETFROM:-0600
TZOFFSETTO:-0500
TZNAME:CDT
DTSTART:20210314T080000
END:DAYLIGHT
BEGIN:STANDARD
TZOFFSETFROM:-0500
TZOFFSETTO:-0600
TZNAME:CST
DTSTART:20211107T070000
END:STANDARD
BEGIN:DAYLIGHT
TZOFFSETFROM:-0600
TZOFFSETTO:-0500
TZNAME:CDT
DTSTART:20220313T080000
END:DAYLIGHT
BEGIN:STANDARD
TZOFFSETFROM:-0500
TZOFFSETTO:-0600
TZNAME:CST
DTSTART:20221106T070000
END:STANDARD
BEGIN:DAYLIGHT
TZOFFSETFROM:-0600
TZOFFSETTO:-0500
TZNAME:CDT
DTSTART:20230312T080000
END:DAYLIGHT
BEGIN:STANDARD
TZOFFSETFROM:-0500
TZOFFSETTO:-0600
TZNAME:CST
DTSTART:20231105T070000
END:STANDARD
BEGIN:DAYLIGHT
TZOFFSETFROM:-0600
TZOFFSETTO:-0500
TZNAME:CDT
DTSTART:20240310T080000
END:DAYLIGHT
BEGIN:STANDARD
TZOFFSETFROM:-0500
TZOFFSETTO:-0600
TZNAME:CST
DTSTART:20241103T070000
END:STANDARD
BEGIN:DAYLIGHT
TZOFFSETFROM:-0600
TZOFFSETTO:-0500
TZNAME:CDT
DTSTART:20250309T080000
END:DAYLIGHT
BEGIN:STANDARD
TZOFFSETFROM:-0500
TZOFFSETTO:-0600
TZNAME:CST
DTSTART:20251102T070000
END:STANDARD
END:VTIMEZONE
BEGIN:VEVENT
DTSTART;TZID=America/Chicago:20241005T200000
DTEND;TZID=America/Chicago:20241005T200000
DTSTAMP:20260425T153944
CREATED:20240510T221311Z
LAST-MODIFIED:20240510T221317Z
UID:10000324-1728158400-1728158400@nitelite.com
SUMMARY:Steve Martin & Martin Short:  "The Dukes of Funnytown!" with special guests Jeff Babko and the Steep Canyon Rangers
DESCRIPTION:Steve Martin & Martin Short: “The Dukes of Funnytown!” with special guests Jeff Babko and the Steep Canyon Rangers appear on October 5 at 8PM at the Rosemont Theatre in Rosemont\, IL! \nSteve Martin and Martin Short’s “The Dukes of Funnytown!” is a show that redefines the form in unexpected and profound ways\, from two of the funniest\, most influential and acclaimed talents of the past century. Their humor is often subversive\, but it is always a joyous self-deprecating romp from two comedy masters driven to make each other laugh as much as the audience. The jokes come at you at a rapid-fire pace with little set-up and big punch lines as they mock Hollywood and the fickle nature of celebrity\, but the comedy truly soars when they lovingly (and relentlessly) roast each other. Martin and Short’s chemistry and timing on stage reflects a friendship forged over three decades which developed when they met for the first time on the set of the 1986 film “Three Amigos.” These two titans of comedy have been touring together since 2015\, when they launched their first live show entitled “A Very Stupid Conversation.” \nBuy Tickets:  https://www.ticketmaster.com/steve-martin-martin-short-the-dukes-rosemont-illinois-10-05-2024/event/04006093B73C2556
URL:https://nitelite.com/event/steve-martin-martin-short-rosemont-il/
LOCATION:Rosemont Theatre\, 5400 North River Road\, Rosemont\, IL\, 60018\, United States
CATEGORIES:All Events,Comedy,Entertaiment,Event,Upcoming Events
ATTACH;FMTTYPE=image/jpeg:https://nitelite.com/wp-content/uploads/2024/05/SMartin-Rosemont-1200x628-1.jpg
END:VEVENT
BEGIN:VEVENT
DTSTART;TZID=America/Chicago:20240606T200000
DTEND;TZID=America/Chicago:20240606T200000
DTSTAMP:20260425T153944
CREATED:20231106T162544Z
LAST-MODIFIED:20231106T162544Z
UID:10000264-1717704000-1717704000@nitelite.com
SUMMARY:The Australian Pink Floyd Show
DESCRIPTION:The Australian Pink Floyd Show is coming to the Rosemont Theatre in Rosemont\, IL on June 6 at 8PM! \nSelling over 4 million tickets worldwide and described by The Times as “The Gold Standard” and The Daily Mirror as “The Kings of the Genre”\, The Australian Pink Floyd Show gave its first ever concert in Adelaide\, Australia in 1988. Since then\, they have performed in over 35 countries worldwide; played at David Gilmour’s 50th birthday celebration and were even joined on stage by David and Rick Wright. TAPFS is the leading show of its kind in the world. \n  \nPerforming the music of Pink Floyd with note for note perfection\, this critically acclaimed show has been astonishing audiences worldwide for more than three decades. Always striving to reproduce the complete Pink Floyd experience and bring the music to new audiences\, the show continues to include a stunning light and laser show\, video animations\, state of the art\, high resolution LED screen technology and other special effects. In addition and in true Pink Floyd fashion\, there are several huge inflatables including a giant pig\, and their own unique Pink Kangaroo. \n  \nThey have worked with Pink Floyd touring musicians like Guy Pratt and Durga McBroom. Lorelei McBroom\, who was a member of the Pink Floyd touring band on both the Momentary Lapse Of Reason and Delicate Sound Of Thunder Tours has been a member of TAPFS for 10 years. \n  \nOften described as being much more than a tribute band\, The Australian Pink Floyd Show is the first Pink Floyd tribute show that took the concept into the worldwide arena circuit. The band has played to sell out audiences throughout Europe\, UK\, America\, Canada & South America. \n  \nWith over 35 years of history\, the world’s biggest\, best\, and greatest Pink Floyd tribute show continues to delight its global fan base. \n  \nFrom its humble origins in the bars & clubs of Adelaide\, in recent years the band has become a truly international affair\, with band members from Australia\, the UK\, France and the USA. \n  \n“Setting the gold standard” – The Times  \n  \n“For the record TAPFS are a phenomenon to be witnessed live… It’s almost enough to make you forget you haven’t been watching Pink Floyd\, but a surrogate band” – Prog \n  \n“Probably the most popular tribute band in the world” – Sunday Times ‘Culture’  \nNEW FOR 2024 – FIRST CLASS TRAVELLING SET \n“The First Class Travelling Set” tour will bring to the stage the songs that mean so much to Pink Floyd fans all over the world. State of the art lighting and video\, pinpoint lasers\, huge inflatables and flawless live sound that was the benchmark of Pink Floyd shows\, TAPFS guarantees to deliver a memorable live experience for audiences old and new. \nReplicating music from every phase of Pink Floyd’s journey\, this tour reinforces TAPFS’s dedication to the heritage of Barrett\, Waters\, Gilmour\, Wright & Mason with a show that pays sincere and genuine tribute to those legendary Pink Floyd productions. \n  \nBuy Tickets:  https://www.ticketmaster.com/australian-pink-floyd-show-rosemont-illinois-06-06-2024/event/04005F5BCC612181
URL:https://nitelite.com/event/the-australian-pink-floyd-show-rosemont/
LOCATION:Rosemont Theatre\, 5400 North River Road\, Rosemont\, IL\, 60018\, United States
CATEGORIES:All Events,Entertaiment,Event,Live Music,Tribute Acts,Upcoming Events
ATTACH;FMTTYPE=image/jpeg:https://nitelite.com/wp-content/uploads/2023/11/thumbnail_AUPinkFloyd-Rosemont-1200x628-01.jpg
END:VEVENT
BEGIN:VEVENT
DTSTART;TZID=America/Chicago:20220918T193000
DTEND;TZID=America/Chicago:20220918T193000
DTSTAMP:20260425T153944
CREATED:20220407T184427Z
LAST-MODIFIED:20220415T212944Z
UID:10000153-1663529400-1663529400@nitelite.com
SUMMARY:Kevin James
DESCRIPTION:Kevin James appears at the Rosemont Theatre in Rosemont\, IL on Sunday\, September 18 at 7:30PM! \nKevin James began his career as a stand-up on the Long Island comedy scene. After being discovered at the 1996 Montreal Comedy Festival\, he signed a network development deal to create his own sitcom. \nThe King of Queens\, which premiered in 1998\, ran for nine seasons on CBS with James starring and executive producing\, and it garnered him an Emmy nomination for Outstanding Lead Actor in a Comedy Series. The show concluded its run in 2007 but continues to air daily in syndication across the country and around the world. James also starred in\, and executive produced The Crew\, a sitcom set in the world of NASCAR and is currently developing a single camera comedy (both for Netflix). \nJames brought his stand-up act to TV with Sweat the Small Stuff\, a one-hour special for Comedy Central. Kevin James and Ray Romano executive produced and starred in the HBO Sports Special Making the Cut: The Road to Pebble Beach; a documentary about the Pebble Beach Pro Am Golf Tournament that was nominated for a Sports Emmy. His second comedy special Never Don’t Give Up premiered on Netflix to critical acclaim. \nJames was the producer\, co-writer\, and star of the hit comedies Paul Blart: Mall Cop 1 & 2\, Zookeeper\, and Here Comes The Boom. James made his feature film debut in Columbia Pictures’ Hitch starring opposite Will Smith\, and starred alongside Adam Sandler in Pixels\, Grown Ups\, Grown Ups 2\, I Now Pronounce You Chuck and Larry\, and Hubie Halloween. He starred in the feature True Memoirs of an International Assassin for Netflix\, the independent action thriller Becky\, and starred in and produced Home Team for Netflix. \nTickets are on sale at https://www.ticketmaster.com/kevin-james-rosemont-illinois-09-18-2022/event/04005C78FD7A4740
URL:https://nitelite.com/event/kevin-james-rosemont-il/
LOCATION:Rosemont Theatre\, 5400 North River Road\, Rosemont\, IL\, 60018\, United States
CATEGORIES:All Events,Comedy
ATTACH;FMTTYPE=image/jpeg:https://nitelite.com/wp-content/uploads/2022/04/KevinJames.Rochester.10.jpg
END:VEVENT
END:VCALENDAR