BEGIN:VCALENDAR
VERSION:2.0
PRODID:-//NiteLite Promotions - ECPv6.15.20//NONSGML v1.0//EN
CALSCALE:GREGORIAN
METHOD:PUBLISH
X-ORIGINAL-URL:https://nitelite.com
X-WR-CALDESC:Events for NiteLite Promotions
REFRESH-INTERVAL;VALUE=DURATION:PT1H
X-Robots-Tag:noindex
X-PUBLISHED-TTL:PT1H
BEGIN:VTIMEZONE
TZID:America/Chicago
BEGIN:DAYLIGHT
TZOFFSETFROM:-0600
TZOFFSETTO:-0500
TZNAME:CDT
DTSTART:20210314T080000
END:DAYLIGHT
BEGIN:STANDARD
TZOFFSETFROM:-0500
TZOFFSETTO:-0600
TZNAME:CST
DTSTART:20211107T070000
END:STANDARD
BEGIN:DAYLIGHT
TZOFFSETFROM:-0600
TZOFFSETTO:-0500
TZNAME:CDT
DTSTART:20220313T080000
END:DAYLIGHT
BEGIN:STANDARD
TZOFFSETFROM:-0500
TZOFFSETTO:-0600
TZNAME:CST
DTSTART:20221106T070000
END:STANDARD
BEGIN:DAYLIGHT
TZOFFSETFROM:-0600
TZOFFSETTO:-0500
TZNAME:CDT
DTSTART:20230312T080000
END:DAYLIGHT
BEGIN:STANDARD
TZOFFSETFROM:-0500
TZOFFSETTO:-0600
TZNAME:CST
DTSTART:20231105T070000
END:STANDARD
BEGIN:DAYLIGHT
TZOFFSETFROM:-0600
TZOFFSETTO:-0500
TZNAME:CDT
DTSTART:20240310T080000
END:DAYLIGHT
BEGIN:STANDARD
TZOFFSETFROM:-0500
TZOFFSETTO:-0600
TZNAME:CST
DTSTART:20241103T070000
END:STANDARD
BEGIN:DAYLIGHT
TZOFFSETFROM:-0600
TZOFFSETTO:-0500
TZNAME:CDT
DTSTART:20250309T080000
END:DAYLIGHT
BEGIN:STANDARD
TZOFFSETFROM:-0500
TZOFFSETTO:-0600
TZNAME:CST
DTSTART:20251102T070000
END:STANDARD
BEGIN:DAYLIGHT
TZOFFSETFROM:-0600
TZOFFSETTO:-0500
TZNAME:CDT
DTSTART:20260308T080000
END:DAYLIGHT
BEGIN:STANDARD
TZOFFSETFROM:-0500
TZOFFSETTO:-0600
TZNAME:CST
DTSTART:20261101T070000
END:STANDARD
END:VTIMEZONE
BEGIN:VEVENT
DTSTART;TZID=America/Chicago:20250322T190000
DTEND;TZID=America/Chicago:20250322T190000
DTSTAMP:20260423T145047
CREATED:20241119T220330Z
LAST-MODIFIED:20241119T220330Z
UID:10000357-1742670000-1742670000@nitelite.com
SUMMARY:The Princess Bride: An Inconceivable Evening with Cary Elwes
DESCRIPTION:The Princess Bride: An Inconceivable Evening with Cary Elwes appears at Peoria Civic Center Theater on March 22\, 2025 at 7PM! \nJoin Cary Elwes (Westley) for a behind-the-scenes look at life on and off the set of the classic film\, The Princess Bride. After a screening of the iconic movie\, Elwes will engage in a moderated discussion revealing never-before shared secrets and tales of inconceivable antics! Journey back to the lands of Florin and Guilder in an adventure filled with fencing\, fighting\, torture\, revenge\, giants\, monsters\, chases\, escapes\, miracles and of course\, true love. \nElwes has been in a multitude of films and tv shows\, including Robin Hood: Men in Tights\, Bram Stoker’s Dracula\, Saw\, Twister\, Liar\, Liar\, Stranger Things and The Marvelous Mrs. Maisel. He recently starred in Guy Ritchie’s Operation Fortune: Ruse de Guerre\, Mission Impossible: Dead Reckoning Part with Tom Cruise\, Zack Snyder’s sci fi epic\, Rebel Moon\, and his latest movie\, Guy Ritchie’s The Ministry of Ungentlemanly Warfare\, based on the true story of the first British secret mission during World War II. \nNow Elwes is hitting the road to share with fans the personal stories behind the making of this piece of cinematic history. \nVIP Tickets: A limited number of VIP packages are available and include the best seats in the house\, a Meet and Greet with Cary Elwes\, and a signed copy of Cary Elwes best-selling book\, As You Wish: Inconceivable Tales from the Making of The Princess Bride. \nBuy Tickets: https://www.ticketmaster.com/the-princess-bride-an-inconceivable-evening-peoria-illinois-03-22-2025/event/07006139E1D644F0
URL:https://nitelite.com/event/princess-bride-peoria-il/
LOCATION:Prairie Home Alliance Theater
CATEGORIES:All Events,Entertaiment,Event,Upcoming Events
ATTACH;FMTTYPE=image/jpeg:https://nitelite.com/wp-content/uploads/2024/11/PBride-Peoria-1200x628-02.jpg
END:VEVENT
BEGIN:VEVENT
DTSTART;TZID=America/Chicago:20250206T190000
DTEND;TZID=America/Chicago:20250206T190000
DTSTAMP:20260423T145047
CREATED:20241119T222708Z
LAST-MODIFIED:20241119T222708Z
UID:10000362-1738868400-1738868400@nitelite.com
SUMMARY:Face 2 Face - A Tribute to Elton John & Billy Joel
DESCRIPTION:Face 2 Face – A Tribute to Elton John & Billy Joel appears at the Peoria Civic Center Theater in Peoria\, IL on February 6\, 2025 at 7PM! \nIntroducing the U.S.A.’s 1st and longest-running tribute to BILLY JOEL & ELTON JOHN… \nTaking turns at an onstage piano\, the dual tribute artists of the Billy Joel/Elton John Face-2-Face Tribute Show conjure the beloved songsters in both sound and image. \nBacked by some the best and most sought-after musicians in the business\, Levittown NY native MIKE SANTORO’s fingers flash up and down the keys on “Angry Young Man” before he belts out high-energy Billy Joel classics such as “Movin Out”\, “Scenes From An Italian Restaurant” and more. \nFollowing Santoro’s set\, of the roughly three-hour show\, RONNIE SMITH dons the iconic sunglasses and bedazzled suits of Elton John as he charts his style from the ‘70s to the present. Timeless anthems such as “Tiny Dancer” and the epic treasure “Funeral For A Friend/Love Lies Bleeding” mixed with more whimsical material such as “Crocodile Rock” and the fictional rock-group narrative “Bennie and the Jets.” \nFor the 3rd act\, both artists hit the stage for THE grand finale\, trading the spotlight with more of the best of Billy Joel and Elton John. For over a decade\, this event is not one to be missed! \nBuy Tickets:  https://www.ticketmaster.com/face-2-face-a-tribute-to-peoria-illinois-02-06-2025/event/0700612C897E4789 \n 
URL:https://nitelite.com/event/face-2-face-peoria-il/
LOCATION:Prairie Home Alliance Theater
CATEGORIES:All Events,Event,Live Music,Tribute Acts,Upcoming Events
ATTACH;FMTTYPE=image/jpeg:https://nitelite.com/wp-content/uploads/2024/11/face2face-Peoria-1200x628-02.jpg
END:VEVENT
BEGIN:VEVENT
DTSTART;TZID=America/Chicago:20241122T193000
DTEND;TZID=America/Chicago:20241122T193000
DTSTAMP:20260423T145047
CREATED:20240424T120444Z
LAST-MODIFIED:20240424T120444Z
UID:10000322-1732303800-1732303800@nitelite.com
SUMMARY:Bored Teachers:  The Struggle is Real! Comedy Tour
DESCRIPTION:Bored Teachers:  The Struggle is Real! Comedy Tour appears at the Peoria Civic Center Theater in Peoria\, IL on November 22 at 7:30PM! \nBORED TEACHERS are back with all new material in their 2024 “The Struggle is Real!!” Comedy Tour. For years\, Bored Teachers Studios has brought humor to teachers around the world to ease their day-to-day struggles in the classroom. They’ve amassed over a billion views of their viral videos on social media and are the #1 ranked teacher-comedy podcast — and #6 of all Stand Up Comedy shows on Apple Podcasts. \nBORED TEACHERS was launched over 8 years ago by founders James and Marilou Tarantino\, both classroom teachers and avid travelers who had met teachers from all over the world who experienced similar struggles and frustrations. The Tarantinos formed a community of their own on social media that shared—in humorous skits\, memes\, and articles—the real experiences of teachers everywhere and how undervalued they are. These stories were so relatable that the BORED TEACHERS creative team grew into a production powerhouse garnishing tens of millions of views for every skit\, story\, and podcast clip posted to the BORED TEACHERS channel. \nBORED TEACHERS is the #1 teacher-entertainment media company in the world. With more than 10 million followers\, BORED TEACHERS is a “one stop shop” for laughter\, stress relief\, and advocacy on behalf of educators. They shine a light on global issues in education through comedy\, and teachers everywhere subscribe to BORED TEACHERS for the relatable teacher humor presented in their viral comedy tour\, hilarious skits\, sarcastic social posts\, classroom anecdotes\, top-of-the-charts podcasts\, and comic articles. \nPlease note that PG-13 language is used during some sets. \nBuy Tickets: https://www.ticketmaster.com/event/07006088BC391610
URL:https://nitelite.com/event/bored-teachers-peoria-il/
LOCATION:Prairie Home Alliance Theater
CATEGORIES:All Events,Comedy,Entertaiment,Event,Upcoming Events
ATTACH;FMTTYPE=image/jpeg:https://nitelite.com/wp-content/uploads/2024/04/BoredTeachers.Peoria.5.jpg
END:VEVENT
BEGIN:VEVENT
DTSTART;TZID=America/Chicago:20240728T190000
DTEND;TZID=America/Chicago:20240728T190000
DTSTAMP:20260423T145047
CREATED:20240322T210938Z
LAST-MODIFIED:20240322T210957Z
UID:10000303-1722193200-1722193200@nitelite.com
SUMMARY:Killer Queen
DESCRIPTION:Killer Queen appears at the Peoria Civic Center Theater in Peoria\, IL on July 28 at 7PM! \nKiller Queen’s first public shows were at London University\, following in the footsteps of the real Queen who had played their first shows there decades earlier. Killer Queen’s UK popularity grew to such an extent they soon secured a residency in London’s Strand Theatre attracting nationwide BBC coverage – the first tribute to have a show in the West End. \nLead singer Patrick Myers said “It’s been an amazing journey. That first show changed my life. We thought our band would last maybe a summer at the most but it’s a very addictive thing performing these songs. The concerts grew and grew and we’ve ended up playing and selling out the same arenas that Queen played at their peak. It’s been quite a surreal ride. Becoming regular performers Red Rocks Arena in America is another highlight . The Beatles\, U2\, Springsteen\, Dylan all played on that stage. It’s really got it’s own kind of magic going on there” \nBuy Tickets: https://www.ticketmaster.com/event/07006046DD682B0B
URL:https://nitelite.com/event/killer-queen-peoria-il/
LOCATION:Prairie Home Alliance Theater
CATEGORIES:All Events,Entertaiment,Event,Live Music,Rock Music,Tribute Acts,Upcoming Events
ATTACH;FMTTYPE=image/jpeg:https://nitelite.com/wp-content/uploads/2024/03/thumbnail_KQueen-Peoria-1200x628-01.jpg
END:VEVENT
BEGIN:VEVENT
DTSTART;TZID=America/Chicago:20240602T190000
DTEND;TZID=America/Chicago:20240602T190000
DTSTAMP:20260423T145047
CREATED:20240219T224027Z
LAST-MODIFIED:20240219T224027Z
UID:10000295-1717354800-1717354800@nitelite.com
SUMMARY:Josh Gates Live!
DESCRIPTION:Josh Gates Live!  appears at the Peoria Civic Center Theater on June 2 at 7PM! \nAdventurer\, television personality\, and author Josh Gates is the host and executive producer of the smash-hit Discovery Channel series\, Expedition Unknown. The show follows Gates as he sets out on a global journey to explore archaeological discoveries\, historic mysteries\, and scientific breakthroughs. Josh immerses himself in each story\, conducting his own investigations\, showcasing the work of dedicated explorers while also highlighting vibrant cultures and fascinating destinations. Armed with a degree in archaeology\, a quick wit\, and a hunger for adventure\, Gates travels to some of the most remote corners of the planet in immersive\, hilarious\, and thrilling journeys. \nJosh is also the host of Discovery’s new\, hit show Josh Gates Tonight\, which Collider recently declared “the best talk show going for film nerds and genre fans.” Each week\, Josh is joined by high-profile guests from around the world in a series that’s part Raiders of the Lost Ark and part celebrity chat-show. Josh pours exotic cocktails with guests like Matthew McConaughey\, Tim Robbins\, Karen Allen\, Kevin Bacon\, Stephen Soderbergh\, John Cleese and more. \nAn avid scuba diver and photographer\, Josh has participated in sub-sea archaeological excavations in the Mediterranean\, and his wanderlust has taken him from sweltering African deserts to the icy shores of Antarctica. To date\, he has set foot in more than one hundred countries\, has scaled “the roof of Africa” on Mt. Kilimanjaro\, and climbed Aconcagua\, the tallest mountain in the Americas. \nFor five years\, Josh also helmed and co-executive produced the hit Syfy Channel series\, Destination Truth. Each week\, Gates and his intrepid team set out to investigate age-old legends. The show features remote and often never-before-filmed locations\, from the distant mountains of Bhutan to the uncharted jungles of Papua New Guinea. \nAs the face of adventure for Discovery\, Josh is also known for taking some of the biggest stars in Hollywood on thrilling expeditions into the unknown. He recently starred in a 4-part series alongside Doc Brown himself\, Christopher Lloyd\, in Expedition: Back to the Future. In the Shark Week special Shark Trek\, Josh also traveled where no host has gone before with William Shatner\, taking the veteran Stark Trek icon to dive with man-eating Tiger Sharks in the Bahamas. \nJosh holds degrees from Tufts University in Archaeology and Drama\, serves as a trustee on the governing board of the Archaeological Institute of America\, and is a fellow of The Explorers Club — a prestigious organization dedicated to the advancement of exploration and field research. He has appeared on The Today Show\, CNN\, and a variety of other national television and radio programs. Even more of Josh’s travels are chronicled in his bestselling book\, “Memoirs of a Monster Hunter.” \nJosh currently resides in Los Angeles and on airport floors around the world. \n  \nBuy Tickets: https://www.ticketmaster.com/event/07006047A1EB197E
URL:https://nitelite.com/event/josh-gates-peoria-il/
LOCATION:Prairie Home Alliance Theater
CATEGORIES:All Events,Entertaiment,Event,Upcoming Events
ATTACH;FMTTYPE=image/png:https://nitelite.com/wp-content/uploads/2024/02/Josh-Gates-Legends-1200x628-FB-AD-2023.png
END:VEVENT
BEGIN:VEVENT
DTSTART;TZID=America/Chicago:20240223T200000
DTEND;TZID=America/Chicago:20240223T200000
DTSTAMP:20260423T145047
CREATED:20231117T231908Z
LAST-MODIFIED:20231117T231908Z
UID:10000278-1708718400-1708718400@nitelite.com
SUMMARY:Get the Led Out
DESCRIPTION:Get the Led out returns to the Peoria Civic Center Theater in Peoria\, IL on February 23 at 8PM! \nFrom the bombastic and epic\, to the folky and mystical\, Get The Led Out (GTLO) have captured the essence of the recorded music of Led Zeppelin and brought it to the concert stage. The Philadelphia-based group consists of six veteran musicians intent on delivering Led Zeppelin live\, like you’ve never heard before. \nUtilizing the multi-instrumentalists at their disposal\, GTLO re-create the songs in all their depth and glory with the studio overdubs that Zeppelin themselves never performed. When you hear three guitars on the album\, GTLO delivers three guitarists on stage. No wigs or fake English accents\, GTLO brings what the audience wants – a high energy Zeppelin concert with an honest\, heart-thumping intensity. \nGet tickets: https://www.ticketmaster.com/event/07005F53A40A1F0B
URL:https://nitelite.com/event/get-the-led-out-peoria-il/
LOCATION:Prairie Home Alliance Theater
CATEGORIES:All Events,Entertaiment,Event,Live Music,Rock Music,Tribute Acts,Upcoming Events
ATTACH;FMTTYPE=image/jpeg:https://nitelite.com/wp-content/uploads/2023/11/thumbnail_GTLO-Peoria-1200x628-01.jpg
END:VEVENT
BEGIN:VEVENT
DTSTART;TZID=America/Chicago:20240209T200000
DTEND;TZID=America/Chicago:20240209T200000
DTSTAMP:20260423T145047
CREATED:20231010T223904Z
LAST-MODIFIED:20231010T223909Z
UID:10000256-1707508800-1707508800@nitelite.com
SUMMARY:TUSK:  The World's #1 Tribute to Fleetwood Mac
DESCRIPTION:TUSK:  The World’s #1 Tribute to Fleetwood Mac appears at the Peoria Civic Center Theater on February 9 at 8PM! \nTusk has been criss-crossing the country since 2008 as The Ultimate Fleetwood Mac Tribute. But of all the Fleetwood Mac tributes playing around the United States today\, what exactly sets Tusk apart?\n\nIs it more than five skilled professionals turned masters of their trade through decades of individual musical study\, live performance\, creative risk\, and devotion to the art?\n\nIs it more than their affection and respect for the Fleetwood Mac experience\, an entity that continues to endure over 50 years of musical and cultural evolution?\n\nIs it more than vocal similarities\, common physical traits\, or good costumes?\n\nTo be sure\, one does not fare well in the tribute scene without displaying some or all of these characteristics. So what qualities does Tusk possess that can’t be learned\, bought\, or created simply from a desire to have them?\n\nChemistry. Synergy. Intuition.\n\nThe relationship among the five founding members of Tusk has a rich history that goes back more than four decades. Two met while playing Little League baseball. Two others met in middle school band and marched in lockstep through high school. All five have been playing music with one another over the years in various configurations of original bands\, jam bands\, singer-songwriter circles\, and alternative rock groups. Time\, trust\, and close friendship have cultivated an intimate familiarity with each other’s musical nuances\, shaping each performance with such precision that even the slightest variation\, virtually imperceptible to all but the five musicians sharing the stage\, is met with a wink and a nod\, and usually an inside joke. Tusk is more than a band; they are a family.\n\nExperience the wonder of a Tusk show for yourself.\n\nBuy Tickets:  https://www.ticketmaster.com/event/07005F2CA73C198C
URL:https://nitelite.com/event/tusk-peoria-il/
LOCATION:Prairie Home Alliance Theater
CATEGORIES:All Events,Entertaiment,Event,Live Music,Tribute Acts,Upcoming Events
ATTACH;FMTTYPE=image/jpeg:https://nitelite.com/wp-content/uploads/2023/10/Tusk.Peoria.13.jpg
END:VEVENT
BEGIN:VEVENT
DTSTART;TZID=America/Chicago:20231027T200000
DTEND;TZID=America/Chicago:20231027T200000
DTSTAMP:20260423T145047
CREATED:20230509T175950Z
LAST-MODIFIED:20230509T183433Z
UID:10000211-1698436800-1698436800@nitelite.com
SUMMARY:Floyd Nation:  Experience Pink Floyd
DESCRIPTION:Floyd Nation:  Experience Pink Floyd will appear at the Peoria Civic Center Theater on October 27 at 8PM! \nFloyd Nation is a U.S.-based Pink Floyd Tribute Band that performs all of your favorite hits from the vast collection of Pink Floyd albums such as The Wall\, Dark Side of the Moon\, Wish You Were Here and The Division Bell. You’ll be immersed in sound\, lights and lasers as they take you on an epic journey\, bringing back your best memories of some of the most iconic music ever produced. Their precise tone and extreme accuracy shows their deep respect to the music of one of the most incredible bands to ever take the world stage. Get ready to experience Pink Floyd the way true fans want it! \nTickets on sale at: https://www.ticketmaster.com/event/07005EA287D90D99
URL:https://nitelite.com/event/floyd-nation-peoria-il/
LOCATION:Prairie Home Alliance Theater
CATEGORIES:All Events,Entertaiment,Event,Live Music,Tribute Acts,Upcoming Events
ATTACH;FMTTYPE=image/jpeg:https://nitelite.com/wp-content/uploads/2023/05/FNation-Peoria-1200x628-02.jpg
END:VEVENT
BEGIN:VEVENT
DTSTART;TZID=America/Chicago:20230321T193000
DTEND;TZID=America/Chicago:20230321T193000
DTSTAMP:20260423T145047
CREATED:20230124T214513Z
LAST-MODIFIED:20230124T214513Z
UID:10000130-1679427000-1679427000@nitelite.com
SUMMARY:The Price is Right Live
DESCRIPTION:The Price is Right Live is coming to the Peoria Civic Center Theater on March 21 at 7:30PM! \nEveryone’s favorite game show is on its way to you\, along with the chance to win a share of the more than $12 million in cash and fabulous prizes we’ve given away! \nAlongside our Celebrity Host\, randomly-selected contestants play everyone’s favorite games like Plinko™\, Cliffhangers\, The Big Wheel and even the fabulous Showcase. Lucky audience members can even win prizes right from their seat. \nGenerations of fans all across America have made The Price is Right Live™ the perfect family entertainment experience. And the next contestant might be YOU! \nCLICK HERE for Official Rules and Regulations \nTickets are on sale now:  https://www.ticketmaster.com/event/07005D88EF2042C0
URL:https://nitelite.com/event/the-price-is-right-live-peoria-il/
LOCATION:Prairie Home Alliance Theater
CATEGORIES:All Events,Entertaiment,Event,Upcoming Events
ATTACH;FMTTYPE=image/jpeg:https://nitelite.com/wp-content/uploads/2023/01/PIRL.Peoria.12.jpg
END:VEVENT
BEGIN:VEVENT
DTSTART;TZID=America/Chicago:20221112T200000
DTEND;TZID=America/Chicago:20221112T200000
DTSTAMP:20260423T145047
CREATED:20220412T173653Z
LAST-MODIFIED:20220412T173653Z
UID:10000158-1668283200-1668283200@nitelite.com
SUMMARY:The Fab Four
DESCRIPTION:If you want to experience the best Beatles tribute ever\, you won’t want to miss The Fab Four-The Ultimate Tribute coming to the Peoria Civic Center Theatre in Peoria\, IL on November 12 at 8PM! \nThe Emmy Award Winning Fab Four is elevated far above every other Beatles Tribute due to their precise attention to detail. With uncanny\, note-for-note live renditions of Beatles’ classics such as “Can’t Buy Me Love\,” “Yesterday\,” “A Day In The Life\,” “Twist And Shout\,” “Here Comes The Sun\,” and “Hey Jude”\, the Fab Four will make you think you are watching the real thing. \nTheir incredible stage performances include three costume changes representing every era of the Beatles ever-changing career\, and this loving tribute to the Beatles has amazed audiences in countries around the world\, including Japan\, Australia\, France\, Hong Kong\, The United Kingdom\, Germany\, Mexico and Brazil. \nTickets are ON SALE at https://www.ticketmaster.com/event/07005C78A2B93891
URL:https://nitelite.com/event/the-fab-four-peoria-il/
LOCATION:Prairie Home Alliance Theater
CATEGORIES:All Events,Live Music,Rock Music,Tribute Acts
ATTACH;FMTTYPE=image/jpeg:https://nitelite.com/wp-content/uploads/2022/04/FF-Peroia-111222-1920px1080-RGB.jpg
END:VEVENT
BEGIN:VEVENT
DTSTART;TZID=America/Chicago:20221110T193000
DTEND;TZID=America/Chicago:20221110T193000
DTSTAMP:20260423T145047
CREATED:20220512T213330Z
LAST-MODIFIED:20221018T220244Z
UID:10000173-1668108600-1668108600@nitelite.com
SUMMARY:Whose Live Anyway?
DESCRIPTION:The current cast members of the Emmy-nominated TV show Whose Live Anyway?  are coming to the Peoria Civic Center Theater on November 10 at 7:30PM! \nWhose Live Anyway? is 90 minutes of hilarious improvised comedy and song all based on audience suggestions. Cast members Ryan Stiles\, Greg Proops\, Jeff B. Davis\, and Joel Murray will leave you gasping with the very witty scenes they invent before your eyes. \n\nAudience participation is key to the show so bring your suggestions and you might be asked to join the cast onstage!\n\n\nWHOSE LIVE ANYWAY? showcases some of the improv games made famous on the long-running TV show as well as some exciting new ones\, featuring musical direction by Bob Derkach.\n\n\n\nAll ages are welcomed\, but please note that some “PG-13” language will be used during the performance.\n\n\nTickets are on sale at https://www.ticketmaster.com/event/07005CA4D77759F5
URL:https://nitelite.com/event/whose-live-anyway-peoria-il/
LOCATION:Prairie Home Alliance Theater
CATEGORIES:All Events,Comedy
ATTACH;FMTTYPE=image/jpeg:https://nitelite.com/wp-content/uploads/2022/02/Whose-Live-1200x628-2.jpg
END:VEVENT
BEGIN:VEVENT
DTSTART;TZID=America/Chicago:20221014T200000
DTEND;TZID=America/Chicago:20221014T200000
DTSTAMP:20260423T145047
CREATED:20220512T215221Z
LAST-MODIFIED:20220512T215221Z
UID:10000177-1665777600-1665777600@nitelite.com
SUMMARY:Get the Led Out
DESCRIPTION:Get The Led Out\, a musical group that brings the studio recordings of Led Zeppelin to life in concert\, is set to perform at Peoria Civic Center Theater on October 14 at 8PM! \nFrom the bombastic and epic\, to the folky and mystical\, Get The Led Out (GTLO) have captured the essence of the recorded music of Led Zeppelin and brought it to the concert stage. The Philadelphia-based group consists of six veteran musicians intent on delivering Led Zeppelin live\, like you’ve never heard before. Utilizing the multi-instrumentalists at their disposal\, GTLO re-create the songs in all their depth and glory with the studio overdubs that Zeppelin themselves never performed. When you hear three guitars on the album\, GTLO delivers three guitarists on stage. No wigs or fake English accents\, GTLO brings what the audience wants – a high energy Zeppelin concert with an honest\, heart-thumping intensity. \nDubbed by the media as “The American Led Zeppelin\,” Get The Led Out offers a strong focus on the early years. They also touch on the deeper cuts that were seldom\, if ever heard in concert. GTLO also include a special “acoustic set” with Zep favorites such as “Tangerine” and “Hey Hey What Can I Do.” \nGTLO has amassed a strong national touring history\, having performed at major club and PAC venues across the country. GTLO’s approach to their performance of this hallowed catalog is not unlike a classical performance. “Led Zeppelin are sort of the classical composers of the rock era\,” says lead vocalist Paul Sinclair. “I believe 100 years from now they will be looked at as the Bach or Beethoven of our time. As cliché as it sounds\, their music is timeless.” \nA GTLO concert mimics the “light and shade” that are the embodiment of “The Mighty Zep.” Whether it’s the passion and fury with which they deliver the blues-soaked\, groove-driven rock anthems\, it’s their attention to detail and nuance that makes a Get The Led Out performance a truly awe-inspiring event! \n  \nTickets are on sale at https://www.ticketmaster.com/event/07005C9ADF3A3906
URL:https://nitelite.com/event/get-the-led-out-peoria/
LOCATION:Prairie Home Alliance Theater
CATEGORIES:All Events,Live Music,Rock Music,Tribute Acts
ATTACH;FMTTYPE=image/jpeg:https://nitelite.com/wp-content/uploads/2022/05/GTLO.Rockford.11.jpg
END:VEVENT
END:VCALENDAR