BEGIN:VCALENDAR
VERSION:2.0
PRODID:-//NiteLite Promotions - ECPv6.15.20//NONSGML v1.0//EN
CALSCALE:GREGORIAN
METHOD:PUBLISH
X-ORIGINAL-URL:https://nitelite.com
X-WR-CALDESC:Events for NiteLite Promotions
REFRESH-INTERVAL;VALUE=DURATION:PT1H
X-Robots-Tag:noindex
X-PUBLISHED-TTL:PT1H
BEGIN:VTIMEZONE
TZID:America/Chicago
BEGIN:DAYLIGHT
TZOFFSETFROM:-0600
TZOFFSETTO:-0500
TZNAME:CDT
DTSTART:20210314T080000
END:DAYLIGHT
BEGIN:STANDARD
TZOFFSETFROM:-0500
TZOFFSETTO:-0600
TZNAME:CST
DTSTART:20211107T070000
END:STANDARD
BEGIN:DAYLIGHT
TZOFFSETFROM:-0600
TZOFFSETTO:-0500
TZNAME:CDT
DTSTART:20220313T080000
END:DAYLIGHT
BEGIN:STANDARD
TZOFFSETFROM:-0500
TZOFFSETTO:-0600
TZNAME:CST
DTSTART:20221106T070000
END:STANDARD
BEGIN:DAYLIGHT
TZOFFSETFROM:-0600
TZOFFSETTO:-0500
TZNAME:CDT
DTSTART:20230312T080000
END:DAYLIGHT
BEGIN:STANDARD
TZOFFSETFROM:-0500
TZOFFSETTO:-0600
TZNAME:CST
DTSTART:20231105T070000
END:STANDARD
BEGIN:DAYLIGHT
TZOFFSETFROM:-0600
TZOFFSETTO:-0500
TZNAME:CDT
DTSTART:20240310T080000
END:DAYLIGHT
BEGIN:STANDARD
TZOFFSETFROM:-0500
TZOFFSETTO:-0600
TZNAME:CST
DTSTART:20241103T070000
END:STANDARD
BEGIN:DAYLIGHT
TZOFFSETFROM:-0600
TZOFFSETTO:-0500
TZNAME:CDT
DTSTART:20250309T080000
END:DAYLIGHT
BEGIN:STANDARD
TZOFFSETFROM:-0500
TZOFFSETTO:-0600
TZNAME:CST
DTSTART:20251102T070000
END:STANDARD
BEGIN:DAYLIGHT
TZOFFSETFROM:-0600
TZOFFSETTO:-0500
TZNAME:CDT
DTSTART:20260308T080000
END:DAYLIGHT
BEGIN:STANDARD
TZOFFSETFROM:-0500
TZOFFSETTO:-0600
TZNAME:CST
DTSTART:20261101T070000
END:STANDARD
END:VTIMEZONE
BEGIN:VEVENT
DTSTART;TZID=America/Chicago:20250412T190000
DTEND;TZID=America/Chicago:20250412T190000
DTSTAMP:20260424T012651
CREATED:20241119T215606Z
LAST-MODIFIED:20250103T201026Z
UID:10000356-1744484400-1744484400@nitelite.com
SUMMARY:The Princess Bride: An Inconceivable Evening with Cary Elwes
DESCRIPTION:Due to a scheduling conflict\, the January 18\, 2025 presentation of The Princess Bride: An Inconceivable Evening with Cary Elwes at the Kauffman Center for the Performing Arts in Kansas City\, MO\, has been rescheduled to Saturday\, April 12\, 2025. All tickets for the original show will be honored at the new date. \nTicketholders that are unable to attend the new date\, can reach out to their point of purchase for a refund within 30 days. Please contact the Kauffman Center box office with questions or for assistance. \nJoin Cary Elwes (Westley) for a behind-the-scenes look at life on and off the set of the classic film\, The Princess Bride. \nAfter a screening of the iconic movie\, Elwes will engage in a moderated discussion revealing never before shared secrets and tales of inconceivable antics! \nJourney back to the lands of Florin and Guilder in an adventure filled with fencing\, fighting\, torture\, revenge\, giants\, monsters\, chases\, escapes\, miracles\, and of course\, true love. \nElwes has been in a multitude of films and tv shows\, including Robin Hood: Men in Tights\, Bram Stoker’s Dracula\, Saw\, Twister\, Liar\, Liar\, Stranger Things and The Marvelous Mrs. Maisel. He recently starred in Guy Ritchie’s “Operation Fortune: Ruse de Guerre”\, “Mission Impossible: Dead Reckoning Part 1” with Tom Cruise\, Zack Snyder’s sci fi epic\, “Rebel Moon\, and his latest film “Sweetwater”\, based on the true story of the first African American signed to the NBA. \nNow Elwes is hitting the road to share with fans the personal stories behind the making of this piece of cinematic history. \nDon’t be a “Humperdinck”\, make haste to see The Princess Bride: An Inconceivable Evening with Cary Elwes for a night you will always “tweasure”. \nA limited number of VIP packages are available and include the best seats in the house\, a Meet and Greet with Cary Elwes\, and a signed copy of Cary Elwes best-selling book\, As You Wish: Inconceivable Tales from the Making of The Princess Bride. \nBuy Tickets:
URL:https://nitelite.com/event/the-princess-bride-an-inconceivable-evening-with-cary-elwes-kansas-city/
LOCATION:Kauffman Center for the Perfoming Arts\, 1601 Broadway Blvd.\, Kansas City\, MO\, 64108\, United States
CATEGORIES:All Events,Entertaiment,Event,Upcoming Events
ATTACH;FMTTYPE=image/jpeg:https://nitelite.com/wp-content/uploads/2024/11/KCPA_TPB_FBEvent_2025-UPDATED.jpg
END:VEVENT
BEGIN:VEVENT
DTSTART;TZID=America/Chicago:20221111T200000
DTEND;TZID=America/Chicago:20221111T200000
DTSTAMP:20260424T012651
CREATED:20220617T224744Z
LAST-MODIFIED:20220617T224744Z
UID:10000117-1668196800-1668196800@nitelite.com
SUMMARY:An Evening with George Winston
DESCRIPTION:An evening with celebrated solo pianist George Winston at the Kauffman Center in Kansas City\, MO on November 11 at 8PM. \nGeorge Winston is undeniably a household name. He’s inspired fans and musicians alike with his singular solo acoustic piano songs for more than 40 years while selling 15 million albums. A tireless road warrior playing nearly 100 concerts annually\, live performance for Winston is akin to breathing. Winston’s music is evocative\, offering us all a chance to take a step back from our perpetually busy lives and let our minds adventurously wander. \nGeorge Winston’s classic albums\, Autumn and December\, are perennial favorites\, along with Winter into Spring\, Summer\, 2017’s Spring Carousel – A Cancer Research Benefit\, as well as two volumes of the compositions of Vince Guaraldi\, two volumes of benefit albums for the Gulf Coast disasters\, and six other solo piano albums. He just released his 15th solo piano album\, Restless Wind\, via Dancing Cat Records/RCA Record. Restless Wind is a portrayal of Winston’s place in a chaotic world – his compositions extend solace with an idiosyncratic grace. The album is available now at GeorgeWinston.com. \n  \nTickets on sale at https://tickets.kauffmancenter.org/george-winston/19929
URL:https://nitelite.com/event/george-winston-kansas-city-mo/
LOCATION:Kauffman Center for the Perfoming Arts\, 1601 Broadway Blvd.\, Kansas City\, MO\, 64108\, United States
CATEGORIES:All Events,Live Music
ATTACH;FMTTYPE=image/jpeg:https://nitelite.com/wp-content/uploads/2022/06/GeorgeWinston.KC_.3.jpg
END:VEVENT
END:VCALENDAR