BEGIN:VCALENDAR
VERSION:2.0
PRODID:-//NiteLite Promotions - ECPv6.15.20//NONSGML v1.0//EN
CALSCALE:GREGORIAN
METHOD:PUBLISH
X-WR-CALNAME:NiteLite Promotions
X-ORIGINAL-URL:https://nitelite.com
X-WR-CALDESC:Events for NiteLite Promotions
REFRESH-INTERVAL;VALUE=DURATION:PT1H
X-Robots-Tag:noindex
X-PUBLISHED-TTL:PT1H
BEGIN:VTIMEZONE
TZID:America/Chicago
BEGIN:DAYLIGHT
TZOFFSETFROM:-0600
TZOFFSETTO:-0500
TZNAME:CDT
DTSTART:20210314T080000
END:DAYLIGHT
BEGIN:STANDARD
TZOFFSETFROM:-0500
TZOFFSETTO:-0600
TZNAME:CST
DTSTART:20211107T070000
END:STANDARD
BEGIN:DAYLIGHT
TZOFFSETFROM:-0600
TZOFFSETTO:-0500
TZNAME:CDT
DTSTART:20220313T080000
END:DAYLIGHT
BEGIN:STANDARD
TZOFFSETFROM:-0500
TZOFFSETTO:-0600
TZNAME:CST
DTSTART:20221106T070000
END:STANDARD
BEGIN:DAYLIGHT
TZOFFSETFROM:-0600
TZOFFSETTO:-0500
TZNAME:CDT
DTSTART:20230312T080000
END:DAYLIGHT
BEGIN:STANDARD
TZOFFSETFROM:-0500
TZOFFSETTO:-0600
TZNAME:CST
DTSTART:20231105T070000
END:STANDARD
END:VTIMEZONE
BEGIN:VEVENT
DTSTART;TZID=America/Chicago:20221003T190000
DTEND;TZID=America/Chicago:20221003T190000
DTSTAMP:20260423T210640
CREATED:20220323T203415Z
LAST-MODIFIED:20220323T203415Z
UID:10000147-1664823600-1664823600@nitelite.com
SUMMARY:Tom Segura: I'm Coming Everywhere World Tour
DESCRIPTION:Comedian and podcast host Tom Segura is bringing his “I’m Coming Everywhere-World Tour”\, to the Grand Theater in Wausau\, WI on October 3 at 7PM!\n\n\nActor/Comedian/Writer Tom Segura is one of the biggest names in the comedy business. He recently performed to sold-out audiences on his 100+ city TAKE IT DOWN TOUR. He is best known for his Netflix specials\, Ball Hog (2020)\, Disgraceful (2018)\, Mostly Stories (2016)\, and Completely Normal (2014). Paste Magazine described him as\, “…having a natural and capable storytelling ability\, one that lifts his narratives out of average anecdote fare and plants them firmly in hilarious ground.” Your Mom’s House Studios is home to his hit podcasts Your Mom’s House which he co-hosts with his wife\, comedian Christina Pazsitzky\, 2 Bears 1 Cave which he co-hosts with Bert Kreischer\, and many more. Additionally\, YMH Studios was one of the first networks to create wildly successful Livestream Podcast Events as an outcome of the pandemic.\n\n\nSegura can be seen in the STX FILM COUNTDOWN opposite Elizabeth Lail\, INSTANT FAMILY opposite Mark Wahlberg and Rose Byrne\, OPENING ACT\, and FLINCH. Segura’s television credits include The Late Show with Stephen Colbert\, Conan\, Workaholics\, Happy Endings\, The Late Late Show\, Comedy Central Presents: Tom Segura\, Mash Up\, How To Be A Grown Up.\nSegura has an increasing social media following (@seguratom on IG\, @tomsegura on Twitter). When he isn’t performing on stage or recording a podcast he’s watching College Football or waiting for College Football to come back.\n\n\nTickets are ON SALE Friday\, March 25 at 10AM!
URL:https://nitelite.com/event/tom-segura-wausau-wi/
LOCATION:Grand Theater\, 401 N. 4th Street\, Wausau\, WI\, 54403\, United States
CATEGORIES:All Events,Comedy
ATTACH;FMTTYPE=image/jpeg:https://nitelite.com/wp-content/uploads/2022/02/221233154_10159765861313641_1162842012702131917_n.jpg
END:VEVENT
END:VCALENDAR