BEGIN:VCALENDAR
VERSION:2.0
PRODID:-//NiteLite Promotions - ECPv6.15.20//NONSGML v1.0//EN
CALSCALE:GREGORIAN
METHOD:PUBLISH
X-WR-CALNAME:NiteLite Promotions
X-ORIGINAL-URL:https://nitelite.com
X-WR-CALDESC:Events for NiteLite Promotions
REFRESH-INTERVAL;VALUE=DURATION:PT1H
X-Robots-Tag:noindex
X-PUBLISHED-TTL:PT1H
BEGIN:VTIMEZONE
TZID:America/Chicago
BEGIN:DAYLIGHT
TZOFFSETFROM:-0600
TZOFFSETTO:-0500
TZNAME:CDT
DTSTART:20210314T080000
END:DAYLIGHT
BEGIN:STANDARD
TZOFFSETFROM:-0500
TZOFFSETTO:-0600
TZNAME:CST
DTSTART:20211107T070000
END:STANDARD
BEGIN:DAYLIGHT
TZOFFSETFROM:-0600
TZOFFSETTO:-0500
TZNAME:CDT
DTSTART:20220313T080000
END:DAYLIGHT
BEGIN:STANDARD
TZOFFSETFROM:-0500
TZOFFSETTO:-0600
TZNAME:CST
DTSTART:20221106T070000
END:STANDARD
BEGIN:DAYLIGHT
TZOFFSETFROM:-0600
TZOFFSETTO:-0500
TZNAME:CDT
DTSTART:20230312T080000
END:DAYLIGHT
BEGIN:STANDARD
TZOFFSETFROM:-0500
TZOFFSETTO:-0600
TZNAME:CST
DTSTART:20231105T070000
END:STANDARD
END:VTIMEZONE
BEGIN:VEVENT
DTSTART;TZID=America/Chicago:20221102T193000
DTEND;TZID=America/Chicago:20221102T193000
DTSTAMP:20260423T231816
CREATED:20220504T154340Z
LAST-MODIFIED:20220504T154416Z
UID:10000164-1667417400-1667417400@nitelite.com
SUMMARY:Straight No Chaser:  The 25th Anniversary Celebration
DESCRIPTION:Chart-topping a cappella group Straight No Chaser will celebrate their 25th anniversary on November 2 at 7:30PM to the Fox Cities Performing Arts Center in Appleton\, WI! \n  \nFormed during the 1996-1997 school year at Indiana University\, a cappella group Straight No Chaser – which began\, according to group member Steve Morgan as a “way to meet girls” – eventually emerged at the forefront of the modern day a cappella movement\, and has since sold more than three million albums worldwide\, garnered more than a billion streams\, and sold more than 1.5 million concert tickets worldwide. \n  \n“When we started Straight No Chaser as college kids at Indiana University\, we never imagined that 25 years later\, we’d have two albums certified gold and tour dates around the world\,” said group member Walter Chase.  “What a ride it has been.  It has literally been a dream come true.” \n  \nThis fall\, the group will kick off their “The 25th Anniversary Celebration” tour on October 20th in Deadwood\, South Dakota\, and will perform through New Year’s Eve\, where the tour wraps up in Portland\, OR. In total\, this fall the group will perform 62 shows.  Tickets for most dates go on-sale this Friday\, May 6th. A full itinerary is below. \n  \nIn commemoration of “The 25th Anniversary Celebration\,” Straight No Chaser will release an exclusive NFT to mark the occasion.  All details will be revealed in the coming days on Straight No Chaser’s site and social platforms (all links are below). \n  \nAdditionally\, PBS stations nationwide will air “Straight No Chaser: The 25th Anniversary Celebration\,” starting this June.  The concert\, filmed at the Murat Theatre at Old National Center in Indianapolis in 2019 where the group has sold out 27 shows\, features the nine group members performing classics like “Proud Mary\,” “Lean on Me” and “Twistin\,’” as well as pop mash-ups\, like “Uptown Funk/Thriller.” \n  \nEarlier this year\, Straight No Chaser\, known for their soundtrack to the holidays\, released a book of cocktail and food recipes\, sharing their family traditions with their fans. Straight No Chaser Sound Bites: A Cappella\, Cocktails\, and Cuisine\, a recipe book with personal family memories shared with the broader Chaser family and published by Red Lightning Books (a sister company of IU Press)\, is available on Amazon\, Barnes & Noble\, Red Lightning\, and on Straight No Chaser’s site. \n  \nThis fall\, Straight No Chaser will release a physical version of last year’s deluxe edition of Social Christmasing\, which featured an original\, “Christmas Show\,” written by group member Mike Luginbill and “Celebrate Me Home\,” featuring Kenny Loggins\, in addition to the album’s original tracklist which included their signature twist on Christmas classics like “Silver Bells” and “Frosty The Snowman\,” five new original songs\, and a hopeful take on the Counting Crows classic “A Long December.” \n  \nTickets are on sale at https://www.ticketmaster.com/venue/57627?attractionId=1261643
URL:https://nitelite.com/event/straight-no-chaser-appleton-wi/
LOCATION:Fox Cities Performing Arts Center\, 400 West College Avenue\, Appleton\, WI\, 54911\, United States
CATEGORIES:All Events,Live Music
ATTACH;FMTTYPE=image/jpeg:https://nitelite.com/wp-content/uploads/2022/05/SNC.SiouxCity.10.jpg
END:VEVENT
BEGIN:VEVENT
DTSTART;TZID=America/Chicago:20221014T213000
DTEND;TZID=America/Chicago:20221014T213000
DTSTAMP:20260423T231816
CREATED:20220610T211959Z
LAST-MODIFIED:20220610T211959Z
UID:10000114-1665783000-1665783000@nitelite.com
SUMMARY:Charlie Berens
DESCRIPTION:Charlie Berens appears at the Fox Cities Performing Arts Center for TWO SHOWS in Appleton\, WI on October 14th at 7PM and 9:30PM! \nCHARLIE BERENS is an Emmy-winning journalist\, comedian\, and creator of the Manitowoc Minute. The Wisconsin native has been featured on Fox\, CBS\, Funny or Die\, TBS Digital\, Variety\, MTV News and more.\n\nCharlie began his career working for MTV News’ Choose or Lose. After that he worked in front and behind the camera for emerging YouTube news channels. In 2012\, Tribune Media tapped Charlie to host the comedic news show Nightcap. In 2013 he won an Emmy for “The Cost of Water” while reporting for KDAF.\n\nIn 2014 CBS Sports Network hired Charlie to host the sports gameshow You’re So Money. Also in 2014\, PMC (Variety\, Deadline) made Charlie the host of their comedy/entertainment news brand @Hollywood. From red carpets to Sundance to SXSW to Coachella\, Charlie has interviewed hundreds of celebrities\, politicians\, actors\, and musicians.\n\nIn 2016 Charlie turned his attention toward acting and developing his scripted series. He found success at the Just For Laughs Festival where Kevin Hart picked up Co-Anchor Confidential for his LOL comedy platform.\n\nCharlie is regularly featured on Funny or Die. His comedic mashups including “If Jack Dawson Was Really From Wisconsin” have garnered more than 13 million views. Most recently Charlie’s Manitowoc Minute series has received similar success — including millions of views\, and a sold-out standup comedy tour.\n\nTickets are ON SALE NOW at https://www.ticketmaster.com/venue/57627?attractionId=2668951
URL:https://nitelite.com/event/charlie-berens-appleton-wi-930pm/
LOCATION:Fox Cities Performing Arts Center\, 400 West College Avenue\, Appleton\, WI\, 54911\, United States
ATTACH;FMTTYPE=image/jpeg:https://nitelite.com/wp-content/uploads/2022/02/CharlieBerens.Burnsville.17.jpg
END:VEVENT
BEGIN:VEVENT
DTSTART;TZID=America/Chicago:20221014T190000
DTEND;TZID=America/Chicago:20221014T190000
DTSTAMP:20260423T231816
CREATED:20220610T211740Z
LAST-MODIFIED:20220610T211740Z
UID:10000113-1665774000-1665774000@nitelite.com
SUMMARY:Charlie Berens
DESCRIPTION:Charlie Berens appears at the Fox Cities Performing Arts Center for TWO SHOWS in Appleton\, WI on October 14th at 7PM and 9:30PM! \nCHARLIE BERENS is an Emmy-winning journalist\, comedian\, and creator of the Manitowoc Minute. The Wisconsin native has been featured on Fox\, CBS\, Funny or Die\, TBS Digital\, Variety\, MTV News and more.\n\nCharlie began his career working for MTV News’ Choose or Lose. After that he worked in front and behind the camera for emerging YouTube news channels. In 2012\, Tribune Media tapped Charlie to host the comedic news show Nightcap. In 2013 he won an Emmy for “The Cost of Water” while reporting for KDAF.\n\nIn 2014 CBS Sports Network hired Charlie to host the sports gameshow You’re So Money. Also in 2014\, PMC (Variety\, Deadline) made Charlie the host of their comedy/entertainment news brand @Hollywood. From red carpets to Sundance to SXSW to Coachella\, Charlie has interviewed hundreds of celebrities\, politicians\, actors\, and musicians.\n\nIn 2016 Charlie turned his attention toward acting and developing his scripted series. He found success at the Just For Laughs Festival where Kevin Hart picked up Co-Anchor Confidential for his LOL comedy platform.\n\nCharlie is regularly featured on Funny or Die. His comedic mashups including “If Jack Dawson Was Really From Wisconsin” have garnered more than 13 million views. Most recently Charlie’s Manitowoc Minute series has received similar success — including millions of views\, and a sold-out standup comedy tour.\n\nTickets are ON SALE NOW at https://www.ticketmaster.com/venue/57627?attractionId=2668951
URL:https://nitelite.com/event/charlie-berens-appleton-wi-7pm/
LOCATION:Fox Cities Performing Arts Center\, 400 West College Avenue\, Appleton\, WI\, 54911\, United States
CATEGORIES:All Events,Comedy
ATTACH;FMTTYPE=image/jpeg:https://nitelite.com/wp-content/uploads/2022/02/CharlieBerens.Burnsville.17.jpg
END:VEVENT
BEGIN:VEVENT
DTSTART;TZID=America/Chicago:20220916T213000
DTEND;TZID=America/Chicago:20220916T213000
DTSTAMP:20260423T231816
CREATED:20220512T212236Z
LAST-MODIFIED:20220512T212236Z
UID:10000172-1663363800-1663363800@nitelite.com
SUMMARY:Kevin James
DESCRIPTION:Kevin James appears at the Fox Cities Performing Arts Center on Friday\, September 16 at 9:30PM! \nKevin James began his career as a stand-up on the Long Island comedy scene. After being discovered at the 1996 Montreal Comedy Festival\, he signed a network development deal to create his own sitcom. \nThe King of Queens\, which premiered in 1998\, ran for nine seasons on CBS with James starring and executive producing\, and it garnered him an Emmy nomination for Outstanding Lead Actor in a Comedy Series. The show concluded its run in 2007 but continues to air daily in syndication across the country and around the world. James also starred in\, and executive produced The Crew\, a sitcom set in the world of NASCAR and is currently developing a single camera comedy (both for Netflix). \nJames brought his stand-up act to TV with Sweat the Small Stuff\, a one-hour special for Comedy Central. Kevin James and Ray Romano executive produced and starred in the HBO Sports Special Making the Cut: The Road to Pebble Beach; a documentary about the Pebble Beach Pro Am Golf Tournament that was nominated for a Sports Emmy. His second comedy special Never Don’t Give Up premiered on Netflix to critical acclaim. \nJames was the producer\, co-writer\, and star of the hit comedies Paul Blart: Mall Cop 1 & 2\, Zookeeper\, and Here Comes The Boom. James made his feature film debut in Columbia Pictures’ Hitch starring opposite Will Smith\, and starred alongside Adam Sandler in Pixels\, Grown Ups\, Grown Ups 2\, I Now Pronounce You Chuck and Larry\, and Hubie Halloween. He starred in the feature True Memoirs of an International Assassin for Netflix\, the independent action thriller Becky\, and starred in and produced Home Team for Netflix. \nTickets are on sale at https://www.ticketmaster.com/kevin-james-appleton-wisconsin-09-16-2022/event/07005CA6CA966465
URL:https://nitelite.com/event/kevin-james-appleton-wi-second-show/
LOCATION:Fox Cities Performing Arts Center\, 400 West College Avenue\, Appleton\, WI\, 54911\, United States
CATEGORIES:All Events,Comedy
ATTACH;FMTTYPE=image/jpeg:https://nitelite.com/wp-content/uploads/2022/04/KevinJames.Rochester.10.jpg
END:VEVENT
BEGIN:VEVENT
DTSTART;TZID=America/Chicago:20220916T190000
DTEND;TZID=America/Chicago:20220916T190000
DTSTAMP:20260423T231816
CREATED:20220406T222932Z
LAST-MODIFIED:20220406T222932Z
UID:10000151-1663354800-1663354800@nitelite.com
SUMMARY:Kevin James
DESCRIPTION:Kevin James appears at the Fox Cities Performing Arts Center on Friday\, September 16 at 7PM! \nKevin James began his career as a stand-up on the Long Island comedy scene. After being discovered at the 1996 Montreal Comedy Festival\, he signed a network development deal to create his own sitcom. \nThe King of Queens\, which premiered in 1998\, ran for nine seasons on CBS with James starring and executive producing\, and it garnered him an Emmy nomination for Outstanding Lead Actor in a Comedy Series. The show concluded its run in 2007 but continues to air daily in syndication across the country and around the world. James also starred in\, and executive produced The Crew\, a sitcom set in the world of NASCAR and is currently developing a single camera comedy (both for Netflix). \nJames brought his stand-up act to TV with Sweat the Small Stuff\, a one-hour special for Comedy Central. Kevin James and Ray Romano executive produced and starred in the HBO Sports Special Making the Cut: The Road to Pebble Beach; a documentary about the Pebble Beach Pro Am Golf Tournament that was nominated for a Sports Emmy. His second comedy special Never Don’t Give Up premiered on Netflix to critical acclaim. \nJames was the producer\, co-writer\, and star of the hit comedies Paul Blart: Mall Cop 1 & 2\, Zookeeper\, and Here Comes The Boom. James made his feature film debut in Columbia Pictures’ Hitch starring opposite Will Smith\, and starred alongside Adam Sandler in Pixels\, Grown Ups\, Grown Ups 2\, I Now Pronounce You Chuck and Larry\, and Hubie Halloween. He starred in the feature True Memoirs of an International Assassin for Netflix\, the independent action thriller Becky\, and starred in and produced Home Team for Netflix. \nTickets are on sale at https://www.ticketmaster.com/kevin-james-appleton-wisconsin-09-16-2022/event/07005C7DAB45435B
URL:https://nitelite.com/event/kevin-james-appleton-wi/
LOCATION:Fox Cities Performing Arts Center\, 400 West College Avenue\, Appleton\, WI\, 54911\, United States
CATEGORIES:All Events,Comedy
ATTACH;FMTTYPE=image/jpeg:https://nitelite.com/wp-content/uploads/2022/04/KevinJames.Rochester.10.jpg
END:VEVENT
END:VCALENDAR