BEGIN:VCALENDAR
VERSION:2.0
PRODID:-//NiteLite Promotions - ECPv6.15.20//NONSGML v1.0//EN
CALSCALE:GREGORIAN
METHOD:PUBLISH
X-ORIGINAL-URL:https://nitelite.com
X-WR-CALDESC:Events for NiteLite Promotions
REFRESH-INTERVAL;VALUE=DURATION:PT1H
X-Robots-Tag:noindex
X-PUBLISHED-TTL:PT1H
BEGIN:VTIMEZONE
TZID:America/Chicago
BEGIN:DAYLIGHT
TZOFFSETFROM:-0600
TZOFFSETTO:-0500
TZNAME:CDT
DTSTART:20210314T080000
END:DAYLIGHT
BEGIN:STANDARD
TZOFFSETFROM:-0500
TZOFFSETTO:-0600
TZNAME:CST
DTSTART:20211107T070000
END:STANDARD
BEGIN:DAYLIGHT
TZOFFSETFROM:-0600
TZOFFSETTO:-0500
TZNAME:CDT
DTSTART:20220313T080000
END:DAYLIGHT
BEGIN:STANDARD
TZOFFSETFROM:-0500
TZOFFSETTO:-0600
TZNAME:CST
DTSTART:20221106T070000
END:STANDARD
BEGIN:DAYLIGHT
TZOFFSETFROM:-0600
TZOFFSETTO:-0500
TZNAME:CDT
DTSTART:20230312T080000
END:DAYLIGHT
BEGIN:STANDARD
TZOFFSETFROM:-0500
TZOFFSETTO:-0600
TZNAME:CST
DTSTART:20231105T070000
END:STANDARD
BEGIN:DAYLIGHT
TZOFFSETFROM:-0600
TZOFFSETTO:-0500
TZNAME:CDT
DTSTART:20240310T080000
END:DAYLIGHT
BEGIN:STANDARD
TZOFFSETFROM:-0500
TZOFFSETTO:-0600
TZNAME:CST
DTSTART:20241103T070000
END:STANDARD
BEGIN:DAYLIGHT
TZOFFSETFROM:-0600
TZOFFSETTO:-0500
TZNAME:CDT
DTSTART:20250309T080000
END:DAYLIGHT
BEGIN:STANDARD
TZOFFSETFROM:-0500
TZOFFSETTO:-0600
TZNAME:CST
DTSTART:20251102T070000
END:STANDARD
BEGIN:DAYLIGHT
TZOFFSETFROM:-0600
TZOFFSETTO:-0500
TZNAME:CDT
DTSTART:20260308T080000
END:DAYLIGHT
BEGIN:STANDARD
TZOFFSETFROM:-0500
TZOFFSETTO:-0600
TZNAME:CST
DTSTART:20261101T070000
END:STANDARD
END:VTIMEZONE
BEGIN:VEVENT
DTSTART;TZID=America/Chicago:20250906T200000
DTEND;TZID=America/Chicago:20250906T200000
DTSTAMP:20260423T203925
CREATED:20250321T224216Z
LAST-MODIFIED:20250321T224219Z
UID:10000377-1757188800-1757188800@nitelite.com
SUMMARY:Steve Martin and Martin Short:  The Dukes of Funnytown
DESCRIPTION:Steve Martin and Martin Short:  The Dukes of Funnytown Featuring Jeff Babko and special guest Alison Brown and Fairweather Friends appear on September 6\, 2025 at 8PM at DeVos Performance Hall in Grand Rapids\, MI! \nSteve Martin and Martin Short’s The Dukes of Funnytown is a show that redefines the form in unexpected and profound ways\, from two of the funniest\, most influential and acclaimed talents of the past century. Their humor is often subversive\, but it is always a joyous self-deprecating romp from two comedy masters driven to make each other laugh as much as the audience. The jokes come at you at a rapid-fire pace with little set-up and big punch lines as they mock Hollywood and the fickle nature of celebrity\, but the comedy truly soars when they lovingly (and relentlessly) roast each other. \nMartin and Short’s chemistry and timing on stage reflects a friendship forged over three decades which developed when they met for the first time on the set of 1986 film “Three Amigos.” These two titans of comedy have been touring together since 2015\, when they launched their first live show entitled “A Very Stupid Conversation.” \nBUY TICKETS
URL:https://nitelite.com/event/steve-martin-martin-short-grand-rapids-mi/
LOCATION:DeVos Performance Hall\, 303 Monroe Ave NW\, Grand Rapids\, MI\, 49503\, United States
CATEGORIES:All Events,Comedy,Entertaiment,Event
ATTACH;FMTTYPE=image/jpeg:https://nitelite.com/wp-content/uploads/2025/03/Steve-Martin-Martin-Short-1200-x-628.jpg
END:VEVENT
BEGIN:VEVENT
DTSTART;TZID=America/Chicago:20241122T193000
DTEND;TZID=America/Chicago:20241122T193000
DTSTAMP:20260423T203925
CREATED:20240806T140003Z
LAST-MODIFIED:20240805T213304Z
UID:10000333-1732303800-1732303800@nitelite.com
SUMMARY:The Princess Bride:  An Inconceivable Evening with Cary Elwes
DESCRIPTION:The Princess Bride: An Inconceivable Evening with Cary Elwes appears at DeVos Performance Hall in Grand Rapids\, MI on Friday\, November 22 at 7:30PM! \nJoin Cary Elwes (Westley) for a behind-the-scenes look at life on and off the set of the classic film\, The Princess Bride. \nAfter a screening of the iconic movie\, Elwes will engage in a moderated discussion revealing never before shared secrets and tales of inconceivable antics! \nJourney back to the lands of Florin and Guilder in an adventure filled with fencing\, fighting\, torture\, revenge\, giants\, monsters\, chases\, escapes\, miracles\, and of course\, true love. \nElwes has been in a multitude of films and tv shows\, including Robin Hood: Men in Tights\, Bram Stoker’s Dracula\, Saw\, Twister\, Liar\, Liar\, Stranger Things and The Marvelous Mrs. Maisel. He recently starred in Guy Ritchie’s “Operation Fortune: Ruse de Guerre”\, “Mission Impossible: Dead Reckoning Part 1” with Tom Cruise\, Zack Snyder’s sci fi epic\, “Rebel Moon\, and his latest film “Sweetwater”\, based on the true story of the first African American signed to the NBA. \nNow Elwes is hitting the road to share with fans the personal stories behind the making of this piece of cinematic history. \nDon’t be a “Humperdinck”\, make haste to see The Princess Bride: An Inconceivable Evening with Cary Elwes for a night you will always “tweasure”. \nA limited number of VIP packages are available and include the best seats in the house\, a Meet and Greet with Cary Elwes\, and a signed copy of Cary Elwes best-selling book\, As You Wish: Inconceivable Tales from the Making of The Princess Bride. \nTickets on sale Friday\, August 9th.
URL:https://nitelite.com/event/the-princess-bride-grand-rapids-mi/
LOCATION:DeVos Performance Hall\, 303 Monroe Ave NW\, Grand Rapids\, MI\, 49503\, United States
CATEGORIES:All Events,Entertaiment,Event,Upcoming Events
ATTACH;FMTTYPE=image/jpeg:https://nitelite.com/wp-content/uploads/2024/08/Princess-Bride-1200-x-628.jpg
END:VEVENT
BEGIN:VEVENT
DTSTART;TZID=America/Chicago:20240921T193000
DTEND;TZID=America/Chicago:20240921T193000
DTSTAMP:20260423T203925
CREATED:20240305T220526Z
LAST-MODIFIED:20240305T220532Z
UID:10000296-1726947000-1726947000@nitelite.com
SUMMARY:Bored Teachers: The Struggle is Real! Comedy Tour
DESCRIPTION:Bored Teachers:  The Struggle Is Real! Comedy Tour comes to DeVos Performance Hall in Grand Rapids\, MI on Saturday\, September 21\, 2024 at 7:30PM. \nBored Teachers are BACK with all new material on their “The Struggle is Real!” Comedy Tour. For years\, Bored Teachers Studios has brought a sense of humor to teachers around the world to ease their daily struggle in the classroom. They’ve amassed over a billion views on their viral videos on social media\, over 10 million followers\, and the #1 ranked teacher-comedy podcast—#6 of all Stand Up Comedy shows on Apple Podcasts. Since 2022\, Bored Teachers has been selling out comedy clubs and major theatres across 49 states\, bringing laughter to over 150\,000 teachers throughout the school year and has become the main event to attend in all of teacher world. Even non-teacher fans have reviewed it as one of the funniest stand up shows they’ve ever seen! The Bored Teachers Show is a comedy powerhouse that anyone who’s ever been in a classroom can relate to.
URL:https://nitelite.com/event/bored-teachers-grand-rapids/
LOCATION:DeVos Performance Hall\, 303 Monroe Ave NW\, Grand Rapids\, MI\, 49503\, United States
CATEGORIES:All Events,Comedy,Entertaiment,Event,Upcoming Events
ATTACH;FMTTYPE=image/jpeg:https://nitelite.com/wp-content/uploads/2024/03/BT-TSIR-Tour-Logo-1920x1080-copy.jpg
END:VEVENT
BEGIN:VEVENT
DTSTART;TZID=America/Chicago:20220716T200000
DTEND;TZID=America/Chicago:20220716T200000
DTSTAMP:20260423T203925
CREATED:20220214T164210Z
LAST-MODIFIED:20220620T190257Z
UID:10000132-1658001600-1658001600@nitelite.com
SUMMARY:Tim Allen
DESCRIPTION:Tim Allen appears at DeVos Performance Hall on Saturday for TWO SHOWS on July 16 at 5PM & 8PM! \nTim Allen is the star of the hit sitcom “Last Man Standing” which was revived by the FOX network for its 7th season after airing for six seasons on ABC. The 8th season of the series premiered in January 2020 and the show airs Thursday nights at 8 pm. \nAllen reprised his role as Buzz Lightyear in Disney’s Oscar-winning “Toy Story 4” with Tom Hanks\, Keanu Reeves\, Tony Hale\, Annie Potts\, Christina Hendricks\, and Keegan-Michael Key. The film opened #1 at the box office on June 21\, 2019 and has grossed over $1 billion worldwide. \nIn 2017\, he starred in the Netflix dark comedy “El Camino Christmas” with Vincent D’Onofrio\, Luke Grimes and Dax Shepard. Allen continues to perform stand-up shows to sold-out crowds across the country. He honed his talents as a stand-up comic throughout the eighties\, providing the perfect lead-in to his highly successful ABC television series “Home Improvement” where he garnered a Golden Globe Award\, an Emmy nomination\, and was honored with the People’s Choice Award for “Favorite Male Performer in a Television Series” for an unprecedented eight years in a row. \nDuring “Home Improvement’s” run at the top of the prime-time charts\, Tim revisited his comedy roots with a successful national concert tour. He also found time to pen his first book about the male perspective\, Don’t Stand Too Close to a Naked Man\, topping the New York Times Bestseller List.This was followed by his second bestseller I’m Not Really Here focusing on midlife\, family and quantum physics. \nIn 1999\, during the final season of “Home Improvement\,” Tim was honored with the TV Guide Award for Favorite Actor in a Comedy Series. In a tearful farewell\, Tim hung up his tool belt\, shifting his film career into high gear with resounding success. \nHe made his film debut in 1994\, playing a holiday icon in “The Santa Clause\,” earning him another People’s Choice Award.In 1995\, he voiced the beloved\, yet deluded\, space ranger Buzz Lightyear in the CGI smash hit “Toy Story.” \nIn 1997\, Allen starred in the hit comedies “Jungle 2 Jungle” and “For Richer or Poorer.” To the delight of moviegoers\, in 1999 Tim reprised his character Buzz Lightyear in “Toy Story 2” which grossed over $250 million. This was followed by the hit film “Galaxy Quest.” Representing the ‘Average Joe\,’ Tim starred in “Joe Somebody” and in 2001 he starred in the comedy “Big Trouble.”In 2002\, Tim took on the role of Critical Jim in “Who Is Cletis Tout?\,” and he helped kick off the holiday season that year reprising his role in “The Santa Clause 2.” In 2004\, he starred opposite Jamie Lee Curtis in the comedy “Christmas with the Kranks.” \nIn 2006\, Allen starred in “The Santa Clause 3\,” in which he once again reprised his role as Santa Claus. That same year he starred in the comedy “Zoom” and in the updated version of the Disney classic “The Shaggy Dog.” In 2007\, he starred opposite John Travolta\, Martin Lawrence and William H. Macy in the hit comedy “Wild Hogs.” In 2008 Allen starred in the drama “Redbelt.” \nIn 2010\, Allen reprised his role as Buzz Lightyear in Academy Award-winning film “Toy Story 3.” That same year he starred in his feature film directorial debut “Crazy On The Outside” with Sigourney Weaver and Ray Liotta. \nIn 2013\, Allen reprised his role as Buzz Lightyear in “Toy Story of Terror\,” as spooky tale featuring all of the favorite “Toy Story” characters. The show is intended for mature audiences only. You must be 18 years of age or older to attend. T \nickets are ON SALE NOW at https://www.ticketmaster.com/tim-allen-grand-rapids-michigan-07-16-2022/event/0800577AE2B068D1 \n\n\n\n\n\n\n\n\n\n 
URL:https://nitelite.com/event/tim-allen-grand-rapids-mi-8pm/
LOCATION:DeVos Performance Hall\, 303 Monroe Ave NW\, Grand Rapids\, MI\, 49503\, United States
CATEGORIES:All Events,Comedy,Upcoming Events
ATTACH;FMTTYPE=image/jpeg:https://nitelite.com/wp-content/uploads/2022/02/Tim-1200x628-2.jpg
ORGANIZER;CN="NiteLite Promotions":MAILTO:events@nitelite.com
END:VEVENT
BEGIN:VEVENT
DTSTART;TZID=America/Chicago:20220716T170000
DTEND;TZID=America/Chicago:20220716T170000
DTSTAMP:20260423T203925
CREATED:20220214T160628Z
LAST-MODIFIED:20220620T190229Z
UID:10000131-1657990800-1657990800@nitelite.com
SUMMARY:Tim Allen
DESCRIPTION:Tim Allen appears at DeVos Performance Hall on Saturday for TWO SHOWS on July 16 at 5PM & 8PM! \nTim Allen is the star of the hit sitcom “Last Man Standing” which was revived by the FOX network for its 7th season after airing for six seasons on ABC. The 8th season of the series premiered in January 2020 and the show airs Thursday nights at 8 pm. \nAllen reprised his role as Buzz Lightyear in Disney’s Oscar-winning “Toy Story 4” with Tom Hanks\, Keanu Reeves\, Tony Hale\, Annie Potts\, Christina Hendricks\, and Keegan-Michael Key. The film opened #1 at the box office on June 21\, 2019 and has grossed over $1 billion worldwide. \nIn 2017\, he starred in the Netflix dark comedy “El Camino Christmas” with Vincent D’Onofrio\, Luke Grimes and Dax Shepard. \nAllen continues to perform stand-up shows to sold-out crowds across the country. He honed his talents as a stand-up comic throughout the eighties\, providing the perfect lead-in to his highly successful ABC television series “Home Improvement” where he garnered a Golden Globe Award\, an Emmy nomination\, and was honored with the People’s Choice Award for “Favorite Male Performer in a Television Series” for an unprecedented eight years in a row. \nDuring “Home Improvement’s” run at the top of the prime-time charts\, Tim revisited his comedy roots with a successful national concert tour. He also found time to pen his first book about the male perspective\, Don’t Stand Too Close to a Naked Man\, topping the New York Times Bestseller List.This was followed by his second bestseller I’m Not Really Here focusing on midlife\, family and quantum physics. \nIn 1999\, during the final season of “Home Improvement\,” Tim was honored with the TV Guide Award for Favorite Actor in a Comedy Series. In a tearful farewell\, Tim hung up his tool belt\, shifting his film career into high gear with resounding success. \nHe made his film debut in 1994\, playing a holiday icon in “The Santa Clause\,” earning him another People’s Choice Award.In 1995\, he voiced the beloved\, yet deluded\, space ranger Buzz Lightyear in the CGI smash hit “Toy Story.” \nIn 1997\, Allen starred in the hit comedies “Jungle 2 Jungle” and “For Richer or Poorer.” To the delight of moviegoers\, in 1999 Tim reprised his character Buzz Lightyear in “Toy Story 2” which grossed over $250 million. This was followed by the hit film “Galaxy Quest.” Representing the ‘Average Joe\,’ Tim starred in “Joe Somebody” and in 2001 he starred in the comedy “Big Trouble.”In 2002\, Tim took on the role of Critical Jim in “Who Is Cletis Tout?\,” and he helped kick off the holiday season that year reprising his role in “The Santa Clause 2.” In 2004\, he starred opposite Jamie Lee Curtis in the comedy “Christmas with the Kranks.” \nIn 2006\, Allen starred in “The Santa Clause 3\,” in which he once again reprised his role as Santa Claus. That same year he starred in the comedy “Zoom” and in the updated version of the Disney classic “The Shaggy Dog.” In 2007\, he starred opposite John Travolta\, Martin Lawrence and William H. Macy in the hit comedy “Wild Hogs.” In 2008 Allen starred in the drama “Redbelt.” \nIn 2010\, Allen reprised his role as Buzz Lightyear in Academy Award-winning film “Toy Story 3.” That same year he starred in his feature film directorial debut “Crazy On The Outside” with Sigourney Weaver and Ray Liotta. \nIn 2013\, Allen reprised his role as Buzz Lightyear in “Toy Story of Terror\,” as spooky tale featuring all of the favorite “Toy Story” characters. The show is intended for mature audiences only. You must be 18 years of age or older to attend. \nTickets are ON SALE NOW at https://www.ticketmaster.com/tim-allen-grand-rapids-michigan-07-16-2022/event/08005783B5B24D07 \n\n\n\n\n\n\n\n\n\n 
URL:https://nitelite.com/event/tim-allen-grand-rapids-mi-5pm/
LOCATION:DeVos Performance Hall\, 303 Monroe Ave NW\, Grand Rapids\, MI\, 49503\, United States
CATEGORIES:All Events,Comedy,Upcoming Events
ATTACH;FMTTYPE=image/jpeg:https://nitelite.com/wp-content/uploads/2022/02/Tim-1200x628-2.jpg
ORGANIZER;CN="NiteLite Promotions":MAILTO:events@nitelite.com
END:VEVENT
END:VCALENDAR