BEGIN:VCALENDAR
VERSION:2.0
PRODID:-//NiteLite Promotions - ECPv6.15.20//NONSGML v1.0//EN
CALSCALE:GREGORIAN
METHOD:PUBLISH
X-ORIGINAL-URL:https://nitelite.com
X-WR-CALDESC:Events for NiteLite Promotions
REFRESH-INTERVAL;VALUE=DURATION:PT1H
X-Robots-Tag:noindex
X-PUBLISHED-TTL:PT1H
BEGIN:VTIMEZONE
TZID:America/Chicago
BEGIN:DAYLIGHT
TZOFFSETFROM:-0600
TZOFFSETTO:-0500
TZNAME:CDT
DTSTART:20210314T080000
END:DAYLIGHT
BEGIN:STANDARD
TZOFFSETFROM:-0500
TZOFFSETTO:-0600
TZNAME:CST
DTSTART:20211107T070000
END:STANDARD
BEGIN:DAYLIGHT
TZOFFSETFROM:-0600
TZOFFSETTO:-0500
TZNAME:CDT
DTSTART:20220313T080000
END:DAYLIGHT
BEGIN:STANDARD
TZOFFSETFROM:-0500
TZOFFSETTO:-0600
TZNAME:CST
DTSTART:20221106T070000
END:STANDARD
BEGIN:DAYLIGHT
TZOFFSETFROM:-0600
TZOFFSETTO:-0500
TZNAME:CDT
DTSTART:20230312T080000
END:DAYLIGHT
BEGIN:STANDARD
TZOFFSETFROM:-0500
TZOFFSETTO:-0600
TZNAME:CST
DTSTART:20231105T070000
END:STANDARD
BEGIN:DAYLIGHT
TZOFFSETFROM:-0600
TZOFFSETTO:-0500
TZNAME:CDT
DTSTART:20240310T080000
END:DAYLIGHT
BEGIN:STANDARD
TZOFFSETFROM:-0500
TZOFFSETTO:-0600
TZNAME:CST
DTSTART:20241103T070000
END:STANDARD
BEGIN:DAYLIGHT
TZOFFSETFROM:-0600
TZOFFSETTO:-0500
TZNAME:CDT
DTSTART:20250309T080000
END:DAYLIGHT
BEGIN:STANDARD
TZOFFSETFROM:-0500
TZOFFSETTO:-0600
TZNAME:CST
DTSTART:20251102T070000
END:STANDARD
BEGIN:DAYLIGHT
TZOFFSETFROM:-0600
TZOFFSETTO:-0500
TZNAME:CDT
DTSTART:20260308T080000
END:DAYLIGHT
BEGIN:STANDARD
TZOFFSETFROM:-0500
TZOFFSETTO:-0600
TZNAME:CST
DTSTART:20261101T070000
END:STANDARD
END:VTIMEZONE
BEGIN:VEVENT
DTSTART;TZID=America/Chicago:20250325T193000
DTEND;TZID=America/Chicago:20250325T193000
DTSTAMP:20260423T185223
CREATED:20241119T211742Z
LAST-MODIFIED:20241119T211742Z
UID:10000352-1742931000-1742931000@nitelite.com
SUMMARY:One Night of Queen
DESCRIPTION:One Night of Queen appears on March 25\, 2025 at 7:30pm at the DECC Symphony Hall in Duluth\, MN! \n“More than a likeness.” – Brian May\, Queen \nCelebrating the 40th anniversary of Queen’s ‘The Works Tour’. \nFor over 20 years Gary Mullen and The Works have been performing their world-renowned One Night of Queen live concert. \nGary Mullen & The Works featuring Gary Mullen on vocals\, David Brockett on guitar\, Malcolm Gentles on keyboards\, Jon Halliwell on drums and Alan McGeoch on bass guitar will have you dancing in the aisles during their show\, while the band pays tribute to the stage theatrics\, showmanship\, and music of arguably the greatest rock band of all time: Queen. \nIn 2000\, Gary Mullen won the Granada TV programme “Stars in Their Eyes” with his performance as Queen’s lead singer: Freddie Mercury. Mullen’s embodiment of Freddie Mercury resulted in him gaining 864\,838 votes in the show’s Live Grand Final. The number of fans who voted for Mullen was more than double that of the runner-up\, thus setting the all time record number of votes in the history of the program. \nFor over two decades\, Gary Mullen & The Works have performed to audiences around the world\, playing more than 2\,500 live shows to audiences in over 20 countries – performing and selling out many of the same venues that Queen have\, all around the world. As of 2023\, they are the most successful tribute band in France\, playing to over 250\,000 people! \nThey WILL ROCK YOU and are GUARANTEED TO BLOW YOUR MIND! Don’t miss your chance to celebrate One Night Of Queen with Gary Mullen & The Works! The Show DOES go on! \nBuy Tickets:  https://decc.org/event/one-night-of-queen/
URL:https://nitelite.com/event/one-night-of-queen-duluth-mn/
LOCATION:DECC Symphony Hall\, 350 Harbor Drive\, Duluth\, MN\, 55802\, United States
CATEGORIES:All Events,Entertaiment,Event,Live Music,Tribute Acts,Upcoming Events
ATTACH;FMTTYPE=image/jpeg:https://nitelite.com/wp-content/uploads/2024/11/ONOQueen-Duluth-1200x628-02.jpg
END:VEVENT
BEGIN:VEVENT
DTSTART;TZID=America/Chicago:20240203T200000
DTEND;TZID=America/Chicago:20240203T200000
DTSTAMP:20260423T185223
CREATED:20231117T224811Z
LAST-MODIFIED:20231117T224811Z
UID:10000273-1706990400-1706990400@nitelite.com
SUMMARY:Charlie Berens:  Good Old Fashioned Tour
DESCRIPTION:Charlie Berens:  Good Old Fashioned Tour appears at DECC Symphony Hall in Duluth\, MN on February 3 at 8PM! \nCharlie\, a Wisconsin native\, has been featured on Comedy Central\, Fox\, CBS\, Funny or Die\, TBS\, Variety\, MTV News and more. He creates weekly content for his various social platforms and has amassed over 7.5 million followers. \nCharlie began his career working for MTV News’ Choose or Lose. After that he worked in front and behind the camera for emerging YouTube news channels. In 2012\, Tribune Media tapped Charlie to host the comedic news show Nightcap. In 2013 he won an Emmy for “The Cost of Water” while reporting for KDAF. \nIn 2017\, Charlie began hosting his weekly comedic online news show\, the Manitowoc Minute. Since then\, Charlie’s been creating Midwest-focused sketch comedy videos on his social media platforms. He’s also traveled the country with three sold out stand-up comedy tours. \nIn 2020\, Charlie paired up with Horseshoes & Hand Grenades alum Adam Greul to release the music/comedy album\, Unthawed. The album\, which is a mixture of bluegrass\, country and Charlie’s comedy\, hit #1 on the Billboard Bluegrass chart and #6 on the Bluegrass Comedy chart. \nCharlie’s first book\, The Midwest Survival Guide\, was released in November of 2021 by William Morrow/Harper Collins and immediately became a New York Times Best Seller! Charlie is currently on his third stand-up tour in support of the book’s release. His Midwest Survival Guide Tour sold over 150\,000 tickets! \nCharlie hosts the Cripescast podcast where he interviews musicians\, artists\, comedians\, creators and more to talk about their story and connections to the Midwest. Guests have included Jeff Foxworthy\, Nate Bargatze and Roy Wood\, Jr. \nGet Tickets: https://www.ticketmaster.com/event/06005F52E3F66240
URL:https://nitelite.com/event/charlie-berens-good-old-fashioned-tour-4/
LOCATION:DECC Symphony Hall\, 350 Harbor Drive\, Duluth\, MN\, 55802\, United States
CATEGORIES:All Events,Comedy,Entertaiment,Event,Upcoming Events
ATTACH;FMTTYPE=image/jpeg:https://nitelite.com/wp-content/uploads/2023/11/thumbnail_Berens-Duluth-1200x628-01.jpg
END:VEVENT
BEGIN:VEVENT
DTSTART;TZID=America/Chicago:20240203T170000
DTEND;TZID=America/Chicago:20240203T170000
DTSTAMP:20260423T185223
CREATED:20231117T224214Z
LAST-MODIFIED:20231117T224356Z
UID:10000272-1706979600-1706979600@nitelite.com
SUMMARY:Charlie Berens:  Good Old Fashioned Tour
DESCRIPTION:Charlie Berens:  Good Old Fashioned Tour appears at DECC Symphony Hall in Duluth\, MN on February 3 at 5PM! \nCharlie\, a Wisconsin native\, has been featured on Comedy Central\, Fox\, CBS\, Funny or Die\, TBS\, Variety\, MTV News and more. He creates weekly content for his various social platforms and has amassed over 7.5 million followers. \nCharlie began his career working for MTV News’ Choose or Lose. After that he worked in front and behind the camera for emerging YouTube news channels. In 2012\, Tribune Media tapped Charlie to host the comedic news show Nightcap. In 2013 he won an Emmy for “The Cost of Water” while reporting for KDAF. \nIn 2017\, Charlie began hosting his weekly comedic online news show\, the Manitowoc Minute. Since then\, Charlie’s been creating Midwest-focused sketch comedy videos on his social media platforms. He’s also traveled the country with three sold out stand-up comedy tours. \nIn 2020\, Charlie paired up with Horseshoes & Hand Grenades alum Adam Greul to release the music/comedy album\, Unthawed. The album\, which is a mixture of bluegrass\, country and Charlie’s comedy\, hit #1 on the Billboard Bluegrass chart and #6 on the Bluegrass Comedy chart. \nCharlie’s first book\, The Midwest Survival Guide\, was released in November of 2021 by William Morrow/Harper Collins and immediately became a New York Times Best Seller! Charlie is currently on his third stand-up tour in support of the book’s release. His Midwest Survival Guide Tour sold over 150\,000 tickets! \nCharlie hosts the Cripescast podcast where he interviews musicians\, artists\, comedians\, creators and more to talk about their story and connections to the Midwest. Guests have included Jeff Foxworthy\, Nate Bargatze and Roy Wood\, Jr. \nGet Tickets: https://www.ticketmaster.com/event/06005F52E3F66240
URL:https://nitelite.com/event/charlie-berens-duluth-mn/
LOCATION:DECC Symphony Hall\, 350 Harbor Drive\, Duluth\, MN\, 55802\, United States
CATEGORIES:All Events,Comedy,Entertaiment,Event,Upcoming Events
ATTACH;FMTTYPE=image/jpeg:https://nitelite.com/wp-content/uploads/2023/11/thumbnail_Berens-Duluth-1200x628-01.jpg
END:VEVENT
BEGIN:VEVENT
DTSTART;TZID=America/Chicago:20220928T190000
DTEND;TZID=America/Chicago:20220928T190000
DTSTAMP:20260423T185223
CREATED:20220323T173314Z
LAST-MODIFIED:20220323T175438Z
UID:10000144-1664391600-1664391600@nitelite.com
SUMMARY:Tom Segura:  I'm Coming Everywhere World Tour
DESCRIPTION:Comedian and podcast host Tom Segura is bringing his “I’m Coming Everywhere-World Tour”\, to DECC Symphony Hall in Duluth\, MN on September 28 at 7PM!\n\n\nActor/Comedian/Writer Tom Segura is one of the biggest names in the comedy business. He recently performed to sold-out audiences on his 100+ city TAKE IT DOWN TOUR. He is best known for his Netflix specials\, Ball Hog (2020)\, Disgraceful (2018)\, Mostly Stories (2016)\, and Completely Normal (2014). Paste Magazine described him as\, “…having a natural and capable storytelling ability\, one that lifts his narratives out of average anecdote fare and plants them firmly in hilarious ground.” Your Mom’s House Studios is home to his hit podcasts Your Mom’s House which he co-hosts with his wife\, comedian Christina Pazsitzky\, 2 Bears 1 Cave which he co-hosts with Bert Kreischer\, and many more. Additionally\, YMH Studios was one of the first networks to create wildly successful Livestream Podcast Events as an outcome of the pandemic.\n\n\nSegura can be seen in the STX FILM COUNTDOWN opposite Elizabeth Lail\, INSTANT FAMILY opposite Mark Wahlberg and Rose Byrne\, OPENING ACT\, and FLINCH. Segura’s television credits include The Late Show with Stephen Colbert\, Conan\, Workaholics\, Happy Endings\, The Late Late Show\, Comedy Central Presents: Tom Segura\, Mash Up\, How To Be A Grown Up.\nSegura has an increasing social media following (@seguratom on IG\, @tomsegura on Twitter). When he isn’t performing on stage or recording a podcast he’s watching College Football or waiting for College Football to come back.\n\n\nTickets are ON SALE Friday\, March 25 at 10AM https://www.ticketmaster.com/tom-segura-duluth-minnesota-09-28-2022/event/06005C68CC78494B
URL:https://nitelite.com/event/tom-segura-duluth-mn/
LOCATION:DECC Symphony Hall\, 350 Harbor Drive\, Duluth\, MN\, 55802\, United States
CATEGORIES:All Events,Comedy
ATTACH;FMTTYPE=image/jpeg:https://nitelite.com/wp-content/uploads/2022/02/221233154_10159765861313641_1162842012702131917_n.jpg
ORGANIZER;CN="NiteLite Promotions":MAILTO:events@nitelite.com
END:VEVENT
END:VCALENDAR