BEGIN:VCALENDAR
VERSION:2.0
PRODID:-//NiteLite Promotions - ECPv6.15.20//NONSGML v1.0//EN
CALSCALE:GREGORIAN
METHOD:PUBLISH
X-WR-CALNAME:NiteLite Promotions
X-ORIGINAL-URL:https://nitelite.com
X-WR-CALDESC:Events for NiteLite Promotions
REFRESH-INTERVAL;VALUE=DURATION:PT1H
X-Robots-Tag:noindex
X-PUBLISHED-TTL:PT1H
BEGIN:VTIMEZONE
TZID:America/Chicago
BEGIN:DAYLIGHT
TZOFFSETFROM:-0600
TZOFFSETTO:-0500
TZNAME:CDT
DTSTART:20210314T080000
END:DAYLIGHT
BEGIN:STANDARD
TZOFFSETFROM:-0500
TZOFFSETTO:-0600
TZNAME:CST
DTSTART:20211107T070000
END:STANDARD
BEGIN:DAYLIGHT
TZOFFSETFROM:-0600
TZOFFSETTO:-0500
TZNAME:CDT
DTSTART:20220313T080000
END:DAYLIGHT
BEGIN:STANDARD
TZOFFSETFROM:-0500
TZOFFSETTO:-0600
TZNAME:CST
DTSTART:20221106T070000
END:STANDARD
BEGIN:DAYLIGHT
TZOFFSETFROM:-0600
TZOFFSETTO:-0500
TZNAME:CDT
DTSTART:20230312T080000
END:DAYLIGHT
BEGIN:STANDARD
TZOFFSETFROM:-0500
TZOFFSETTO:-0600
TZNAME:CST
DTSTART:20231105T070000
END:STANDARD
BEGIN:DAYLIGHT
TZOFFSETFROM:-0600
TZOFFSETTO:-0500
TZNAME:CDT
DTSTART:20240310T080000
END:DAYLIGHT
BEGIN:STANDARD
TZOFFSETFROM:-0500
TZOFFSETTO:-0600
TZNAME:CST
DTSTART:20241103T070000
END:STANDARD
END:VTIMEZONE
BEGIN:VEVENT
DTSTART;TZID=America/Chicago:20230224T200000
DTEND;TZID=America/Chicago:20230224T200000
DTSTAMP:20260423T183723
CREATED:20230109T224031Z
LAST-MODIFIED:20230210T231533Z
UID:10000127-1677268800-1677268800@nitelite.com
SUMMARY:Hairball
DESCRIPTION:Hairball appears at the Coronado Performing Arts Center in Rockford\, IL on Friday\, February 24 at 8PM. \n\n\nA band puts on a concert – Hairball puts on an event! Hairball is a Rock & Roll experience you won’t soon forget. The lights\, sound\, smoke\, fire\, bombs\, and screaming hoards of avid fans…to merely call it a concert would be like calling Mount Rushmore a roadside attraction! \nVocalists Joe Dandy\, Kris Vox\, and Dave Moody lead the band through a 2+ hour\, mind-blowing\, and dropdead accurate homage to some of the biggest arena acts in the world. Van Halen\, KISS\, Motley Crue\, Queen\, Journey\, and Aerosmith are but a few of the acts fans will see brought to life. The Hairball stage becomes an entirely new rock concert before your very eyes countless times throughout the night. \nThe motor that drives the Hairball dragster consists of HBK on the electric bass\, Billy on the drums\, and Happy on the lead guitar. These Rock & Roll soldiers pride themselves on nailing some of the most memorable licks and chops of all time\, while adding their own style and flare that they’ve cultivated over decades of tireless performing. This isn’t a side job. These guys eat\, sleep and breathe Rock & Roll! \n2023 finds Hairball celebrating its 23rd year of rocking hundreds of thousands of people across the country. Constantly adding more characters\, more pyrotechnics\, more lights\, more sound\, more props\, more surprises…more everything! While Happy often tells the audience “Today is the first day is the rest of your life!” Hairball performs every show as though it could be their last. Every night is a 100% full-on\, no-holds-barred\, exciting\, chaotic\, fiery party that has to be experienced to be believed! \nAs important to Hairball as the music\, are its fans. While many bands claim to have the best fans in the world\, Hairball actually has! Whether they are 10 years old or 100\, Hairball fans bring an unparalleled enthusiasm and energy to the show that enhances the arena experience. Hairball knows it wouldn’t exist without its fans and takes every opportunity to let them know that. \nWhether it’s a pre-show meet and greet\, hanging out at the merch booth\, or chatting online\, Hairball has a lot in common with its fans and it’s always a good time when they get together. Don’t confuse Hairball with the countless “80’s Tribute” bands across the country. Hairball is an experience\, an attitude\, and expression of music that isn’t simply a retro flashback\, it’s a way of life! \n\nGet tickets: https://www.ticketmaster.com/event/04005D94C0EA1ACE
URL:https://nitelite.com/event/hairball-rockford/
LOCATION:Coronado Theatre\, 314 N. Main Street\, Rockford\, IL\, 61101\, United States
CATEGORIES:All Events,Entertaiment,Event,Live Music,Tribute Acts,Upcoming Events
ATTACH;FMTTYPE=image/jpeg:https://nitelite.com/wp-content/uploads/2023/01/Hairball.Rockford.12.jpg
END:VEVENT
BEGIN:VEVENT
DTSTART;TZID=America/Chicago:20230217T200000
DTEND;TZID=America/Chicago:20230217T200000
DTSTAMP:20260423T183723
CREATED:20221114T224229Z
LAST-MODIFIED:20221114T224442Z
UID:10000122-1676664000-1676664000@nitelite.com
SUMMARY:Buddy Guy - Damn Right Farewell
DESCRIPTION:Buddy Guy – Damn Right Farewell\, appears at the Coronado Performing Arts Center in Rockford\, IL on February 17 at 8PM! \nAt age 86\, Buddy Guy is a Rock & Roll Hall of Fame inductee\, a major influence on rock titans like Jimi Hendrix\, Eric Clapton\, and Stevie Ray Vaughan\, a pioneer of Chicago’s fabled West Side sound\, and a living link to the city’s halcyon days of electric blues. Buddy Guy has received 8 GRAMMY Awards\, a 2015 Lifetime Achievement GRAMMY Award\, 38 Blues Music Awards (the most any artist has received)\, the Billboard Magazine Century Award for distinguished artistic achievement\, a Kennedy Center Honor\, and the Presidential National Medal of Arts. Rolling Stone Magazine ranked him #23 in its “100 Greatest Guitarists of All Time.” \nIn 2019\, Buddy Guy won his 8th and most recent GRAMMY Award for his 18th solo LP\, “The Blues Is Alive And Well”. \nIn July of 2021\, in honor of Buddy Guy’s 85th birthday\, PBS American Masters released “Buddy Guy: The Blues Chase The Blues Away”\, a new documentary following his rise from a childhood spent picking cotton in Louisiana to becoming one of the most influential guitar players of all time. The documentary features new interviews with Buddy Guy\, Carlos Santana\, Eric Clapton\, John Mayer\, Gary Clark Jr\, and more. \nThough Buddy Guy will forever be associated with Chicago\, his story actually begins in Louisiana. One of five children\, he was born in 1936 to a sharecropper’s family and raised on a plantation near the small town of Lettsworth\, located some 140 miles northwest of New Orleans. Buddy was just seven years old when he fashioned his first makeshift “guitar”—a two-string contraption attached to a piece of wood and secured with his mother’s hairpins. \nIn 1957\, he took his guitar to Chicago\, where he would permanently alter the direction of the instrument\, first on numerous sessions for Chess Records playing alongside Howlin’ Wolf\, Muddy Waters\, and the rest of the label’s legendary roster\, and then on recordings of his own. His incendiary style left its mark on guitarists from Jimmy Page to John Mayer. “He was for me what Elvis was probably like for other people\,” said Eric Clapton at Guy’s Rock and Roll Hall of Fame induction in 2005. “My course was set\, and he was my pilot.” \nSeven years later\, July 2012 proved to be one of Buddy Guy’s most remarkable years ever. He was awarded the 2012 Kennedy Center Honor for his lifetime contribution to American culture; earlier in the year\, at a performance at the White House\, he even persuaded President Obama to join him on a chorus of “Sweet Home Chicago.” Also in 2012\, he published his long-awaited memoir\, When I Left Home. \nThese many years later\, Buddy Guy remains a genuine American treasure and one of the final surviving connections to an historic era in the country’s musical evolution. \n  \nTickets are on sale at https://www.ticketmaster.com/event/04005D3DD69F3100
URL:https://nitelite.com/event/buddy-guy-damn-right-farewell/
LOCATION:Coronado Theatre\, 314 N. Main Street\, Rockford\, IL\, 61101\, United States
CATEGORIES:All Events,Blues,Event,Live Music,Upcoming Events
ATTACH;FMTTYPE=image/jpeg:https://nitelite.com/wp-content/uploads/2022/11/BuddyGuy.Rockford.3.jpg
END:VEVENT
BEGIN:VEVENT
DTSTART;TZID=America/Chicago:20221015T190000
DTEND;TZID=America/Chicago:20221015T190000
DTSTAMP:20260423T183723
CREATED:20220512T215602Z
LAST-MODIFIED:20220512T215602Z
UID:10000178-1665860400-1665860400@nitelite.com
SUMMARY:Get the Led Out
DESCRIPTION:Get The Led Out\, a musical group that brings the studio recordings of Led Zeppelin to life in concert\, is set to perform at the Coronado Performing Arts Center in Rockford\, IL on October 15 at 7PM! \nFrom the bombastic and epic\, to the folky and mystical\, Get The Led Out (GTLO) have captured the essence of the recorded music of Led Zeppelin and brought it to the concert stage. The Philadelphia-based group consists of six veteran musicians intent on delivering Led Zeppelin live\, like you’ve never heard before. Utilizing the multi-instrumentalists at their disposal\, GTLO re-create the songs in all their depth and glory with the studio overdubs that Zeppelin themselves never performed. When you hear three guitars on the album\, GTLO delivers three guitarists on stage. No wigs or fake English accents\, GTLO brings what the audience wants – a high energy Zeppelin concert with an honest\, heart-thumping intensity. \nDubbed by the media as “The American Led Zeppelin\,” Get The Led Out offers a strong focus on the early years. They also touch on the deeper cuts that were seldom\, if ever heard in concert. GTLO also include a special “acoustic set” with Zep favorites such as “Tangerine” and “Hey Hey What Can I Do.” \nGTLO has amassed a strong national touring history\, having performed at major club and PAC venues across the country. GTLO’s approach to their performance of this hallowed catalog is not unlike a classical performance. “Led Zeppelin are sort of the classical composers of the rock era\,” says lead vocalist Paul Sinclair. “I believe 100 years from now they will be looked at as the Bach or Beethoven of our time. As cliché as it sounds\, their music is timeless.” \nA GTLO concert mimics the “light and shade” that are the embodiment of “The Mighty Zep.” Whether it’s the passion and fury with which they deliver the blues-soaked\, groove-driven rock anthems\, it’s their attention to detail and nuance that makes a Get The Led Out performance a truly awe-inspiring event! \n  \nTickets are on sale at https://www.ticketmaster.com/event/04005C97E1C52512
URL:https://nitelite.com/event/get-the-led-out-rockford-il/
LOCATION:Coronado Theatre\, 314 N. Main Street\, Rockford\, IL\, 61101\, United States
CATEGORIES:All Events,Live Music,Rock Music,Tribute Acts
ATTACH;FMTTYPE=image/jpeg:https://nitelite.com/wp-content/uploads/2022/05/GTLO.Rockford.11.jpg
END:VEVENT
BEGIN:VEVENT
DTSTART;TZID=America/Chicago:20220925T190000
DTEND;TZID=America/Chicago:20220925T190000
DTSTAMP:20260423T183723
CREATED:20220408T222643Z
LAST-MODIFIED:20220408T222643Z
UID:10000154-1664132400-1664132400@nitelite.com
SUMMARY:Gordon Lightfoot
DESCRIPTION:Gordon Lightfoot appears at the Coronado Performing Arts Center in Rockford\, IL on September 25 at 7PM! \n\nAfter more than 50 active years of hit song-making and international album sales well into the multi-millions\, it’s safe to say that esteemed singer-songwriter and musician Gordon Lightfoot resides with some very exclusive company atop the list of all-time greats. His song catalog is incredibly vast and includes such immortals as “Early Morning Rain\,” “If You Could Read My Mind\,” “Carefree Highway\,” “Sundown\,” “(That’s What You Get) For Lovin Me\,” “The Wreck of the Edmund Fitzgerald\,” “Canadian Railroad Trilogy\,” “Ribbon of Darkness\,” “Beautiful\,” “Song for a Winter’s Night” and “Rainy Day People” to name a few. \nThe concert will feature Lightfoot’s well-known hits as well as some deep album cuts for the die-hard fanatics\, all of which are woven together with some of Lightfoot’s own behind-the-scenes stories and personal anecdotes about his historic 50-plus-years musical career. The event is sure to be a great thrill for live audiences and anyone who enjoys hearing great music and seeing a living legend in person. \n\n\nGordon Lightfoot has recorded 21 albums and has five Grammy nominations. His songs have been aired regularly for over 50 years\, earning him Radio Singles Chart Positions in North America achieved by few others. Lightfoot’s radio hits in the USA have earned Five #1s\, Five Top 10s and 13 Top 40 hits. In Canada he has earned 16 #1s\, 18 Top 10s and 21 Top 40 hits. \nAside from his success in writing\, singing and performing his own songs\, Lightfoot has found fortune in having his songs recorded and performed by other great artists including Bob Dylan\, Elvis Presley\, Johnny Cash\, Hank Williams\, Jr.\, Marty Robbins\, Jerry Lee Lewis\, Judy Collins\, Johnny Mathis\, Anne Murray\, Olivia Newton-John\, Sarah McLachlan\, Barbra Streisand\, Peter Paul & Mary\, Harry Belafonte\, Jane’s Addiction\, Richie Havens\, Glen Campbell\, Toby Keith and George Hamilton IV. \nIn June of 2012 Lightfoot’s legacy was further enhanced when he was inducted into the Songwriters Hall Of Fame. Lightfoot was honored for his role in defining the folk-pop sound of the 1960s and ’70s. Other impressive inductees who make up the roster enshrined in the Songwriters Hall of Fame include Barry Mann\, Jerry Leiber and Mike Stoller\, Hal David and Burt Bacharach\, John Fogerty\, Bob Dylan\, Isaac Hayes\, Carole King\, Paul Simon\, Billy Joel\, Sir Elton John\, Bernie Taupin\, Brian Wilson\, James Taylor\, James Brown\, Bruce Springsteen\, Jim Croce\, Phil Collins\, Loretta Lynn\, Jimmy Webb\, Van Morrison\, Kris Kristofferson\, Dolly Parton\, Diane Warren\, Garth Brooks\, Leon Russell and Leonard Cohen. \nIn his native Canada\, Lightfoot has been decorated with the highest honors bestowed to a civilian including the Governor’s General Award and the Companion to the Order of Canada honor of merit. He has also won 17 Juno Awards – Canada’s equivalent to the Grammy Awards. Gordon is a member of Canada’s Walk of Fame and The Canadian Songwriters Hall of Fame. In 2007\, Canada Post honored him by issuing an official Gordon Lightfoot postage stamp. Lightfoot is also in the Canadian Music Hall of Fame and the Canadian Country Music Hall of Fame. Gordon Lightfoot is an indelible part of the Canadian national spirit and regarded as perhaps the most prolific and greatest Canadian singer-songwriter of all time. \n\nTickets are on sale now at https://www.ticketmaster.com/event/04005C7EA0971D2C
URL:https://nitelite.com/event/gordon-lightfoot-rockford-il/
LOCATION:Coronado Theatre\, 314 N. Main Street\, Rockford\, IL\, 61101\, United States
CATEGORIES:All Events,Live Music
ATTACH;FMTTYPE=image/jpeg:https://nitelite.com/wp-content/uploads/2022/04/gordonLightfoot.Rockford.10.jpg
END:VEVENT
BEGIN:VEVENT
DTSTART;TZID=America/Chicago:20220923T200000
DTEND;TZID=America/Chicago:20220923T200000
DTSTAMP:20260423T183723
CREATED:20220214T181124Z
LAST-MODIFIED:20220214T181203Z
UID:10000133-1663963200-1663963200@nitelite.com
SUMMARY:Charlie Berens: Midwest Survival Guide Tour
DESCRIPTION:Charlie Berens brings his Midwest Survival Guide tour to the Coronado Performing Arts Center in Rockford\, IL on Friday\, September 23 at 8PM! \nCHARLIE BERENS is an Emmy-winning journalist\, comedian\, and creator of the Manitowoc Minute.  The Wisconsin native has been featured on Fox\, CBS\, Funny or Die\, TBS Digital\, Variety\, MTV News and more.   Charlie began his career working for MTV News’ Choose or Lose. In 2012\, Tribune Media tapped Charlie to host the comedic news show Nightcap. In 2013\, he won an Emmy for “The Cost of Water” while reporting for KDAF\, a television station in Dallas\, TX. \nIn 2014\, CBS Sports Network hired Charlie to host the sports gameshow You’re So Money. Also in 2014\, PMC (Variety\, Deadline) made Charlie the host of their comedy/entertainment news brand @Hollywood. From red carpets to Sundance to SXSW to Coachella\, Charlie has interviewed hundreds of celebrities\, politicians\, actors\, and musicians. \nCharlie is a frequent collaborator on Funny or Die. His comedic mashups including “If Jack Dawson Was Really from Wisconsin” have garnered more than 13 million views. I n 2017\, Charlie began the viral Midwest comedic news series Manitowoc Minute. His fans flock daily to his Facebook page to view his content. He currently has over 550\,000 Facebook followers. After garnering millions of views\, he’s toured the United States selling out venues within minutes. \nMost recently\, Charlie’s Midwest-focused sketch comedy videos have garnered hundreds of millions of views. In addition to sketch comedy and the Manitowoc Minute\, Charlie also hosts Dark Side Of on Discovery ID. \nTickets are ON SALE NOW at https://www.ticketmaster.com/charlie-berens-midwest-survival-guide-tour-rockford-illinois-09-23-2022/event/04005C25D92D38D2 \n\n\n\n\n\n\n\n\n\n 
URL:https://nitelite.com/event/charlie-berens-rockford-il/
LOCATION:Coronado Theatre\, 314 N. Main Street\, Rockford\, IL\, 61101\, United States
CATEGORIES:All Events,Comedy
ATTACH;FMTTYPE=image/jpeg:https://nitelite.com/wp-content/uploads/2022/01/Charlie-Berens-Duluth.14.jpg
ORGANIZER;CN="NiteLite Promotions":MAILTO:events@nitelite.com
END:VEVENT
BEGIN:VEVENT
DTSTART;TZID=America/Chicago:20220923T173000
DTEND;TZID=America/Chicago:20220923T173000
DTSTAMP:20260423T183723
CREATED:20220610T211241Z
LAST-MODIFIED:20220610T212118Z
UID:10000112-1663954200-1663954200@nitelite.com
SUMMARY:Charlie Berens:  Midwest Survival Guide Tour
DESCRIPTION:Charlie Berens brings his Midwest Survival Guide tour to the Coronado Performing Arts Center in Rockford\, IL on Friday\, September 23 at 5:30PM! \nCHARLIE BERENS is an Emmy-winning journalist\, comedian\, and creator of the Manitowoc Minute.  The Wisconsin native has been featured on Fox\, CBS\, Funny or Die\, TBS Digital\, Variety\, MTV News and more.   Charlie began his career working for MTV News’ Choose or Lose. In 2012\, Tribune Media tapped Charlie to host the comedic news show Nightcap. In 2013\, he won an Emmy for “The Cost of Water” while reporting for KDAF\, a television station in Dallas\, TX. \nIn 2014\, CBS Sports Network hired Charlie to host the sports gameshow You’re So Money. Also in 2014\, PMC (Variety\, Deadline) made Charlie the host of their comedy/entertainment news brand @Hollywood. From red carpets to Sundance to SXSW to Coachella\, Charlie has interviewed hundreds of celebrities\, politicians\, actors\, and musicians. \nCharlie is a frequent collaborator on Funny or Die. His comedic mashups including “If Jack Dawson Was Really from Wisconsin” have garnered more than 13 million views. I n 2017\, Charlie began the viral Midwest comedic news series Manitowoc Minute. His fans flock daily to his Facebook page to view his content. He currently has over 550\,000 Facebook followers. After garnering millions of views\, he’s toured the United States selling out venues within minutes. \nMost recently\, Charlie’s Midwest-focused sketch comedy videos have garnered hundreds of millions of views. In addition to sketch comedy and the Manitowoc Minute\, Charlie also hosts Dark Side Of on Discovery ID. \nTickets are ON SALE NOW at https://www.ticketmaster.com/charlie-berens-midwest-survival-guide-tour/event/04005CC7CA6F2F5B?refArtist=K8vZ917bf3f
URL:https://nitelite.com/event/charlie-berens-rockford-il-2/
LOCATION:Coronado Theatre\, 314 N. Main Street\, Rockford\, IL\, 61101\, United States
CATEGORIES:All Events,Comedy
ATTACH;FMTTYPE=image/jpeg:https://nitelite.com/wp-content/uploads/2022/01/Charlie-Berens-Duluth.14.jpg
END:VEVENT
BEGIN:VEVENT
DTSTART;TZID=America/Chicago:20220812T200000
DTEND;TZID=America/Chicago:20220812T200000
DTSTAMP:20260423T183723
CREATED:20220504T223345Z
LAST-MODIFIED:20220620T190335Z
UID:10000171-1660334400-1660334400@nitelite.com
SUMMARY:The Beach Boys:  Sixty Years of the Sounds of Summer
DESCRIPTION:The Beach Boys will appear on August 12 at 8PM at the Coronado Performing Arts Center in Rockford\, IL! \n  \nAs The Beach Boys mark more than a half century of making music\, the group continues to ride the crest of a wave unequalled in America’s musical history. The Beach Boys – who have become synonymous with the California lifestyle and an American icon\, are bringing their “Sixty Years of the Sounds of Summer” tour to fans around the world. \nSince the band’s co-founder\, lead-singer and chief lyricist Mike Love penned the lyrics to The Beach Boys’ first hit\, “Surfin’” (1961)\, dozens of the bands chart toppers have become eternal anthems of American youth: “Surfin’ USA\,” “Surfer Girl\,” “Fun\, Fun\, Fun\,” “I Get Around\,” “California Girls\,” “Help Me Rhonda\,” “Barbara Ann\,” “Good Vibrations\,” “Wouldn’t It Be Nice\,” “Rock and Roll Music” and “Kokomo.” \nThe Beach Boys have sold over 100 million records worldwide and have received more than 33 RIAA Platinum and Gold record awards. The Rock And Roll Hall of Famers where also honored at the 2001 Grammy Awards with the Lifetime Achievement Award. \nWith more than five decades of touring under their belts\, The Beach Boys have performed more concerts than any major rock band in history. \nSounds Of Summer: The Very Best Of The Beach Boys\, Capitol/EMI’s 30-track collection of the band’s biggest hits\, has achieved triple-platinum success with sales of more than three million copies in the U.S. since its release. \nThe Beach Boys are led by Mike Love\, who\, along with longtime member Bruce Johnston\, musical director Scott Totten\, Brian Eichenberger\, Christian Love\, Tim Bonhomme\, John Cowsill\, Keith Hubacher and Randy Leago continue the legacy of the iconic band. This concert will not feature Brian Wilson\, Al Jardine or David Marks. \n  \nTickets are on sale at https://www.ticketmaster.com/event/04005C93CEF02933
URL:https://nitelite.com/event/the-beach-boys-rockford-il/
LOCATION:Coronado Theatre\, 314 N. Main Street\, Rockford\, IL\, 61101\, United States
CATEGORIES:All Events,Live Music,Upcoming Events
ATTACH;FMTTYPE=image/jpeg:https://nitelite.com/wp-content/uploads/2022/05/BeachBoys.Rockford.11.jpg
END:VEVENT
END:VCALENDAR