BEGIN:VCALENDAR
VERSION:2.0
PRODID:-//NiteLite Promotions - ECPv6.15.20//NONSGML v1.0//EN
CALSCALE:GREGORIAN
METHOD:PUBLISH
X-WR-CALNAME:NiteLite Promotions
X-ORIGINAL-URL:https://nitelite.com
X-WR-CALDESC:Events for NiteLite Promotions
REFRESH-INTERVAL;VALUE=DURATION:PT1H
X-Robots-Tag:noindex
X-PUBLISHED-TTL:PT1H
BEGIN:VTIMEZONE
TZID:America/Chicago
BEGIN:DAYLIGHT
TZOFFSETFROM:-0600
TZOFFSETTO:-0500
TZNAME:CDT
DTSTART:20240310T080000
END:DAYLIGHT
BEGIN:STANDARD
TZOFFSETFROM:-0500
TZOFFSETTO:-0600
TZNAME:CST
DTSTART:20241103T070000
END:STANDARD
BEGIN:DAYLIGHT
TZOFFSETFROM:-0600
TZOFFSETTO:-0500
TZNAME:CDT
DTSTART:20250309T080000
END:DAYLIGHT
BEGIN:STANDARD
TZOFFSETFROM:-0500
TZOFFSETTO:-0600
TZNAME:CST
DTSTART:20251102T070000
END:STANDARD
BEGIN:DAYLIGHT
TZOFFSETFROM:-0600
TZOFFSETTO:-0500
TZNAME:CDT
DTSTART:20260308T080000
END:DAYLIGHT
BEGIN:STANDARD
TZOFFSETFROM:-0500
TZOFFSETTO:-0600
TZNAME:CST
DTSTART:20261101T070000
END:STANDARD
END:VTIMEZONE
BEGIN:VEVENT
DTSTART;TZID=America/Chicago:20251020T193000
DTEND;TZID=America/Chicago:20251020T193000
DTSTAMP:20260423T183618
CREATED:20250913T222232Z
LAST-MODIFIED:20250913T222238Z
UID:10000412-1760988600-1760988600@nitelite.com
SUMMARY:Lucy Darling:  You're Welcome
DESCRIPTION:Lucy Darling:  You’re Welcome appears at Clowes Memorial Hall in Indianapolis\, IN on October 20 at 7:30PM! \nLucy Darling: You’re Welcome Featuring Mark Ettinger \nAward-winning performer\, charming socialite\, and cocktail enthusiast Lucy Darling continues her vivacious vagabond voyages with You’re Welcome — a touring variety show featuring her razor-sharp wit\, unquestionable advice\, skillful magic\, and delightful friends.  \nLucy is bringing her signature charm and mischief from screen to stage\, and everyone is welcome. Even after half a year of sold-out appearances\, her growing legion of devoted Darlings has been begging for more visits — this is her answer to their call. You’re Welcome is more than just a tour; it’s a reunion of people who have not yet met\, a party for every member of the Darling family tree.  \nLucy is accompanied on piano\, ukulele\, and a cornucopia of other instruments by the delightfully eccentric Mark Ettinger (musician\, composer\, and renowned globe-trotting juggler with the legendary Flying Karamazov Brothers). This charming duo’s playful banter and effortless chemistry dazzles and enchants audiences everywhere they go.  \nYou’re Welcome.  \nBUY TICKETS
URL:https://nitelite.com/event/lucy-darling-indianapolis-in/
LOCATION:Clowes Memorial Hall\, 4602 Sunset Ave\, Indianapolis\, IN\, 46208\, United States
CATEGORIES:All Events,Comedy,Entertaiment,Event,Upcoming Events
ATTACH;FMTTYPE=image/jpeg:https://nitelite.com/wp-content/uploads/2025/09/LucyDarling_1920x1080.jpg
END:VEVENT
END:VCALENDAR