BEGIN:VCALENDAR
VERSION:2.0
PRODID:-//NiteLite Promotions - ECPv6.15.20//NONSGML v1.0//EN
CALSCALE:GREGORIAN
METHOD:PUBLISH
X-ORIGINAL-URL:https://nitelite.com
X-WR-CALDESC:Events for NiteLite Promotions
REFRESH-INTERVAL;VALUE=DURATION:PT1H
X-Robots-Tag:noindex
X-PUBLISHED-TTL:PT1H
BEGIN:VTIMEZONE
TZID:America/Chicago
BEGIN:DAYLIGHT
TZOFFSETFROM:-0600
TZOFFSETTO:-0500
TZNAME:CDT
DTSTART:20240310T080000
END:DAYLIGHT
BEGIN:STANDARD
TZOFFSETFROM:-0500
TZOFFSETTO:-0600
TZNAME:CST
DTSTART:20241103T070000
END:STANDARD
BEGIN:DAYLIGHT
TZOFFSETFROM:-0600
TZOFFSETTO:-0500
TZNAME:CDT
DTSTART:20250309T080000
END:DAYLIGHT
BEGIN:STANDARD
TZOFFSETFROM:-0500
TZOFFSETTO:-0600
TZNAME:CST
DTSTART:20251102T070000
END:STANDARD
BEGIN:DAYLIGHT
TZOFFSETFROM:-0600
TZOFFSETTO:-0500
TZNAME:CDT
DTSTART:20260308T080000
END:DAYLIGHT
BEGIN:STANDARD
TZOFFSETFROM:-0500
TZOFFSETTO:-0600
TZNAME:CST
DTSTART:20261101T070000
END:STANDARD
END:VTIMEZONE
BEGIN:VEVENT
DTSTART;TZID=America/Chicago:20250216T190000
DTEND;TZID=America/Chicago:20250216T190000
DTSTAMP:20260423T221234
CREATED:20241119T193917Z
LAST-MODIFIED:20241119T193917Z
UID:10000346-1739732400-1739732400@nitelite.com
SUMMARY:Get the Led Out
DESCRIPTION:Get the Led Out appears on February 16\, 2025 at 7PM at the Capitol Theatre in Davenport\, IA! \nFrom the bombastic and epic\, to the folky and mystical\, Get The Led Out (GTLO) have captured the essence of the recorded music of Led Zeppelin and brought it to the concert stage. The Philadelphia-based group consists of six veteran musicians intent on delivering Led Zeppelin live\, like you’ve never heard before. Utilizing the multi-instrumentalists at their disposal\, GTLO re-create the songs in all their depth and glory with the studio overdubs that Zeppelin themselves never performed. When you hear three guitars on the album…GTLO delivers three guitarists on stage. No wigs or fake English accents\, GTLO brings what the audience wants…a high energy Zeppelin concert with an honest\, heart-thumping intensity. \nDubbed by the media as “The American Led Zeppelin\,” Get The Led Out offers a strong focus on the early years. They also touch on the deeper cuts that were seldom\, if ever heard in concert. GTLO also include a special “acoustic set” with Zep favorites such as “Tangerine” and “Hey Hey What Can I Do.” \nGTLO has amassed a strong national touring history\, having performed at major club and PAC venues across the country. GTLO’s approach to their performance of this hallowed catalog is not unlike a classical performance. “Led Zeppelin are sort of the classical composers of the rock era\,” says lead vocalist Paul Sinclair. “I believe 100 years from now they will be looked at as the Bach or Beethoven of our time. As cliché as it sounds\, their music is timeless.” \nA GTLO concert mimics the “light and shade” that are the embodiment of “The Mighty Zep.” Whether it’s the passion and fury with which they deliver the blues-soaked\, groove-driven rock anthems\, it’s their attention to detail and nuance that makes a Get The Led Out performance a truly awe-inspiring event! \nGet The Led Out include: Paul Sinclair – Lead Vocals\, Harmonica; Paul Hammond – Electric and Acoustic Guitars\, Mandolin\, Theremin; Tommy Zamp – Electric and Acoustic Guitars\, Vocals; Eddie Kurek – Keyboards\, Guitar\, Vocals\, Percussion; Derek Smith – Drums\, Percussion; and Seth Chrisman – Bass\, Vocals \n  \nBuy Tickets: https://www.axs.com/events/743882/get-the-led-out-tickets
URL:https://nitelite.com/event/get-the-led-out-davenport/
LOCATION:Capitol Theatre\, 330 W. 3rd Street\, Davenport\, IA\, 52801\, United States
CATEGORIES:All Events,Entertaiment,Event,Live Music,Rock Music,Tribute Acts,Upcoming Events
ATTACH;FMTTYPE=image/jpeg:https://nitelite.com/wp-content/uploads/2024/11/thumbnail_GTLO-Davenport-1200x628-02.jpg
END:VEVENT
END:VCALENDAR