BEGIN:VCALENDAR
VERSION:2.0
PRODID:-//NiteLite Promotions - ECPv6.15.20//NONSGML v1.0//EN
CALSCALE:GREGORIAN
METHOD:PUBLISH
X-ORIGINAL-URL:https://nitelite.com
X-WR-CALDESC:Events for NiteLite Promotions
REFRESH-INTERVAL;VALUE=DURATION:PT1H
X-Robots-Tag:noindex
X-PUBLISHED-TTL:PT1H
BEGIN:VTIMEZONE
TZID:America/Chicago
BEGIN:DAYLIGHT
TZOFFSETFROM:-0600
TZOFFSETTO:-0500
TZNAME:CDT
DTSTART:20210314T080000
END:DAYLIGHT
BEGIN:STANDARD
TZOFFSETFROM:-0500
TZOFFSETTO:-0600
TZNAME:CST
DTSTART:20211107T070000
END:STANDARD
BEGIN:DAYLIGHT
TZOFFSETFROM:-0600
TZOFFSETTO:-0500
TZNAME:CDT
DTSTART:20220313T080000
END:DAYLIGHT
BEGIN:STANDARD
TZOFFSETFROM:-0500
TZOFFSETTO:-0600
TZNAME:CST
DTSTART:20221106T070000
END:STANDARD
BEGIN:DAYLIGHT
TZOFFSETFROM:-0600
TZOFFSETTO:-0500
TZNAME:CDT
DTSTART:20230312T080000
END:DAYLIGHT
BEGIN:STANDARD
TZOFFSETFROM:-0500
TZOFFSETTO:-0600
TZNAME:CST
DTSTART:20231105T070000
END:STANDARD
END:VTIMEZONE
BEGIN:VEVENT
DTSTART;TZID=America/Chicago:20221001T190000
DTEND;TZID=America/Chicago:20221001T190000
DTSTAMP:20260423T215158
CREATED:20220519T214857Z
LAST-MODIFIED:20220519T214857Z
UID:10000179-1664650800-1664650800@nitelite.com
SUMMARY:Michael Carbonaro:  Lies on Stage
DESCRIPTION:Michael Carbonaro performs Lies on Stage at the Braden Auditorium at Illinois State University for ISU Family Weekend on October 1st at 7PM! \nAfter hundreds of sold out performances and critical acclaim from his inaugural theatrical tour\, Michael Carbonaro takes the stage with a brand new show! From his hit television series\, The Carbonaro Effect\, on truTV\, Americas favorite Trickster makes a triumphant return to live performances in CARBONARO: LIES ON STAGE\, conjuring up a concoction of unbelievable magic\, hysterical offbeat shenanigans\, and wonder for audiences of all ages. We would say you have to see it to believe it\, but you wont believe a thing when you are in the presence of Michael Carbonaro! Tickets are ON SALE at https://www.ticketmaster.com/michael-carbonaro-normal-illinois-10-01-2022/event/07005C9DA06E3A1F
URL:https://nitelite.com/event/michael-carbonaro-bloomington-normal-il/
LOCATION:Braden Auditorium at Illinois State University\, 100 N. University Street\, Normal\, IL\, 61761\, United States
CATEGORIES:All Events
ATTACH;FMTTYPE=image/jpeg:https://nitelite.com/wp-content/uploads/2022/05/Michael-Carbonaro-Digital-Landscape-1.jpg
END:VEVENT
END:VCALENDAR