BEGIN:VCALENDAR
VERSION:2.0
PRODID:-//NiteLite Promotions - ECPv6.15.20//NONSGML v1.0//EN
CALSCALE:GREGORIAN
METHOD:PUBLISH
X-ORIGINAL-URL:https://nitelite.com
X-WR-CALDESC:Events for NiteLite Promotions
REFRESH-INTERVAL;VALUE=DURATION:PT1H
X-Robots-Tag:noindex
X-PUBLISHED-TTL:PT1H
BEGIN:VTIMEZONE
TZID:America/Chicago
BEGIN:DAYLIGHT
TZOFFSETFROM:-0600
TZOFFSETTO:-0500
TZNAME:CDT
DTSTART:20230312T080000
END:DAYLIGHT
BEGIN:STANDARD
TZOFFSETFROM:-0500
TZOFFSETTO:-0600
TZNAME:CST
DTSTART:20231105T070000
END:STANDARD
BEGIN:DAYLIGHT
TZOFFSETFROM:-0600
TZOFFSETTO:-0500
TZNAME:CDT
DTSTART:20240310T080000
END:DAYLIGHT
BEGIN:STANDARD
TZOFFSETFROM:-0500
TZOFFSETTO:-0600
TZNAME:CST
DTSTART:20241103T070000
END:STANDARD
BEGIN:DAYLIGHT
TZOFFSETFROM:-0600
TZOFFSETTO:-0500
TZNAME:CDT
DTSTART:20250309T080000
END:DAYLIGHT
BEGIN:STANDARD
TZOFFSETFROM:-0500
TZOFFSETTO:-0600
TZNAME:CST
DTSTART:20251102T070000
END:STANDARD
BEGIN:DAYLIGHT
TZOFFSETFROM:-0600
TZOFFSETTO:-0500
TZNAME:CDT
DTSTART:20260308T080000
END:DAYLIGHT
BEGIN:STANDARD
TZOFFSETFROM:-0500
TZOFFSETTO:-0600
TZNAME:CST
DTSTART:20261101T070000
END:STANDARD
END:VTIMEZONE
BEGIN:VEVENT
DTSTART;TZID=America/Chicago:20250927T190000
DTEND;TZID=America/Chicago:20250927T190000
DTSTAMP:20260423T183731
CREATED:20250521T170925Z
LAST-MODIFIED:20250521T170928Z
UID:10000391-1758999600-1758999600@nitelite.com
SUMMARY:The Princess Bride: An Inconceivable Evening With Cary Elwes
DESCRIPTION:The Princess Bride: An Inconceivable Evening With Cary Elwes appears at The Auditorium in Chicago on September 27\, 2025 at 7PM! \nJoin Cary Elwes (Westley) for a behind-the-scenes look at life on and off the set of the classic film\, The Princess Bride. After a screening of the iconic movie\, Elwes will engage in a moderated discussion revealing never before shared secrets and tales of inconceivable antics! \nJourney back to the lands of Florin and Guilder in an adventure filled with fencing\, fighting\, torture\, revenge\, giants\, monsters\, chases\, escapes\, miracles\, and of course\, true love. \nElwes has been in a multitude of films and tv shows including “Seinfeld”\, “Robin Hood: Men in Tights”\, “Bram Stoker’s Dracula”\, “Saw”\, “Days of Thunder” “Twister”\, “Liar\, Liar”\, “Stranger Things” and “The Marvelous Mrs. Maisel”. He recently starred in Guy Ritchie’s “Operation Fortune: Ruse de Guerre”\, and “Mission Impossible: Dead Reckoning.” \nNow Elwes is hitting the road to share with fans the personal stories behind the making of this piece of cinematic history. \nDon’t be a “Humperdinck”\, make haste to see The Princess Bride: An Inconceivable Evening with Cary Elwes for a night you will always “tweasure”. \nA limited number of VIP packages are available and include the best seats in the house\, a Meet and Greet with Cary Elwes\, and a signed copy of Cary Elwes best-selling book\, As You Wish: Inconceivable Tales from the Making of The Princess Bride. \nThe pre-show Meet and Greet will take place at 4pm sharp.  Patrons must arrive at the venue at least 15 minutes before the start time.  Late arrivals cannot be accommodated. \nBUY TICKETS
URL:https://nitelite.com/event/cary-elwes-chicago/
LOCATION:The Auditorium\, 50 East Ida B. Wells Drive\, Chicago\, IL\, 60605\, United States
CATEGORIES:All Events,Entertaiment,Event,Upcoming Events
ATTACH;FMTTYPE=image/jpeg:https://nitelite.com/wp-content/uploads/2025/05/thumbnail_PBride-Chicago-1200x628-02.jpg
ORGANIZER;CN="NiteLite Promotions":MAILTO:events@nitelite.com
END:VEVENT
BEGIN:VEVENT
DTSTART;TZID=America/Chicago:20250719T193000
DTEND;TZID=America/Chicago:20250719T193000
DTSTAMP:20260423T183731
CREATED:20250321T220506Z
LAST-MODIFIED:20250520T221526Z
UID:10000370-1752953400-1752953400@nitelite.com
SUMMARY:Lyle Lovett and his Large Band
DESCRIPTION:Lyle Lovett and his Large Band appear on July 19\, 2025 at 7:30PM at The Auditorium in Chicago\, IL! \nA singer\, composer and actor\, Lyle Lovett has broadened the definition of American music in a career that spans 14 albums. Coupled with his gift for storytelling\, the Texas-based musician fuses elements of country\, swing\, jazz\, folk\, gospel and blues in a convention-defying manner that breaks down barriers. \nWhether touring as a ‘Duo’ or with his ‘Acoustic Group’ or his ‘Large Band\,’ Lovett’s live performances show not only the breadth of this Texas legend’s deep talents\, but also the diversity of his influences\, making him one of the most compelling and captivating musicians in popular music. \nSince his self-titled debut in 1986\, Lyle Lovett has evolved into one of music’s most vibrant and iconic performers. Among his many accolades\, besides the four Grammy Awards\, he was given the Americana Music Association’s inaugural Trailblazer Award\, and was named Texas State Musician. \nHis works\, rich and eclectic\, are some of the most beloved of any artist working today. \nBUY TICKETS
URL:https://nitelite.com/event/lyle-lovett-and-his-large-band-chicago-il-2/
LOCATION:The Auditorium\, 50 East Ida B. Wells Drive\, Chicago\, IL\, 60605\, United States
CATEGORIES:All Events,Entertaiment,Event,Live Music,Upcoming Events
ATTACH;FMTTYPE=image/jpeg:https://nitelite.com/wp-content/uploads/2025/03/LLovett-Chicago-1200x628-02.3.jpg
END:VEVENT
BEGIN:VEVENT
DTSTART;TZID=America/Chicago:20241123T193000
DTEND;TZID=America/Chicago:20241123T193000
DTSTAMP:20260423T183731
CREATED:20240424T115648Z
LAST-MODIFIED:20240424T115853Z
UID:10000321-1732390200-1732390200@nitelite.com
SUMMARY:Bored Teachers:  The Struggle is Real! Comedy Tour
DESCRIPTION:Bored Teachers:  The Struggle is Real! Comedy Tour appears at the Auditorium Theatre in Chicago\, IL on November 23 at 7:30PM! \nBORED TEACHERS are back with all new material in their 2024 “The Struggle is Real!!” Comedy Tour. For years\, Bored Teachers Studios has brought humor to teachers around the world to ease their day-to-day struggles in the classroom. They’ve amassed over a billion views of their viral videos on social media and are the #1 ranked teacher-comedy podcast — and #6 of all Stand Up Comedy shows on Apple Podcasts. \nBORED TEACHERS was launched over 8 years ago by founders James and Marilou Tarantino\, both classroom teachers and avid travelers who had met teachers from all over the world who experienced similar struggles and frustrations. The Tarantinos formed a community of their own on social media that shared—in humorous skits\, memes\, and articles—the real experiences of teachers everywhere and how undervalued they are. These stories were so relatable that the BORED TEACHERS creative team grew into a production powerhouse garnishing tens of millions of views for every skit\, story\, and podcast clip posted to the BORED TEACHERS channel. \nBORED TEACHERS is the #1 teacher-entertainment media company in the world. With more than 10 million followers\, BORED TEACHERS is a “one stop shop” for laughter\, stress relief\, and advocacy on behalf of educators. They shine a light on global issues in education through comedy\, and teachers everywhere subscribe to BORED TEACHERS for the relatable teacher humor presented in their viral comedy tour\, hilarious skits\, sarcastic social posts\, classroom anecdotes\, top-of-the-charts podcasts\, and comic articles. \nPlease note that PG-13 language is used during some sets. \nBuy Tickets: https://www.ticketmaster.com/bored-teachers-the-struggle-is-real-chicago-illinois-11-23-2024/event/07006088CC13181A
URL:https://nitelite.com/event/bored-teachers-chicago-il/
LOCATION:The Auditorium\, 50 East Ida B. Wells Drive\, Chicago\, IL\, 60605\, United States
CATEGORIES:All Events,Comedy,Entertaiment,Event,Upcoming Events
ATTACH;FMTTYPE=image/jpeg:https://nitelite.com/wp-content/uploads/2024/04/BoredTeachers.Chicago.3.jpg
END:VEVENT
BEGIN:VEVENT
DTSTART;TZID=America/Chicago:20240406T200000
DTEND;TZID=America/Chicago:20240406T200000
DTSTAMP:20260423T183731
CREATED:20231117T234707Z
LAST-MODIFIED:20231117T234755Z
UID:10000284-1712433600-1712433600@nitelite.com
SUMMARY:Croce Plays Croce 50th Anniversary Tour
DESCRIPTION:Croce Plays Croce 50th Anniversary Tour appears at the Auditorium Theatre in Chicago\, IL on April 6 at 8PM! \nMulti-faceted singer/songwriter A.J. Croce is hitting the road again in celebration of two more of his father Jim Croce’s legendary albums\, 1973’s Life and Times and his final release\, I Got A Name\, in addition to songs from You Don’t Mess Around With Jim. The much-anticipated fall tour\, Croce Plays Croce 50th Anniversary features a legendary band (including drummer Gary Mallaber\, bassist David Barard\, guitar/violin James Pennebaker) and a moving multi-media presentation accompanying Jim’s songs (which on the previous tour included memorable hits\, “Operator (That’s Not the Way It Feels)”\, “Time in a Bottle\,” and others). It was fan-demand for more\, and the camaraderie that A.J. felt with the audience\, the players\, and the connection to his father’s timeless music that inspired A.J. to embark on the 50th Anniversary tour. \nGet Tickets:  https://www.ticketmaster.com/event/07005F0AC3FC2BD1
URL:https://nitelite.com/event/croce-plays-croce-chicago-il/
LOCATION:The Auditorium\, 50 East Ida B. Wells Drive\, Chicago\, IL\, 60605\, United States
CATEGORIES:All Events,Entertaiment,Event,Live Music,Upcoming Events
ATTACH;FMTTYPE=image/jpeg:https://nitelite.com/wp-content/uploads/2023/11/CPC1200x628withINFO.jpg
END:VEVENT
END:VCALENDAR