BEGIN:VCALENDAR
VERSION:2.0
PRODID:-//NiteLite Promotions - ECPv6.15.20//NONSGML v1.0//EN
CALSCALE:GREGORIAN
METHOD:PUBLISH
X-ORIGINAL-URL:https://nitelite.com
X-WR-CALDESC:Events for NiteLite Promotions
REFRESH-INTERVAL;VALUE=DURATION:PT1H
X-Robots-Tag:noindex
X-PUBLISHED-TTL:PT1H
BEGIN:VTIMEZONE
TZID:America/Chicago
BEGIN:DAYLIGHT
TZOFFSETFROM:-0600
TZOFFSETTO:-0500
TZNAME:CDT
DTSTART:20240310T080000
END:DAYLIGHT
BEGIN:STANDARD
TZOFFSETFROM:-0500
TZOFFSETTO:-0600
TZNAME:CST
DTSTART:20241103T070000
END:STANDARD
BEGIN:DAYLIGHT
TZOFFSETFROM:-0600
TZOFFSETTO:-0500
TZNAME:CDT
DTSTART:20250309T080000
END:DAYLIGHT
BEGIN:STANDARD
TZOFFSETFROM:-0500
TZOFFSETTO:-0600
TZNAME:CST
DTSTART:20251102T070000
END:STANDARD
BEGIN:DAYLIGHT
TZOFFSETFROM:-0600
TZOFFSETTO:-0500
TZNAME:CDT
DTSTART:20260308T080000
END:DAYLIGHT
BEGIN:STANDARD
TZOFFSETFROM:-0500
TZOFFSETTO:-0600
TZNAME:CST
DTSTART:20261101T070000
END:STANDARD
END:VTIMEZONE
BEGIN:VEVENT
DTSTART;TZID=America/Chicago:20250322T200000
DTEND;TZID=America/Chicago:20250322T200000
DTSTAMP:20260423T204327
CREATED:20240924T154045Z
LAST-MODIFIED:20240924T154045Z
UID:10000336-1742673600-1742673600@nitelite.com
SUMMARY:Charlie Berens:  Good Old Fashioned Tour
DESCRIPTION:Charlie Berens:  Good Old Fashioned Tour appears at the Alliant Energy Powerhouse in Cedar Rapids\, IA on March 22 at 8PM! \nCharlie Berens is a comedian\, New York Times Best Selling Author\, Emmy-winning journalist\, musician and creator of the Manitowoc Minute. He creates weekly content for his various social platforms and has amassed over 9 million followers. \nIn 2017\, Charlie began hosting his weekly comedic online news show\, the Manitowoc Minute. Since then\, Charlie’s been creating Midwest-focused sketch comedy videos on his social media platforms. He’s also traveled the country with three sold out stand-up comedy tours. \nIn 2020\, Charlie paired up with Horseshoes & Hand Grenades alum Adam Greuel to release the music/comedy album\, Unthawed. The album\, which is a mixture of bluegrass\, country and Charlie’s comedy\, hit #1 on the Billboard Bluegrass chart and #6 on the Bluegrass Comedy chart. The duo followed that up with Dive Bar Dinner in 2023\, which also charted on the Billboard Charts. \nCharlie’s first book\, The Midwest Survival Guide\, was released in November of 2021 by William Morrow/Harper Collins and immediately became a New York Times Best Seller! ABC is currently developing a half-hour comedy based on the book. His Midwest Survival Guide Tour sold over 150\,000 tickets! \n2023 also saw the release of his first stand-up special\, Charlie Berens: Midwest Goodbye. \nCharlie just launched his very own brandy! Berens Old Fashioned Brandy is being producing by the Dancing Goat distillery and is in stores now! \nCharlie hosts the Cripescast podcast where he interviews musicians\, artists\, comedians\, creators and more to talk about their story and connections to the Midwest. Guests have included Nate Bargatze\, Michael Yo\, Kim and Penn Holderness\, Jeff Foxworthy\, and Roy Wood\, Jr. \nIn addition to Cripescast\, Charlie co-hosts the Bellied Up podcast w/ Myles the You Betcha guy. Every Thursday\, Charlie and Myles belly up at a small town bar and take live callers from all over the Midwest and rest of the world. \nCharlie is currently touring America on his Good Old Fashioned Tour! \nTickets on sale Friday at 10am!
URL:https://nitelite.com/event/charlie-berens-cedar-rapids/
LOCATION:Alliant Energy Powerhouse\, 370 1st Ave NE\, Cedar Rapids\, IA\, 52401\, United States
CATEGORIES:All Events,Comedy,Entertaiment,Event,Upcoming Events
ATTACH;FMTTYPE=image/jpeg:https://nitelite.com/wp-content/uploads/2024/09/Berens-CRapids-1200X628-01.jpg
END:VEVENT
END:VCALENDAR