BEGIN:VCALENDAR
VERSION:2.0
PRODID:-//NiteLite Promotions - ECPv6.15.20//NONSGML v1.0//EN
CALSCALE:GREGORIAN
METHOD:PUBLISH
X-ORIGINAL-URL:https://nitelite.com
X-WR-CALDESC:Events for NiteLite Promotions
REFRESH-INTERVAL;VALUE=DURATION:PT1H
X-Robots-Tag:noindex
X-PUBLISHED-TTL:PT1H
BEGIN:VTIMEZONE
TZID:America/Chicago
BEGIN:DAYLIGHT
TZOFFSETFROM:-0600
TZOFFSETTO:-0500
TZNAME:CDT
DTSTART:20240310T080000
END:DAYLIGHT
BEGIN:STANDARD
TZOFFSETFROM:-0500
TZOFFSETTO:-0600
TZNAME:CST
DTSTART:20241103T070000
END:STANDARD
BEGIN:DAYLIGHT
TZOFFSETFROM:-0600
TZOFFSETTO:-0500
TZNAME:CDT
DTSTART:20250309T080000
END:DAYLIGHT
BEGIN:STANDARD
TZOFFSETFROM:-0500
TZOFFSETTO:-0600
TZNAME:CST
DTSTART:20251102T070000
END:STANDARD
BEGIN:DAYLIGHT
TZOFFSETFROM:-0600
TZOFFSETTO:-0500
TZNAME:CDT
DTSTART:20260308T080000
END:DAYLIGHT
BEGIN:STANDARD
TZOFFSETFROM:-0500
TZOFFSETTO:-0600
TZNAME:CST
DTSTART:20261101T070000
END:STANDARD
END:VTIMEZONE
BEGIN:VEVENT
DTSTART;TZID=America/Chicago:20250326T193000
DTEND;TZID=America/Chicago:20250326T193000
DTSTAMP:20260424T191229
CREATED:20241119T211334Z
LAST-MODIFIED:20241119T211334Z
UID:10000351-1743017400-1743017400@nitelite.com
SUMMARY:One Night of Queen
DESCRIPTION:One Night of Queen appears on March 26\, 2025 at 7:30pm at the Fox Cities Performing Arts Center in Appleton\, WI! \n“More than a likeness.” – Brian May\, Queen \nCelebrating the 40th anniversary of Queen’s ‘The Works Tour’. \nFor over 20 years Gary Mullen and The Works have been performing their world-renowned One Night of Queen live concert. \nGary Mullen & The Works featuring Gary Mullen on vocals\, David Brockett on guitar\, Malcolm Gentles on keyboards\, Jon Halliwell on drums and Alan McGeoch on bass guitar will have you dancing in the aisles during their show\, while the band pays tribute to the stage theatrics\, showmanship\, and music of arguably the greatest rock band of all time: Queen. \nIn 2000\, Gary Mullen won the Granada TV programme “Stars in Their Eyes” with his performance as Queen’s lead singer: Freddie Mercury. Mullen’s embodiment of Freddie Mercury resulted in him gaining 864\,838 votes in the show’s Live Grand Final. The number of fans who voted for Mullen was more than double that of the runner-up\, thus setting the all time record number of votes in the history of the program. \nFor over two decades\, Gary Mullen & The Works have performed to audiences around the world\, playing more than 2\,500 live shows to audiences in over 20 countries – performing and selling out many of the same venues that Queen have\, all around the world. As of 2023\, they are the most successful tribute band in France\, playing to over 250\,000 people! \nThey WILL ROCK YOU and are GUARANTEED TO BLOW YOUR MIND! Don’t miss your chance to celebrate One Night Of Queen with Gary Mullen & The Works! The Show DOES go on! \nBuy Tickets:  Fox C
URL:https://nitelite.com/event/one-night-of-queen-appleton-wi/
LOCATION:Fox Cities Performing Arts Center\, 400 West College Avenue\, Appleton\, WI\, 54911\, United States
CATEGORIES:All Events,Entertaiment,Event,Live Music,Tribute Acts,Upcoming Events
ATTACH;FMTTYPE=image/jpeg:https://nitelite.com/wp-content/uploads/2024/11/ONOQueen-Appleton-1200x628-02.jpg
END:VEVENT
END:VCALENDAR