BEGIN:VCALENDAR
VERSION:2.0
PRODID:-//NiteLite Promotions - ECPv6.15.20//NONSGML v1.0//EN
CALSCALE:GREGORIAN
METHOD:PUBLISH
X-ORIGINAL-URL:https://nitelite.com
X-WR-CALDESC:Events for NiteLite Promotions
REFRESH-INTERVAL;VALUE=DURATION:PT1H
X-Robots-Tag:noindex
X-PUBLISHED-TTL:PT1H
BEGIN:VTIMEZONE
TZID:America/Chicago
BEGIN:DAYLIGHT
TZOFFSETFROM:-0600
TZOFFSETTO:-0500
TZNAME:CDT
DTSTART:20230312T080000
END:DAYLIGHT
BEGIN:STANDARD
TZOFFSETFROM:-0500
TZOFFSETTO:-0600
TZNAME:CST
DTSTART:20231105T070000
END:STANDARD
BEGIN:DAYLIGHT
TZOFFSETFROM:-0600
TZOFFSETTO:-0500
TZNAME:CDT
DTSTART:20240310T080000
END:DAYLIGHT
BEGIN:STANDARD
TZOFFSETFROM:-0500
TZOFFSETTO:-0600
TZNAME:CST
DTSTART:20241103T070000
END:STANDARD
BEGIN:DAYLIGHT
TZOFFSETFROM:-0600
TZOFFSETTO:-0500
TZNAME:CDT
DTSTART:20250309T080000
END:DAYLIGHT
BEGIN:STANDARD
TZOFFSETFROM:-0500
TZOFFSETTO:-0600
TZNAME:CST
DTSTART:20251102T070000
END:STANDARD
END:VTIMEZONE
BEGIN:VEVENT
DTSTART;TZID=America/Chicago:20241101T190000
DTEND;TZID=America/Chicago:20241101T190000
DTSTAMP:20260425T105235
CREATED:20240322T212100Z
LAST-MODIFIED:20240322T212105Z
UID:10000305-1730487600-1730487600@nitelite.com
SUMMARY:Wheel of Fortune Live!
DESCRIPTION:Wheel of Fortune Live!  appears at the Fox Cities Performing Arts Center in Appleton\, WI on November 1 at 7PM! \nWheel of Fortune LIVE! – America’s Game® comes to the Fox Cities! Contestants are randomly selected from the audience to join our host onstage and spin a replica of the iconic Wheel\, solve puzzles\, and WIN incredible prizes like trips to Paris and Hawaii or BIG MONEY up to $10\,000 in cash. Audience members can join in on the fun with interactive games and puzzles! You won’t want to miss this thrilling live experience! \nOFFICIAL RULES \nBuy Tickets:  https://www.ticketmaster.com/wheel-of-fortune-live-appleton-wisconsin-11-01-2024/event/0700606BC7593191 \n 
URL:https://nitelite.com/event/wheel-of-fortune-live-appleton-wi/
LOCATION:Fox Cities Performing Arts Center\, 400 West College Avenue\, Appleton\, WI\, 54911\, United States
CATEGORIES:All Events,Entertaiment,Event,Upcoming Events
ATTACH;FMTTYPE=image/jpeg:https://nitelite.com/wp-content/uploads/2024/03/WOFortune-Appleton-1200x628-02.jpg
END:VEVENT
BEGIN:VEVENT
DTSTART;TZID=America/Chicago:20241101T200000
DTEND;TZID=America/Chicago:20241101T200000
DTSTAMP:20260425T105235
CREATED:20240413T043702Z
LAST-MODIFIED:20240413T043707Z
UID:10000318-1730491200-1730491200@nitelite.com
SUMMARY:Charlie Berens:  Good Old Fashioned Tour
DESCRIPTION:Charlie Berens:  Good Old Fashioned Tour appears at the La Crosse Center in La Crosse\, WI on November 1 at 8PM! \nCHARLIE BERENS is a comedian\, New York Times Best Selling Author\, Emmy-winning journalist\, musician and creator of the Manitowoc Minute. The Wisconsin native has been featured on Comedy Central\, Fox\, CBS\, Funny or Die\, TBS\, Variety\, MTV News and more. He creates weekly content for his various social platforms and has amassed over 7.5 million followers. \nCharlie began his career working for MTV News’ Choose or Lose. After that he worked in front and behind the camera for emerging YouTube news channels. In 2012\, Tribune Media tapped Charlie to host the comedic news show Nightcap. In 2013 he won an Emmy for “The Cost of Water” while reporting for KDAF. \nIn 2017\, Charlie began hosting his weekly comedic online news show\, the Manitowoc Minute. Since then\, Charlie’s been creating Midwest-focused sketch comedy videos on his social media platforms. He’s also traveled the country with three sold out stand-up comedy tours. \nIn 2020\, Charlie paired up with Horseshoes & Hand Grenades alum Adam Greul to release the music/comedy album\, Unthawed. The album\, which is a mixture of bluegrass\, country and Charlie’s comedy\, hit #1 on the Billboard Bluegrass chart and #6 on the Bluegrass Comedy chart. Charlie’s first book\, The Midwest Survival Guide\, was released in November of 2021 by William Morrow/Harper Collins and immediately became a New York Times Best Seller! Charlie is currently on his third stand-up tour in support of the book’s release. His Midwest Survival Guide Tour sold over 150\,000 tickets! Charlie hosts the Cripescast podcast where he interviews musicians\, artists\, comedians\, creators and more to talk about their story and connections to the Midwest. Guests have included Jeff Foxworthy\, Nate Bargatze and Roy Wood\, Jr. \nBuy Tickets: https://www.ticketmaster.com/charlie-berens-la-crosse-wisconsin-11-01-2024/event/07006086E6BC57EB
URL:https://nitelite.com/event/charlie-berens-la-crosse-wi/
LOCATION:La Crosse Center\, 300 Harborview Plaza\, La Crosse\, WI\, 54601\, United States
CATEGORIES:All Events,Comedy,Entertaiment,Event,Upcoming Events
ATTACH;FMTTYPE=image/jpeg:https://nitelite.com/wp-content/uploads/2024/04/Berens-LaCrosse-1200x628-01.jpg
END:VEVENT
BEGIN:VEVENT
DTSTART;TZID=America/Chicago:20241102T193000
DTEND;TZID=America/Chicago:20241102T193000
DTSTAMP:20260425T105235
CREATED:20240322T213018Z
LAST-MODIFIED:20240322T213119Z
UID:10000307-1730575800-1730575800@nitelite.com
SUMMARY:Kansas: 50th Anniversary Tour - Another Fork In The Road
DESCRIPTION:Kansas: 50th Anniversary Tour – Another Fork In The Road appears at the Fox Cities Performing Arts Center in Appleton\, WI on November 2 at 7:30PM! \nWith a legendary career spanning five decades\, KANSAS has firmly established itself as one of America’s iconic classic rock bands. This “garage band” from Topeka released their debut album in 1974 after being discovered by Wally Gold\, who worked for Don Kirshner\, and have gone on to sell more than 30 million albums worldwide. \nComposing a catalogue that includes sixteen studio albums and five live albums\, KANSAS has produced eight gold albums\, three sextuple-Platinum albums (Leftoverture\, Point of Know Return\, Best of KANSAS)\, one platinum live album (Two for the Show)\, one quadruple-Platinum single ‘Carry On Wayward Son\,’ and another triple-Platinum single ‘Dust in the Wind.’ KANSAS appeared on the Billboard charts for over 200 weeks throughout the ‘70’s and ‘80’s and played to sold-out arenas and stadiums throughout North America\, Europe and Japan. ‘Carry On Wayward Son’ continues to be one of the top five most played songs on classic rock radio\, and ‘Dust In the Wind’ has been played on the radio more than three million times! \nThe summer of 2020 marked the release of “The Absence of Presence\,” KANSAS’s sixteenth studio album\, which debuted at #10 on Billboard’s Top Current Albums chart. The wide-ranging progressive rock album\, released by InsideOut Music\, follows-up 2016’s “The Prelude Implicit\,” which debuted at #14 on Billboard’s Top 200 Albums chart. \nThroughout 2016-2022\, the band celebrated the anniversaries of multi-Platinum breakout albums “Leftoverture” and “Point of Know Return” with anniversary tours for both albums. Both tours were commemorated with live album releases “Leftoverture Live & Beyond” (2017) & “Point of Know Return Live & Beyond” (2021). \nThe band is currently comprised of original drummer Phil Ehart\, bassist/vocalist Billy Greer\, vocalist/keyboardist Ronnie Platt\, keyboardist/vocalist Tom Brislin\, violinist/guitarist Joe Deninzon\, and original guitarist Richard Williams. With no signs of slowing down\, KANSAS continues to perform in front of large and enthusiastic audiences. \nAlong with constant touring\, KANSAS continues to remain a fixture of Classic Rock radio and popular culture. The band continues to reach a whole new audience through their unmistakable presence in various commercials\, live sports broadcasts\, popular video games Rock Band\, Guitar Hero\, and Grand Theft Auto; the band’s documentary film “KANSAS: Miracles Out of Nowhere\,” and a guest appearance on The CW’s television show ‘Walker.’ The band’s songs have also been included in various television shows such as ‘Supernatural\,’ ‘Reacher\,’ ‘All Elite Wrestling\,’ ‘South Park\,’ ‘The Office\,’ and ‘The Simpsons;’ as well as blockbuster films including ‘Old School\,’ ‘The Suicide Squad\,’ ‘Anchorman\,’ ‘Pitch Perfect\,’ and ‘Happy Gilmore.’ \nBuy Tickets: https://www.ticketmaster.com/kansas-50th-anniversary-tour-another-fork-appleton-wisconsin-11-02-2024/event/0700606CCCDF29B3
URL:https://nitelite.com/event/kansas-50th-anniversary-tour-another-fork-in-the-road/
LOCATION:Fox Cities Performing Arts Center\, 400 West College Avenue\, Appleton\, WI\, 54911\, United States
CATEGORIES:All Events,Entertaiment,Event,Live Music,Rock Music,Upcoming Events
ATTACH;FMTTYPE=image/jpeg:https://nitelite.com/wp-content/uploads/2024/03/Kansas-Rockford-1200x628-01.jpg
END:VEVENT
BEGIN:VEVENT
DTSTART;TZID=America/Chicago:20241102T200000
DTEND;TZID=America/Chicago:20241102T200000
DTSTAMP:20260425T105235
CREATED:20240621T220957Z
LAST-MODIFIED:20240621T220957Z
UID:10000329-1730577600-1730577600@nitelite.com
SUMMARY:Charlie Berens:  Good Old Fashioned Tour
DESCRIPTION:Charlie Berens:  Good Old Fashioned Tour appears at the La Crosse Center in La Crosse\, WI on November 2 at 8PM! \nCHARLIE BERENS is a comedian\, New York Times Best Selling Author\, Emmy-winning journalist\, musician and creator of the Manitowoc Minute. The Wisconsin native has been featured on Comedy Central\, Fox\, CBS\, Funny or Die\, TBS\, Variety\, MTV News and more. He creates weekly content for his various social platforms and has amassed over 7.5 million followers. \nCharlie began his career working for MTV News’ Choose or Lose. After that he worked in front and behind the camera for emerging YouTube news channels. In 2012\, Tribune Media tapped Charlie to host the comedic news show Nightcap. In 2013 he won an Emmy for “The Cost of Water” while reporting for KDAF. \nIn 2017\, Charlie began hosting his weekly comedic online news show\, the Manitowoc Minute. Since then\, Charlie’s been creating Midwest-focused sketch comedy videos on his social media platforms. He’s also traveled the country with three sold out stand-up comedy tours. \nIn 2020\, Charlie paired up with Horseshoes & Hand Grenades alum Adam Greuel to release the music/comedy album\, Unthawed. The album\, which is a mixture of bluegrass\, country and Charlie’s comedy\, hit #1 on the Billboard Bluegrass chart and #6 on the Bluegrass Comedy chart. Charlie’s first book\, The Midwest Survival Guide\, was released in November of 2021 by William Morrow/Harper Collins and immediately became a New York Times Best Seller! Charlie is currently on his third stand-up tour in support of the book’s release. His Midwest Survival Guide Tour sold over 150\,000 tickets! Charlie hosts the Cripescast podcast where he interviews musicians\, artists\, comedians\, creators and more to talk about their story and connections to the Midwest. Guests have included Jeff Foxworthy\, Nate Bargatze and Roy Wood\, Jr. \nBuy Tickets
URL:https://nitelite.com/event/charlie-berens-la-crosse-wi-second-show/
LOCATION:La Crosse Center\, 300 Harborview Plaza\, La Crosse\, WI\, 54601\, United States
CATEGORIES:All Events,Comedy,Entertaiment,Event,Upcoming Events
ATTACH;FMTTYPE=image/jpeg:https://nitelite.com/wp-content/uploads/2024/06/Berens-LaCrosse-1920x1005-02.jpg
END:VEVENT
BEGIN:VEVENT
DTSTART;TZID=America/Chicago:20241106T190000
DTEND;TZID=America/Chicago:20241106T190000
DTSTAMP:20260425T105235
CREATED:20240722T195459Z
LAST-MODIFIED:20240722T195459Z
UID:10000332-1730919600-1730919600@nitelite.com
SUMMARY:Straight No Chaser:  Top Shelf Tour
DESCRIPTION:Straight No Chaser:  Top Shelf Tour appears on November 6 at 7PM at the Overture Center in Madison\, WI! \nIf the phrase “male a cappella group” conjures up an image of students in blue blazers\, ties\, and khakis singing traditional college songs on ivied campuses… think again. Straight No Chaser (SNC) are neither strait-laced nor straight-faced\, but neither are they vaudeville-style kitsch. They have emerged as a phenomenon with a massive fanbase and a long list of accomplishments including 2 RIAA Gold Certified albums\, over 1.5 million concert tickets sold\, over 1 billion streams on Pandora\, and over 2 million albums sold worldwide. Straight No Chaser is the real deal\, the captivating sound of nine unadulterated human voices coming together to make extraordinary music that is moving people in a fundamental sense… and with a sense of humor. \nSingle tickets go on sale Friday\, 7/26 at 11am!
URL:https://nitelite.com/event/straight-no-chaser-madison-wi-2/
LOCATION:Overture Center for the Arts\, 201 State Street\, Madison\, WI\, 53703\, United States
CATEGORIES:All Events,Entertaiment,Event,Live Music,Upcoming Events
ATTACH;FMTTYPE=image/jpeg:https://nitelite.com/wp-content/uploads/2024/07/SNC-Madison-1200x628-01.jpg
END:VEVENT
END:VCALENDAR