BEGIN:VCALENDAR
VERSION:2.0
PRODID:-//NiteLite Promotions - ECPv6.15.20//NONSGML v1.0//EN
CALSCALE:GREGORIAN
METHOD:PUBLISH
X-WR-CALNAME:NiteLite Promotions
X-ORIGINAL-URL:https://nitelite.com
X-WR-CALDESC:Events for NiteLite Promotions
REFRESH-INTERVAL;VALUE=DURATION:PT1H
X-Robots-Tag:noindex
X-PUBLISHED-TTL:PT1H
BEGIN:VTIMEZONE
TZID:America/Chicago
BEGIN:DAYLIGHT
TZOFFSETFROM:-0600
TZOFFSETTO:-0500
TZNAME:CDT
DTSTART:20230312T080000
END:DAYLIGHT
BEGIN:STANDARD
TZOFFSETFROM:-0500
TZOFFSETTO:-0600
TZNAME:CST
DTSTART:20231105T070000
END:STANDARD
BEGIN:DAYLIGHT
TZOFFSETFROM:-0600
TZOFFSETTO:-0500
TZNAME:CDT
DTSTART:20240310T080000
END:DAYLIGHT
BEGIN:STANDARD
TZOFFSETFROM:-0500
TZOFFSETTO:-0600
TZNAME:CST
DTSTART:20241103T070000
END:STANDARD
BEGIN:DAYLIGHT
TZOFFSETFROM:-0600
TZOFFSETTO:-0500
TZNAME:CDT
DTSTART:20250309T080000
END:DAYLIGHT
BEGIN:STANDARD
TZOFFSETFROM:-0500
TZOFFSETTO:-0600
TZNAME:CST
DTSTART:20251102T070000
END:STANDARD
END:VTIMEZONE
BEGIN:VEVENT
DTSTART;TZID=America/Chicago:20240302T150000
DTEND;TZID=America/Chicago:20240302T150000
DTSTAMP:20260425T225058
CREATED:20231117T232951Z
LAST-MODIFIED:20231117T232951Z
UID:10000280-1709391600-1709391600@nitelite.com
SUMMARY:The Price is Right Live!
DESCRIPTION:The Price is Right Live! is coming to the Chicago Theatre in Chicago\, IL on March 2 at 3PM! \nThe Price Is Right Live™ is the hit interactive stage show that gives eligible individuals the chance to hear their names called and “Come On Down” to win.  Prizes may include appliances\, vacations and possibly a new car!  Play classic games just like on television’s longest running and most popular gameshow…from Plinko™ to Cliffhangers™ to The Big Wheel™ and even the fabulous Showcase.  Playing to near sold-out audiences for more than 20 years\, the Price Is Right Live™ has entertained millions of guests and given away more than 15 million dollars in cash and prizes.  If you’re a fan of The Price Is Right™ on TV\, you’ll no doubt love this exciting\, live (non-televised)\, on-stage version of the show! \nNO PURCHASE NECESSARY. Open to US & Canada legal residents\, 18+ (Residents of PR & Quebec ineligible to participate as contestants). For complete rules & regulations\, including eligibility requirements & free method of entry\, visit https://priceisrightlive.com/rules/ thru 3/2/2024. Void where prohibited. Price is Right Live: ®/© 2023 FremantleMedia Netherlands. All Rights Reserved. \nGet Tickets:  https://www.ticketmaster.com/the-price-is-right-live-chicago-illinois-03-02-2024/event/07005F44B27E1F5B
URL:https://nitelite.com/event/the-price-is-right-live-chicago-il/
LOCATION:The Chicago Theatre\, 175 N. State Street\, Chicago\, IL\, 60601\, United States
CATEGORIES:All Events,Entertaiment,Event,Upcoming Events
ATTACH;FMTTYPE=image/jpeg:https://nitelite.com/wp-content/uploads/2023/11/240302_TCT_TPISL_Twitter_1920x1080-1.jpg
END:VEVENT
BEGIN:VEVENT
DTSTART;TZID=America/Chicago:20240302T193000
DTEND;TZID=America/Chicago:20240302T193000
DTSTAMP:20260425T225058
CREATED:20231117T233218Z
LAST-MODIFIED:20231117T233218Z
UID:10000281-1709407800-1709407800@nitelite.com
SUMMARY:The Price is Right Live!
DESCRIPTION:The Price is Right Live! is coming to the Chicago Theatre in Chicago\, IL on March 2 at 7:30PM! \nThe Price Is Right Live™ is the hit interactive stage show that gives eligible individuals the chance to hear their names called and “Come On Down” to win.  Prizes may include appliances\, vacations and possibly a new car!  Play classic games just like on television’s longest running and most popular gameshow…from Plinko™ to Cliffhangers™ to The Big Wheel™ and even the fabulous Showcase.  Playing to near sold-out audiences for more than 20 years\, the Price Is Right Live™ has entertained millions of guests and given away more than 15 million dollars in cash and prizes.  If you’re a fan of The Price Is Right™ on TV\, you’ll no doubt love this exciting\, live (non-televised)\, on-stage version of the show! \nNO PURCHASE NECESSARY. Open to US & Canada legal residents\, 18+ (Residents of PR & Quebec ineligible to participate as contestants). For complete rules & regulations\, including eligibility requirements & free method of entry\, visit https://priceisrightlive.com/rules/ thru 3/2/2024. Void where prohibited. Price is Right Live: ®/© 2023 FremantleMedia Netherlands. All Rights Reserved. \nGet Tickets:  https://www.ticketmaster.com/the-price-is-right-live-chicago-illinois-03-02-2024/event/07005F44B27E1F5B
URL:https://nitelite.com/event/the-price-is-right-live-chicago-il-second-show/
LOCATION:The Chicago Theatre\, 175 N. State Street\, Chicago\, IL\, 60601\, United States
CATEGORIES:All Events,Entertaiment,Event,Upcoming Events
ATTACH;FMTTYPE=image/jpeg:https://nitelite.com/wp-content/uploads/2023/11/240302_TCT_TPISL_Twitter_1920x1080-1.jpg
END:VEVENT
BEGIN:VEVENT
DTSTART;TZID=America/Chicago:20240316T193000
DTEND;TZID=America/Chicago:20240316T193000
DTSTAMP:20260425T225058
CREATED:20231022T015108Z
LAST-MODIFIED:20231022T015108Z
UID:10000262-1710617400-1710617400@nitelite.com
SUMMARY:The Price is Right Live
DESCRIPTION:The Price is Right Live is coming to the Fox Cities Performing Arts Center in Appleton\, WI on March 16 at 7:30PM! \nThe Price Is Right Live™ is the hit interactive stage show that gives eligible individuals the chance to hear their names called and “Come On Down” to win.  Prizes may include appliances\, vacations and possibly a new car!  Play classic games just like on television’s longest running and most popular gameshow…from Plinko™ to Cliffhangers™ to The Big Wheel™ and even the fabulous Showcase.  Playing to near sold-out audiences for more than 20 years\, the Price Is Right Live™ has entertained millions of guests and given away more than 15 million dollars in cash and prizes.  If you’re a fan of The Price Is Right™ on TV\, you’ll no doubt love this exciting\, live (non-televised)\, on-stage version of the show! \nOFFICIAL RULES \nBuy tickets:  Fox Cities PAC – Appleton\, WI | Tickets\, 2023-2024 Event Schedule\, Seating Chart (ticketmaster.com)
URL:https://nitelite.com/event/the-price-is-right-live-appleton-wi/
LOCATION:Fox Cities Performing Arts Center\, 400 West College Avenue\, Appleton\, WI\, 54911\, United States
CATEGORIES:All Events,Entertaiment,Event,Upcoming Events
ATTACH;FMTTYPE=image/jpeg:https://nitelite.com/wp-content/uploads/2023/10/PIRL.Appleton.7.jpg
END:VEVENT
END:VCALENDAR