BEGIN:VCALENDAR
VERSION:2.0
PRODID:-//NiteLite Promotions - ECPv6.15.20//NONSGML v1.0//EN
CALSCALE:GREGORIAN
METHOD:PUBLISH
X-ORIGINAL-URL:https://nitelite.com
X-WR-CALDESC:Events for NiteLite Promotions
REFRESH-INTERVAL;VALUE=DURATION:PT1H
X-Robots-Tag:noindex
X-PUBLISHED-TTL:PT1H
BEGIN:VTIMEZONE
TZID:America/Chicago
BEGIN:DAYLIGHT
TZOFFSETFROM:-0600
TZOFFSETTO:-0500
TZNAME:CDT
DTSTART:20250309T080000
END:DAYLIGHT
BEGIN:STANDARD
TZOFFSETFROM:-0500
TZOFFSETTO:-0600
TZNAME:CST
DTSTART:20251102T070000
END:STANDARD
BEGIN:DAYLIGHT
TZOFFSETFROM:-0600
TZOFFSETTO:-0500
TZNAME:CDT
DTSTART:20260308T080000
END:DAYLIGHT
BEGIN:STANDARD
TZOFFSETFROM:-0500
TZOFFSETTO:-0600
TZNAME:CST
DTSTART:20261101T070000
END:STANDARD
BEGIN:DAYLIGHT
TZOFFSETFROM:-0600
TZOFFSETTO:-0500
TZNAME:CDT
DTSTART:20270314T080000
END:DAYLIGHT
BEGIN:STANDARD
TZOFFSETFROM:-0500
TZOFFSETTO:-0600
TZNAME:CST
DTSTART:20271107T070000
END:STANDARD
END:VTIMEZONE
BEGIN:VEVENT
DTSTART;TZID=America/Chicago:20260321T200000
DTEND;TZID=America/Chicago:20260321T200000
DTSTAMP:20260423T170446
CREATED:20250913T223148Z
LAST-MODIFIED:20250913T223153Z
UID:10000413-1774123200-1774123200@nitelite.com
SUMMARY:The High Kings:  The Rocky Road Tour
DESCRIPTION:The High Kings:  The Rocky Road Tour appear at The Vic Theatre in Chicago\, IL on March 21\, 2026 at 8PM! \nIreland’s leading folk group\, The High Kings\, are set to excite fans once again with the announcement of their Rocky Road Tour 2026. \nAs global ambassadors of Irish heritage and storytelling\, The High Kings have consistently brought the timeless tradition of folk music to audiences worldwide\, earning them chart-topping success and widespread acclaim. With their signature blend of classic tradition and modern edge\, The Rocky Road Tour promises to be a vibrant showcase of Irish culture\, energy\, and musicality. \nFollowing a record-breaking 2024 – including a sold-out world tour\, a feature on Disney’s critically acclaimed Only Murders in The Building\, and over 5 million weekly streams – the band are showing no signs of slowing down. Their momentum continued in 2025 with a string of sold-out U.S. tour dates\, culminating in a headline performance at the legendary Troubadour in Los Angeles on March 23rd\, after stops in Kansas\, Nashville\, St. Paul\, St. Louis\, New York\, New Hampton\, Glen Ellen\, Ridgefield\, Alexandria\, and more. \n“A Folk Juggernaut” – The New York Times \nBut it was their inclusion on the soundtrack of Sinners—the current #1 movie worldwide\, starring Michael B. Jordan and directed by Ryan Coogler—that marked a defining moment in their global recognition. The film’s soundtrack\, already topping international streaming charts\, was curated by Oscar- and Grammy-winning composer Ludwig Göransson (Oppenheimer\, The Mandalorian\, Black Panther)\, a long-time admirer of The High Kings’ distinctive vocal blend and musicianship. After attending their sold-out show at The Troubadour in Los Angeles earlier this year\, Göransson selected two tracks—“The Rocky Road to Dublin” and “Go Lassie Go”—to feature prominently in the film’s score. \nThe Rocky Road Tour 2026 will build on this global success\, offering audiences a high-energy live show that reinforces The High Kings’ place at the forefront of Irish folk. With a renewed focus on storytelling\, musicianship\, and connection\, the tour reflects the group’s ongoing commitment to honouring Ireland’s folk legacy while pushing creative boundaries. \nAs well as their recorded music triumphs\, The High Kings have performed for hundreds of thousands across the globe and graced prestigious stages including Glastonbury Festival\, The Isle of Wight Festival\, Times Square\, NYC\, Trafalgar Square\, London (St. Patrick’s Day) and many more/ Their live television appearances have spanned the U.S.\, with performances on Good Morning America\, Good Morning LA\, The View\, and The Today Show. \n“Reinventing the Wheel” – Chicago Tribune \nThe past years also marked a series of standout collaborations\, including: \n● A stirring duet with Steve Perry (Journey) on The Streets of Kinsale \n● A powerful stadium performance of their anthem Glorio For Notre Dame with Jon Batiste\, in front of 30\,000 fans \n“The High Kings continue to set the bar for Irish folk bands worldwide” – Hot Press Magazine \nBUY TICKETS
URL:https://nitelite.com/event/the-high-kings-chicago-il/
LOCATION:The Vic Theatre\, 3145 N Sheffield Avenue\, Chicago\, IL\, 60657\, United States
CATEGORIES:All Events,Entertaiment,Event,Live Music,Upcoming Events
ATTACH;FMTTYPE=image/jpeg:https://nitelite.com/wp-content/uploads/2025/09/thumbnail_High-Kings-Chicago-1200x628-01.jpg
END:VEVENT
END:VCALENDAR