BEGIN:VCALENDAR
VERSION:2.0
PRODID:-//NiteLite Promotions - ECPv6.15.20//NONSGML v1.0//EN
CALSCALE:GREGORIAN
METHOD:PUBLISH
X-ORIGINAL-URL:https://nitelite.com
X-WR-CALDESC:Events for NiteLite Promotions
REFRESH-INTERVAL;VALUE=DURATION:PT1H
X-Robots-Tag:noindex
X-PUBLISHED-TTL:PT1H
BEGIN:VTIMEZONE
TZID:America/Chicago
BEGIN:DAYLIGHT
TZOFFSETFROM:-0600
TZOFFSETTO:-0500
TZNAME:CDT
DTSTART:20240310T080000
END:DAYLIGHT
BEGIN:STANDARD
TZOFFSETFROM:-0500
TZOFFSETTO:-0600
TZNAME:CST
DTSTART:20241103T070000
END:STANDARD
BEGIN:DAYLIGHT
TZOFFSETFROM:-0600
TZOFFSETTO:-0500
TZNAME:CDT
DTSTART:20250309T080000
END:DAYLIGHT
BEGIN:STANDARD
TZOFFSETFROM:-0500
TZOFFSETTO:-0600
TZNAME:CST
DTSTART:20251102T070000
END:STANDARD
BEGIN:DAYLIGHT
TZOFFSETFROM:-0600
TZOFFSETTO:-0500
TZNAME:CDT
DTSTART:20260308T080000
END:DAYLIGHT
BEGIN:STANDARD
TZOFFSETFROM:-0500
TZOFFSETTO:-0600
TZNAME:CST
DTSTART:20261101T070000
END:STANDARD
END:VTIMEZONE
BEGIN:VEVENT
DTSTART;TZID=America/Chicago:20251023T193000
DTEND;TZID=America/Chicago:20251023T193000
DTSTAMP:20260424T074354
CREATED:20250321T222544Z
LAST-MODIFIED:20250321T222614Z
UID:10000374-1761247800-1761247800@nitelite.com
SUMMARY:Stayin’ Alive – One Night of the Bee Gees
DESCRIPTION:Stayin’ Alive – One Night of the Bee Gees appears on October 23 at 7:30PM at the Rialto Square Theatre in Joliet\, IL! \nSTAYIN’ ALIVE offers to their audiences the songs and sights of a full Bee Gees playlist\, singing blockbusters such as “Night Fever”\, “Jive Talkin’”\, “How Deep Is Your Love”\, “You Should Be Dancing”\, “Nights on Broadway” and “Stayin’ Alive”. In addition\, they perform softer poetic ballads such as “I Started a Joke”\, “Massachusetts”\, “Fanny Be Tender”\, “Words” and “To Love Somebody” among other great hits. \nSTAYIN’ ALIVE is the largest and most definitive production of its kind\, offering big screen video clips\, photos and dazzling imagery. STAYIN’ ALIVE has played intimate settings as a six-piece band and huge venues with a 62-piece orchestra. STAYIN’ ALIVE is the quintessential tribute band to the Bee Gees\, capturing the excitement of live performance and the tender subtleties of the human voice! \nBUY TICKETS
URL:https://nitelite.com/event/stayin-alive-joliet-il/
LOCATION:Rialto Square Theatre\, 102 N. Chicago Street\, Joliet\, IL\, 60432\, United States
CATEGORIES:All Events,Entertaiment,Event,Live Music,Tribute Acts,Upcoming Events
ATTACH;FMTTYPE=image/jpeg:https://nitelite.com/wp-content/uploads/2025/03/Stayin-Alive-Joliet-102325-1920px1005-RGB.jpg
END:VEVENT
END:VCALENDAR