BEGIN:VCALENDAR
VERSION:2.0
PRODID:-//NiteLite Promotions - ECPv6.15.20//NONSGML v1.0//EN
CALSCALE:GREGORIAN
METHOD:PUBLISH
X-ORIGINAL-URL:https://nitelite.com
X-WR-CALDESC:Events for NiteLite Promotions
REFRESH-INTERVAL;VALUE=DURATION:PT1H
X-Robots-Tag:noindex
X-PUBLISHED-TTL:PT1H
BEGIN:VTIMEZONE
TZID:America/Chicago
BEGIN:DAYLIGHT
TZOFFSETFROM:-0600
TZOFFSETTO:-0500
TZNAME:CDT
DTSTART:20240310T080000
END:DAYLIGHT
BEGIN:STANDARD
TZOFFSETFROM:-0500
TZOFFSETTO:-0600
TZNAME:CST
DTSTART:20241103T070000
END:STANDARD
BEGIN:DAYLIGHT
TZOFFSETFROM:-0600
TZOFFSETTO:-0500
TZNAME:CDT
DTSTART:20250309T080000
END:DAYLIGHT
BEGIN:STANDARD
TZOFFSETFROM:-0500
TZOFFSETTO:-0600
TZNAME:CST
DTSTART:20251102T070000
END:STANDARD
BEGIN:DAYLIGHT
TZOFFSETFROM:-0600
TZOFFSETTO:-0500
TZNAME:CDT
DTSTART:20260308T080000
END:DAYLIGHT
BEGIN:STANDARD
TZOFFSETFROM:-0500
TZOFFSETTO:-0600
TZNAME:CST
DTSTART:20261101T070000
END:STANDARD
END:VTIMEZONE
BEGIN:VEVENT
DTSTART;TZID=America/Chicago:20250131T193000
DTEND;TZID=America/Chicago:20250131T193000
DTSTAMP:20260425T094057
CREATED:20240924T213725Z
LAST-MODIFIED:20240924T213736Z
UID:10000339-1738351800-1738351800@nitelite.com
SUMMARY:The Rat Pack is Back!
DESCRIPTION:The Rat Pack is Back! appears at the North Shore Center for the Performing Arts in Skokie\, IL on January 31\, 2025 at 7:30PM! \nDIRECT FROM VEGAS! \nRelive the days of the Rat Pack with Las Vegas’ most famous Entertainers and their live 12-piece big band as they appeared live in the legendary Sands Hotel Copa Room. It’s the only Vegas-based show with national touring companies and an award from the “Congress of the United States” and now its in fourteenth smash year with over 4\,500 shows performed in over 34 states\, 3 foreign countries and over one million tickets sold. \nWith a stellar cast of some of the finest performers in the business\, The Rat Pack is Back has been hailed as the next best thing to seeing the original Rat Pack. The trio\, comprised of eerily accurate impressions of Frank Sinatra\, Sammy Davis Jr.\, and Dean Martin\, effortlessly evokes the charm of the Big Band era while transporting the audience back with classic songs like ‘Fly Me to the Moon’ and ‘New York\, New York’. \nBuy Tickets
URL:https://nitelite.com/event/the-rat-pack-is-back-skokie/
LOCATION:North Shore Center for the Performing Arts in Skokie\, 9501 Skokie Blvd.\, Skokie\, IL\, 60077\, United States
CATEGORIES:All Events,Entertaiment,Event,Live Music,Tribute Acts,Upcoming Events
ATTACH;FMTTYPE=image/jpeg:https://nitelite.com/wp-content/uploads/2024/09/thumbnail_RatPack-Skokie-1200x628-01.jpg
END:VEVENT
END:VCALENDAR