BEGIN:VCALENDAR
VERSION:2.0
PRODID:-//NiteLite Promotions - ECPv6.15.20//NONSGML v1.0//EN
CALSCALE:GREGORIAN
METHOD:PUBLISH
X-WR-CALNAME:NiteLite Promotions
X-ORIGINAL-URL:https://nitelite.com
X-WR-CALDESC:Events for NiteLite Promotions
REFRESH-INTERVAL;VALUE=DURATION:PT1H
X-Robots-Tag:noindex
X-PUBLISHED-TTL:PT1H
BEGIN:VTIMEZONE
TZID:America/Chicago
BEGIN:DAYLIGHT
TZOFFSETFROM:-0600
TZOFFSETTO:-0500
TZNAME:CDT
DTSTART:20240310T080000
END:DAYLIGHT
BEGIN:STANDARD
TZOFFSETFROM:-0500
TZOFFSETTO:-0600
TZNAME:CST
DTSTART:20241103T070000
END:STANDARD
BEGIN:DAYLIGHT
TZOFFSETFROM:-0600
TZOFFSETTO:-0500
TZNAME:CDT
DTSTART:20250309T080000
END:DAYLIGHT
BEGIN:STANDARD
TZOFFSETFROM:-0500
TZOFFSETTO:-0600
TZNAME:CST
DTSTART:20251102T070000
END:STANDARD
BEGIN:DAYLIGHT
TZOFFSETFROM:-0600
TZOFFSETTO:-0500
TZNAME:CDT
DTSTART:20260308T080000
END:DAYLIGHT
BEGIN:STANDARD
TZOFFSETFROM:-0500
TZOFFSETTO:-0600
TZNAME:CST
DTSTART:20261101T070000
END:STANDARD
END:VTIMEZONE
BEGIN:VEVENT
DTSTART;TZID=America/Chicago:20251012T150000
DTEND;TZID=America/Chicago:20251012T150000
DTSTAMP:20260424T153356
CREATED:20250430T182828Z
LAST-MODIFIED:20250430T183139Z
UID:10000384-1760281200-1760281200@nitelite.com
SUMMARY:Bored Teachers:  The Struggle is Real! Comedy Tour
DESCRIPTION:Bored Teachers:  The Struggle is Real!  Comedy Tour appears at the Coronado Theatre in Rockford\, IL on October 12 at 3PM! \nBored Teachers are BACK with all new material on their “The Struggle is Real!” Comedy Tour. For years\, Bored Teachers Studios has brought a sense of humor to teachers around the world to ease their daily struggle in the classroom. They’ve amassed over a billion views on their viral videos\non social media\, over 10 million followers\, and the #1 ranked teacher- comedy podcast—#6 of all Stand Up Comedy shows on Apple Podcasts. Since 2022\, Bored Teachers has been selling out comedy clubs and major theatres across 49 states\, bringing laughter to over 150\,000 teachers throughout the school year and has become the main event to attend in all of teacher world. Even non-teacher fans have reviewed it as one of the funniest stand up shows they’ve ever seen! The Bored Teachers Show is a\ncomedy powerhouse that anyone who’s ever been in a classroom can relate to. Please note that PG-13 language is used during some sets. \nBUY TICKETS
URL:https://nitelite.com/event/bored-teachers-rockford-il-2/
LOCATION:Coronado Theatre\, 314 N. Main Street\, Rockford\, IL\, 61101\, United States
CATEGORIES:All Events,Comedy,Entertaiment,Event,Upcoming Events
ATTACH;FMTTYPE=image/jpeg:https://nitelite.com/wp-content/uploads/2025/04/thumbnail_BTeachers-Rockford-1200x628-01.jpg
END:VEVENT
BEGIN:VEVENT
DTSTART;TZID=America/Chicago:20251014T190000
DTEND;TZID=America/Chicago:20251014T190000
DTSTAMP:20260424T153356
CREATED:20250521T173537Z
LAST-MODIFIED:20250521T173823Z
UID:10000395-1760468400-1760468400@nitelite.com
SUMMARY:Wheel of Fortune Live!
DESCRIPTION:Wheel of Fortune Live!  appears at the Coronado Theatre in Rockford\, IL on October 14\, 2025 at 7PM! \nWheel of Fortune LIVE! brings America’s Game® to your hometown! The all-new live stage show with a well-known host is the one-and-only way you can have the chance to spin a replica of the wheel and win prizes outside of Sony Pictures Studios. At Wheel of Fortune LIVE!\, contestants are selected from the audience to go on stage and step into the game show itself. They’ll have a chance to spin\, solve puzzles\,and win fantastic prizes at every show\, including trips to Paris or Hawaii or up to $10\,000 cash. Everyone gets in on the fun and a chance to win at Wheel of Fortune LIVE! \nNO PURCHASE NECESSARY. Open to US & Canada legal residents\, 18+ (Residents of PR & Quebec ineligible to participate as contestants). For complete rules & regulations\, including eligibility requirements & free method of entry\, visit or call the box office. Void where prohibited. © 2025 Califon Productions\, Inc. “Wheel of Fortune®” is a registered trademark of Califon Productions\, Inc. All Rights Reserved. \nBUY TICKETS
URL:https://nitelite.com/event/wheel-of-fortune-live-rockford/
LOCATION:Coronado Theatre\, 314 N. Main Street\, Rockford\, IL\, 61101\, United States
CATEGORIES:All Events,Entertaiment,Event,Upcoming Events
ATTACH;FMTTYPE=image/jpeg:https://nitelite.com/wp-content/uploads/2025/05/WOF-Rockford-1200x628-02.jpg
END:VEVENT
BEGIN:VEVENT
DTSTART;TZID=America/Chicago:20251026T190000
DTEND;TZID=America/Chicago:20251026T190000
DTSTAMP:20260424T153356
CREATED:20250623T150218Z
LAST-MODIFIED:20250623T150224Z
UID:10000399-1761505200-1761505200@nitelite.com
SUMMARY:Home Free:  The Jukebox Tour
DESCRIPTION:Home Free:  The Jukebox Tour appears on October 26\, 2025 at 7PM at the Coronado Theatre in Rockford\, IL! \nGet ready for an unforgettable night of harmony\, humor\, and high-energy entertainment as Home Free brings their Jukebox Tour to stages across the country! This one-of-a-kind tour puts the setlist in your hands — for each show\, fans who purchase tickets will be invited to vote on the songs they want to hear. The most popular choices will make the final setlist\, meaning no two shows are the same and every concert is a unique celebration of fan favorites. \nAs one of the most celebrated all-vocal groups in modern music\, Home Free has carved out a distinctive place in the country music world. With over 720\,000 album equivalents sold\, 830+ million YouTube views\, 1.8 million subscribers\, and major tours across the globe\, they’ve become known as “Country music fans’ favorite a cappella group” (Taste of Country). Since their breakout win on NBC’s The Sing-Off\, the band — featuring Rob Lundquist\, Adam Rupp\, Tim Foust\, Adam Chance\, and Adam Bastien — has released six Top 3 albums\, including their #1 on Billboard’s Current Country Albums\, So Long Dixie (2022)\, followed by As Seen On TV (2023) and Crazy(er) Life (2024). \nTheir genre-bending style and mind-blowing harmonies have earned accolades from Billboard\, Rolling Stone\, FOX & Friends\, People\, and American Songwriter. They’ve wowed audiences with unforgettable renditions of hits by John Mayer\, Blake Shelton\, Keith Urban\, the Oak Ridge Boys\, and countless others — not to mention their own original songs that have become staples of their powerful live performances. \nThis tour is a true celebration of Home Free’s greatest hits — as chosen by you\, the fans who have supported them from the beginning. From crowd-favorite ballads and toe-tapping country bangers to show-stopping medleys and hilarious on-stage banter\, The Jukebox Tour is a full-spectrum showcase of everything that has made Home Free a global sensation. \nExpect an evening packed with Nashville-flavored pop\, country classics\, stunning vocal arrangements\, and a whole lot of personality. Whether you’ve followed them since The Sing-Off or just discovered them through one of their viral videos\, this is your chance to shape the night and hear the songs that mean the most to you — performed live by the group who does it all\, a cappella. \nYou pick the songs. Home Free brings the harmony. Don’t miss this completely fan-driven\, once-in-a-tour experience with the vocal group that redefines what country music can sound like. \nBUY TICKETS
URL:https://nitelite.com/event/home-free-rockford-il/
LOCATION:Coronado Theatre\, 314 N. Main Street\, Rockford\, IL\, 61101\, United States
CATEGORIES:All Events,Entertaiment,Event,Live Music,Upcoming Events
ATTACH;FMTTYPE=image/jpeg:https://nitelite.com/wp-content/uploads/2025/06/HomeFree.Rockford.14.jpg
END:VEVENT
END:VCALENDAR