BEGIN:VCALENDAR
VERSION:2.0
PRODID:-//NiteLite Promotions - ECPv6.15.20//NONSGML v1.0//EN
CALSCALE:GREGORIAN
METHOD:PUBLISH
X-ORIGINAL-URL:https://nitelite.com
X-WR-CALDESC:Events for NiteLite Promotions
REFRESH-INTERVAL;VALUE=DURATION:PT1H
X-Robots-Tag:noindex
X-PUBLISHED-TTL:PT1H
BEGIN:VTIMEZONE
TZID:America/Chicago
BEGIN:DAYLIGHT
TZOFFSETFROM:-0600
TZOFFSETTO:-0500
TZNAME:CDT
DTSTART:20240310T080000
END:DAYLIGHT
BEGIN:STANDARD
TZOFFSETFROM:-0500
TZOFFSETTO:-0600
TZNAME:CST
DTSTART:20241103T070000
END:STANDARD
BEGIN:DAYLIGHT
TZOFFSETFROM:-0600
TZOFFSETTO:-0500
TZNAME:CDT
DTSTART:20250309T080000
END:DAYLIGHT
BEGIN:STANDARD
TZOFFSETFROM:-0500
TZOFFSETTO:-0600
TZNAME:CST
DTSTART:20251102T070000
END:STANDARD
BEGIN:DAYLIGHT
TZOFFSETFROM:-0600
TZOFFSETTO:-0500
TZNAME:CDT
DTSTART:20260308T080000
END:DAYLIGHT
BEGIN:STANDARD
TZOFFSETFROM:-0500
TZOFFSETTO:-0600
TZNAME:CST
DTSTART:20261101T070000
END:STANDARD
END:VTIMEZONE
BEGIN:VEVENT
DTSTART;TZID=America/Chicago:20251003T193000
DTEND;TZID=America/Chicago:20251003T193000
DTSTAMP:20260425T151151
CREATED:20250321T220913Z
LAST-MODIFIED:20250321T221114Z
UID:10000371-1759519800-1759519800@nitelite.com
SUMMARY:An Intimate Evening With Celtic Thunder: Their Greatest Songs and a Reunion with Old Friends
DESCRIPTION:An Intimate Evening with Celtic Thunder:  Their Greatest Songs and a Reunion with Old Friends appears on October 3\, 2025 at 7:30PM at the Rialto Square Theatre in Joliet\, IL! \nCeltic Thunder Announces New Show: An Intimate Evening with Celtic Thunder \nA Celebration of Their Greatest Songs and a Reunion with Old Friends \nFans of the internationally renowned Irish music phenomenon\, Celtic Thunder\, are in for a special treat as the group announces their brand-new show\, An Intimate Evening with Celtic Thunder. This unique production will bring audiences a heartfelt celebration of the group’s most beloved songs while reuniting past and present members for an unforgettable evening of music\, memories\, and camaraderie. \nAn Intimate Evening with Celtic Thunder is more than just a concert—it’s a journey through the group’s incredible legacy. Featuring a carefully curated setlist of their greatest hits\, this show will showcase the powerful harmonies\, soaring ballads\, and electrifying performances that have made Celtic Thunder a household name. From classic Irish folk songs to contemporary favorites\, audiences can expect to hear the anthems that have defined Celtic Thunder’s illustrious career. \nWhat makes this show even more special is the reunion of familiar faces. Over the years\, Celtic Thunder has been home to some of the finest vocalists in the world\, and An Intimate Evening with Celtic Thunder will see Emmet\, Damian\, Neil and Ronan perform some of Celtic Thunder’s greatest songs and welcome some old friends along the way. Longtime fans will be thrilled to see their favorite voices come together\, blending their talents in an atmosphere of warmth and nostalgia. \n“We wanted to create something truly special for our fans\, something that feels personal and celebratory\,” says Damian McGinty\, longtime Celtic Thunder Principal. “This show is about reconnecting—with the music\, with each other\, and with the people who have supported us throughout the years. It’s a chance to relive the magic of Celtic Thunder in a more intimate way\, and we couldn’t be more excited to share this experience with our audience.” \nSince its inception\, Celtic Thunder has captivated global audiences with its stunning performances and rich musical heritage. Known for their dynamic stage presence and ability to blend traditional Irish music with contemporary sounds\, the group has sold millions of albums and performed on some of the world’s most prestigious stages. \nTickets for An Intimate Evening with Celtic Thunder will be available on Friday\, March 21st\, and fans are encouraged to secure their seats early for this once-in-a-lifetime experience. For tour dates and ticket information\, visit www.celticthunder.com. \nAbout Celtic Thunder \nFormed in Dublin in 2007\, Celtic Thunder is a multi-dimensional musical and theatrical ensemble celebrated worldwide for their emotionally powerful performances and state-of-the-art productions. Billboard Magazine has named them the Top World Album Artist five times\, and their albums consistently rank in the World Album Top 10. \nBUY TICKETS
URL:https://nitelite.com/event/celtic-thunder-joliet-il/
LOCATION:Rialto Square Theatre\, 102 N. Chicago Street\, Joliet\, IL\, 60432\, United States
CATEGORIES:All Events,Entertaiment,Event,Live Music,Upcoming Events
ATTACH;FMTTYPE=image/jpeg:https://nitelite.com/wp-content/uploads/2025/03/thumbnail_CThunder-Joliet-1200x628-01.jpg
END:VEVENT
BEGIN:VEVENT
DTSTART;TZID=America/Chicago:20251018T190000
DTEND;TZID=America/Chicago:20251018T190000
DTSTAMP:20260425T151151
CREATED:20250521T174211Z
LAST-MODIFIED:20250521T174211Z
UID:10000396-1760814000-1760814000@nitelite.com
SUMMARY:The "Sweet Caroline" Tour starring Jay White
DESCRIPTION:The “Sweet Caroline” Tour starring Jay White appears at the Rialto Square Theatre in Joliet\, IL on October 18\, 2025 at 7PM! \nThe World’s Most Authentic Neil Diamond Concert Celebration \nVisually spectacular and warmly familiar\, this powerful concert experience is not only a feast for the eyes and ears\, but for the heart. Combining the passion of Broadway with the power of a live concert\, we rediscover his charismatic presence in this uplifting production\, complete with a finale of heart-pounding patriotic pride. Headlining the Las Vegas Strip in over 2000 shows since 2002\, this Legacy Concert has been the only Neil Diamond tribute show to feature several of Diamond’s musicians\, including 45 year band member\, King Errisson. And Jay White is the only Diamond performer to have met Neil twice\, receiving both his written and verbal approval\, where on Diamond’s DVD “Stages”\, Neil personally told Jay to: “Keep up the good work.” \nWith a touch of class and a dash of Rock’n’Roll\, his authentic look and vocals have captivated audiences around the world\, with some 4000 additional PAC\, symphony and Amphitheater shows across the U.S. and Canada. Jay White was also selected by Hollywood Director Ron Howard\, to portray Neil Diamond in the Academy Award Nominated film\, Frost/Nixon. He’s appeared with Jay Leno and Kenny Rogers\, and on Entertainment Tonight where Leeza Gibbons called him: “uncanny and truly amazing”. Thanks to Diamond’s dozens of top 40 hits\, record setting SRO concerts\, Music Awards\, and his Rock”n”Roll Hall of Fame status\, Jay White continues the musical legacy with his Outstanding Concert Performance Award and for the several generations of loyal fans worldwide. \n“There’s more to a tribute than simply the look and the voice. With a charismatic persona\, some humor and some audience participation\, an entertainer must be able to create an exhilarating\, emotional experience that leaves the audience standing and cheering for more!” \nBUY TICKETS
URL:https://nitelite.com/event/jay-white-joliet-il/
LOCATION:Rialto Square Theatre\, 102 N. Chicago Street\, Joliet\, IL\, 60432\, United States
CATEGORIES:All Events,Event,Live Music,Tribute Acts,Upcoming Events
ATTACH;FMTTYPE=image/jpeg:https://nitelite.com/wp-content/uploads/2025/05/JWhite-Joliet-1200x628-02.jpg
END:VEVENT
BEGIN:VEVENT
DTSTART;TZID=America/Chicago:20251019T140000
DTEND;TZID=America/Chicago:20251019T140000
DTSTAMP:20260425T151151
CREATED:20250321T224618Z
LAST-MODIFIED:20250829T180835Z
UID:10000378-1760882400-1760882400@nitelite.com
SUMMARY:CANCELLED:  CoComelon: Sing-A-Long LIVE
DESCRIPTION:Due to unforeseen circumstances\, the performance of CoComelon: Sing-A-Long LIVE on Sunday\, October 19th at the Rialto Square Theatre in Joliet\, IL has been cancelled by the tour\, and all ticket purchases are entitled to a refund. \nIf purchased directly from Ticketmaster\, this process should happen automatically; no other action is required. If purchased from a third-party reseller\, reach out directly to that point of purchase. If purchased directly from the Rialto Box Office\, and for all other inquiries\, contact the Box Office at the information below. \nRialto Box Office\nHours: M – F\, Noon to 4:30 PM\nEmail: boxoffice@rialtosquare.com\nPhone:815-726-6600
URL:https://nitelite.com/event/cocmelon-joliet-il/
LOCATION:Rialto Square Theatre\, 102 N. Chicago Street\, Joliet\, IL\, 60432\, United States
CATEGORIES:All Events,Entertaiment,Event,Upcoming Events
ATTACH;FMTTYPE=image/jpeg:https://nitelite.com/wp-content/uploads/2025/03/Cocomelon.4.jpg
END:VEVENT
BEGIN:VEVENT
DTSTART;TZID=America/Chicago:20251023T193000
DTEND;TZID=America/Chicago:20251023T193000
DTSTAMP:20260425T151151
CREATED:20250321T222544Z
LAST-MODIFIED:20250321T222614Z
UID:10000374-1761247800-1761247800@nitelite.com
SUMMARY:Stayin’ Alive – One Night of the Bee Gees
DESCRIPTION:Stayin’ Alive – One Night of the Bee Gees appears on October 23 at 7:30PM at the Rialto Square Theatre in Joliet\, IL! \nSTAYIN’ ALIVE offers to their audiences the songs and sights of a full Bee Gees playlist\, singing blockbusters such as “Night Fever”\, “Jive Talkin’”\, “How Deep Is Your Love”\, “You Should Be Dancing”\, “Nights on Broadway” and “Stayin’ Alive”. In addition\, they perform softer poetic ballads such as “I Started a Joke”\, “Massachusetts”\, “Fanny Be Tender”\, “Words” and “To Love Somebody” among other great hits. \nSTAYIN’ ALIVE is the largest and most definitive production of its kind\, offering big screen video clips\, photos and dazzling imagery. STAYIN’ ALIVE has played intimate settings as a six-piece band and huge venues with a 62-piece orchestra. STAYIN’ ALIVE is the quintessential tribute band to the Bee Gees\, capturing the excitement of live performance and the tender subtleties of the human voice! \nBUY TICKETS
URL:https://nitelite.com/event/stayin-alive-joliet-il/
LOCATION:Rialto Square Theatre\, 102 N. Chicago Street\, Joliet\, IL\, 60432\, United States
CATEGORIES:All Events,Entertaiment,Event,Live Music,Tribute Acts,Upcoming Events
ATTACH;FMTTYPE=image/jpeg:https://nitelite.com/wp-content/uploads/2025/03/Stayin-Alive-Joliet-102325-1920px1005-RGB.jpg
END:VEVENT
BEGIN:VEVENT
DTSTART;TZID=America/Chicago:20251030T193000
DTEND;TZID=America/Chicago:20251030T193000
DTSTAMP:20260425T151151
CREATED:20250430T183906Z
LAST-MODIFIED:20250430T183908Z
UID:10000385-1761852600-1761852600@nitelite.com
SUMMARY:Yachtly Crew:  Seas The Night World Tour
DESCRIPTION:Yachtly Crew:  Seas The Night World Tour appears at the Rialto Square Theatre in Joliet\, IL on October 30\, 2025 at 7:30PM! \nYachtley Crew are a seven-piece SoCal band who burst onto the club scene in 2017\, selling out countless local venues before starting a nationwide Yacht Rock craze and being noticed by the legendary Jimmy Buffett\, who signed them to his own Mailboat label prior to their new deal with Earache/Universal Records. \nThe nautical-suited and captain’s-hat-clad Yachtley Crew (also known as “The Titans of Soft Rock”)\, includes lead vocalist Phillip Daniel (Philly Ocean)\, drummer Rob Jones (Sailor Hawkins)\, bassist Chaz Ruiz (Baba Buoy)\, guitarist Thomas Gardner Jr. (Tommy Buoy)\, backing vocalist Curt Clendenin (Stoney Shores)\, saxophone/flutist Paul Pate (Pauly Shores) and keyboardist Matt Grossman (Matthew McDonald). \nThe band’s 2023-released Seas the Day EP include fan favorites such as Boz Scaggs’ “Lido Shuffle\,” Ace’s “How Long\,” Robbie Dupree’s “Steal Away\,” the Bee Gees’ “How Deep Is Your Love\,” and all-time Yacht Rock pioneer Christopher Cross’ “Ride Like the Wind.” Other songs in the band’s exhilarating live sets include Toto’s “Africa\,” Looking Glass’ “Brandy\,” and Rupert Holmes’ “Escape (The Piña Colada Song).” \nSeas the Day was produced and mixed by Grammy Award-winning Chris Lord-Alge (Stevie Nicks\, Keith Urban\, Bruce Springsteen\, Green Day)\, and it features the band’s first original song “Sex on the Beach\,” accompanied by a video with a guest appearance by Access Hollywood and iHeart Radio host\, Mario Lopez. The video was directed by Myles Erfurth (Dead Sara\, Ice Nine Kills\, Twiztid). \nFor the uninitiated\, Yacht Rock encapsulates the revival of soft rock and Top 40 hits from the late ’70s to the early ‘80s — and it has become an undisputed nationwide phenomenon\, inspiring fans to dress the part and sing along.\nYachtley Crew have appeared on HBO’s Yacht Rock : A Dockumentary\, Andy Cohen’s Watch What Happens Live\, helped ring in the New Year on KLAS and KTLA’s “Las Vegas Countdown to 2023” (the exclusive\, Emmy-winning special syndicated program that reached more than 16.5 million U.S. TV households)\, performed on countless morning television and radio shows throughout the country\, been featured on Fox News nationally\, and performed on SiriusXM’s Yacht Rock Radio “Yacht Rock 311” show as the first ever Yacht Rock band to perform live at the satellite radio studio and have performed at a cadre of charity and special events throughout the years including the Mario Lopez Golf Classic Tournament in support of the Providence Saint Joseph Medical Center. \nYachtley Crew recently released their first holiday EP Seas and Greetings on Earache Records\, featuring the single “It’s Christmastime” that went Top 40 on the Billboard AC charts and Top 30 on the Billboard holiday charts. Yachtley Crew have also recorded a new song by Diane Warren that will be included in their forthcoming album\, set for release in 2025. \nYachtley Crew is managed by longtime industry icon Andy Gould (Rob Zombie\, Pantera\, Lionel Richie\, Guns N’ Roses)\, and are represented by Jim Lenz at TKO. \nYachtley Crew are proud to fly the flag of Yacht Rock for each and every generation that loves good fun and good-time music\, and they very much look forward to sharing new and classic Yacht Rock tunes and are set to a help one and all navigate the as-yet-uncharted waters of 2025\, and beyond. \nBUY TICKETS
URL:https://nitelite.com/event/yachtly-crew-seas-the-night-world-tour/
LOCATION:Rialto Square Theatre\, 102 N. Chicago Street\, Joliet\, IL\, 60432\, United States
CATEGORIES:All Events,Entertaiment,Event,Live Music,Tribute Acts,Upcoming Events
ATTACH;FMTTYPE=image/jpeg:https://nitelite.com/wp-content/uploads/2025/04/YachtleyCrew-Joliet-1200x628-01.jpg
END:VEVENT
END:VCALENDAR