BEGIN:VCALENDAR
VERSION:2.0
PRODID:-//NiteLite Promotions - ECPv6.15.20//NONSGML v1.0//EN
CALSCALE:GREGORIAN
METHOD:PUBLISH
X-WR-CALNAME:NiteLite Promotions
X-ORIGINAL-URL:https://nitelite.com
X-WR-CALDESC:Events for NiteLite Promotions
REFRESH-INTERVAL;VALUE=DURATION:PT1H
X-Robots-Tag:noindex
X-PUBLISHED-TTL:PT1H
BEGIN:VTIMEZONE
TZID:America/Chicago
BEGIN:DAYLIGHT
TZOFFSETFROM:-0600
TZOFFSETTO:-0500
TZNAME:CDT
DTSTART:20250309T080000
END:DAYLIGHT
BEGIN:STANDARD
TZOFFSETFROM:-0500
TZOFFSETTO:-0600
TZNAME:CST
DTSTART:20251102T070000
END:STANDARD
BEGIN:DAYLIGHT
TZOFFSETFROM:-0600
TZOFFSETTO:-0500
TZNAME:CDT
DTSTART:20260308T080000
END:DAYLIGHT
BEGIN:STANDARD
TZOFFSETFROM:-0500
TZOFFSETTO:-0600
TZNAME:CST
DTSTART:20261101T070000
END:STANDARD
BEGIN:DAYLIGHT
TZOFFSETFROM:-0600
TZOFFSETTO:-0500
TZNAME:CDT
DTSTART:20270314T080000
END:DAYLIGHT
BEGIN:STANDARD
TZOFFSETFROM:-0500
TZOFFSETTO:-0600
TZNAME:CST
DTSTART:20271107T070000
END:STANDARD
BEGIN:DAYLIGHT
TZOFFSETFROM:-0600
TZOFFSETTO:-0500
TZNAME:CDT
DTSTART:20280312T080000
END:DAYLIGHT
BEGIN:STANDARD
TZOFFSETFROM:-0500
TZOFFSETTO:-0600
TZNAME:CST
DTSTART:20281105T070000
END:STANDARD
END:VTIMEZONE
BEGIN:VEVENT
DTSTART;TZID=America/Chicago:20260424T193000
DTEND;TZID=America/Chicago:20260424T193000
DTSTAMP:20260423T215046
CREATED:20251007T223247Z
LAST-MODIFIED:20251007T223247Z
UID:10000422-1777059000-1777059000@nitelite.com
SUMMARY:MJ Live - Michael Jackson Tribute Concert
DESCRIPTION:MJ Live – Michael Jackson Tribute Concert appears at the North Shore Center for the Performing Arts in Skokie\, IL on April 24\, 2026 at 7:30PM! \nJalles moved to the United States from Brazil at the age of 16\, to fulfill his dreams as a professional dancer in Las Vegas. At the age of 21 he began a seven year residency as a performer\, dancer and percussionist at Studio 54 Nightclub at the MGM Hotel & Casino. Jalles Franca is the only Michael Jackson impersonator with a star on the Las Vegas Walk of Fame. \nA long time fan of the ‘King Of Pop\,’ Michael Jackson\, Jalles began imitating the star’s signature dance moves during his routines at Studio 54 and various other venues. Soon after the passing of his idol\, Jalles began dedicating his talents to pay tribute to the late Superstar. Jalles has won numerous contests for “Best Michael Jackson Impersonator\,” Best overall “look” and “Best Moonwalk.” Billing himself as “MJ THE LEGEND” Jalles has thrilled audiences at private and corporate events\, festivals and tribute shows throughout Las Vegas\, Hollywood\, Dubai and more. MJ Live\, the nation’s #1 Michael Jackson tribute show\, at the Stratosphere Hotel & Casino is proud to feature the extremely talented Franca as one of its’ star performers and audiences in Las Vegas and in theaters across the country agree with their nightly standing ovations. \nBUY TICKETS
URL:https://nitelite.com/event/mj-live-skokie-il/
LOCATION:North Shore Center for the Performing Arts in Skokie\, 9501 Skokie Blvd.\, Skokie\, IL\, 60077\, United States
CATEGORIES:All Events,Entertaiment,Event,Live Music,Tribute Acts,Upcoming Events
ATTACH;FMTTYPE=image/jpeg:https://nitelite.com/wp-content/uploads/2025/10/MJLive-Skokie-1200x628-02.jpg
END:VEVENT
BEGIN:VEVENT
DTSTART;TZID=America/Chicago:20260425T193000
DTEND;TZID=America/Chicago:20260425T193000
DTSTAMP:20260423T215046
CREATED:20251007T223538Z
LAST-MODIFIED:20251007T223538Z
UID:10000423-1777145400-1777145400@nitelite.com
SUMMARY:MJ Live - Michael Jackson Tribute Concert
DESCRIPTION:MJ Live – Michael Jackson Tribute Concert appears at the Rialto Square Theatre in Joliet\, IL on April 25\, 2026 at 7:30PM! \nJalles moved to the United States from Brazil at the age of 16\, to fulfill his dreams as a professional dancer in Las Vegas. At the age of 21 he began a seven year residency as a performer\, dancer and percussionist at Studio 54 Nightclub at the MGM Hotel & Casino. Jalles Franca is the only Michael Jackson impersonator with a star on the Las Vegas Walk of Fame. \nA long time fan of the ‘King Of Pop\,’ Michael Jackson\, Jalles began imitating the star’s signature dance moves during his routines at Studio 54 and various other venues. Soon after the passing of his idol\, Jalles began dedicating his talents to pay tribute to the late Superstar. Jalles has won numerous contests for “Best Michael Jackson Impersonator\,” Best overall “look” and “Best Moonwalk.” Billing himself as “MJ THE LEGEND” Jalles has thrilled audiences at private and corporate events\, festivals and tribute shows throughout Las Vegas\, Hollywood\, Dubai and more. MJ Live\, the nation’s #1 Michael Jackson tribute show\, at the Stratosphere Hotel & Casino is proud to feature the extremely talented Franca as one of its’ star performers and audiences in Las Vegas and in theaters across the country agree with their nightly standing ovations. \nBUY TICKETS
URL:https://nitelite.com/event/mj-live-joliet-il/
LOCATION:Rialto Square Theatre\, 102 N. Chicago Street\, Joliet\, IL\, 60432\, United States
CATEGORIES:All Events,Entertaiment,Event,Live Music,Tribute Acts,Upcoming Events
ATTACH;FMTTYPE=image/jpeg:https://nitelite.com/wp-content/uploads/2025/10/MJLive-Joliet-1200x628-02.jpg
END:VEVENT
BEGIN:VEVENT
DTSTART;TZID=America/Chicago:20260430T190000
DTEND;TZID=America/Chicago:20260430T190000
DTSTAMP:20260423T215046
CREATED:20250916T140053Z
LAST-MODIFIED:20250923T131659Z
UID:10000420-1777575600-1777575600@nitelite.com
SUMMARY:Tom Papa:  Grateful Bread Tour
DESCRIPTION:Tom Papa:  Grateful Bread Tour appears at the North Shore Center for the Performing Arts in Skokie\, IL on April 30\, 2026 at 7:00PM! \nWith more than 20 years as a stand-up comedian\, Tom Papa is one of the top comedic voices in the country\, finding success as an actor\, host\, and author\, in film\, TV\, radio and podcasts as well\nas on the live stage. \nThe comedian has had 5 highly rated stand-up specials over the years\, and he has recently released his 6th stand-up special\, Tom Papa: Home Free as a Netflix Original on October 29\, 2024. Papa holds nothing back in his third Netflix special as his kids are finally out of the house and it’s just him\, his wife\, and a bunch of animals ready to return to their glory days. Tom has seen a lot over the years from close calls with a pachinko ball to late night 7-Eleven runs and he’s sharing all his thoughts as he parties on into the next stage of life. His other critically acclaimed specials include What A Day!\, Tom Papa: You’re Doing Great!\, Human Mule\, Freaked Out\, and Tom Papa Live in New York City\, two of which were directed by Rob Zombie. \nOn June 6\, 2023\, Tom released his highly anticipated third book\, We’re All In This Together… So Make Some Room. The book compiles comedic essays that aim to unite us through our stupidity.\nEvery mistake has already been made\, and this should bring us great comfort as we join together in our fight for survival\, or at least in our attempt to get through the day. Whether we like it or\nnot\, we’re all in this together. \nIn 2020\, Tom released his second book\, You’re Doing Great! – And Other Reasons To Stay Alive\, which was the follow-up to Your Dad Stole My Rake: And Other Family Dilemmas both released by St. Martin’s Press\, making “Summer Must Read” lists from Parade Magazine to The New York Post. Tom is also a contributing writer to the New Yorker Magazine. \nTom’s highly rated podcast\, Breaking Bread with Tom Papa\, features Tom and his guest eating\, drinking\, and celebrating the true meaning of breaking bread with insightful\, revealing\, and\nalways funny conversations. He also hosts the popular daily Netflix radio show\, What A Joke With Papa And Fortune\, on Sirius XM Channel 93 and the monthly show\, Come To Papa Live\, on Channel 94. \nTom has starred in many fan-favorite films including Paper Spiders where he starred opposite Lili Taylor\, The Informant! opposite Matt Damon\, Analyze That opposite Robert De Niro\, and The Haunted World of El Superbeasto opposite Paul Giamatti\, where Tom voiced the title character. He can also be seen alongside Michael Douglas and Matt Damon in the HBO film\, Behind the Candelabra\, which was directed by Steven Soderbergh and won 11 Emmys. \nOn TV\, Tom hosted the NBC series\, The Marriage Ref\, which ran for two seasons and had a recurring role opposite Julia Louis-Dreyfus on the CBS series\, The New Adventures of Old Christine. \nTom is currently on his “Grateful Bread Tour.” \nBUY TiCKETS
URL:https://nitelite.com/event/tom-papa-grateful-bread-tour-skokie-il/
LOCATION:North Shore Center for the Performing Arts in Skokie\, 9501 Skokie Blvd.\, Skokie\, IL\, 60077\, United States
CATEGORIES:All Events,Comedy,Entertaiment,Event,Upcoming Events
ATTACH;FMTTYPE=image/jpeg:https://nitelite.com/wp-content/uploads/2025/09/TomPapa-Skokie-1200x628-02.jpg
END:VEVENT
BEGIN:VEVENT
DTSTART;TZID=America/Chicago:20260501T190000
DTEND;TZID=America/Chicago:20260501T190000
DTSTAMP:20260423T215046
CREATED:20250916T140014Z
LAST-MODIFIED:20250923T133525Z
UID:10000419-1777662000-1777662000@nitelite.com
SUMMARY:Tom Papa:  Grateful Bread Tour
DESCRIPTION:Tom Papa:  Grateful Bread Tour appears at the Rialto Square Theatre in Joliet\, IL on May 1\, 2026 at 7:00PM! \nWith more than 20 years as a stand-up comedian\, Tom Papa is one of the top comedic voices in the country\, finding success as an actor\, host\, and author\, in film\, TV\, radio and podcasts as well\nas on the live stage. \nThe comedian has had 5 highly rated stand-up specials over the years\, and he has recently released his 6th stand-up special\, Tom Papa: Home Free as a Netflix Original on October 29\, 2024. Papa holds nothing back in his third Netflix special as his kids are finally out of the house and it’s just him\, his wife\, and a bunch of animals ready to return to their glory days. Tom has seen a lot over the years from close calls with a pachinko ball to late night 7-Eleven runs and he’s sharing all his thoughts as he parties on into the next stage of life. His other critically acclaimed specials include What A Day!\, Tom Papa: You’re Doing Great!\, Human Mule\, Freaked Out\, and Tom Papa Live in New York City\, two of which were directed by Rob Zombie. \nOn June 6\, 2023\, Tom released his highly anticipated third book\, We’re All In This Together… So Make Some Room. The book compiles comedic essays that aim to unite us through our stupidity.\nEvery mistake has already been made\, and this should bring us great comfort as we join together in our fight for survival\, or at least in our attempt to get through the day. Whether we like it or\nnot\, we’re all in this together. \nIn 2020\, Tom released his second book\, You’re Doing Great! – And Other Reasons To Stay Alive\, which was the follow-up to Your Dad Stole My Rake: And Other Family Dilemmas both released by St. Martin’s Press\, making “Summer Must Read” lists from Parade Magazine to The New York Post. Tom is also a contributing writer to the New Yorker Magazine. \nTom’s highly rated podcast\, Breaking Bread with Tom Papa\, features Tom and his guest eating\, drinking\, and celebrating the true meaning of breaking bread with insightful\, revealing\, and\nalways funny conversations. He also hosts the popular daily Netflix radio show\, What A Joke With Papa And Fortune\, on Sirius XM Channel 93 and the monthly show\, Come To Papa Live\, on Channel 94. \nTom has starred in many fan-favorite films including Paper Spiders where he starred opposite Lili Taylor\, The Informant! opposite Matt Damon\, Analyze That opposite Robert De Niro\, and The Haunted World of El Superbeasto opposite Paul Giamatti\, where Tom voiced the title character. He can also be seen alongside Michael Douglas and Matt Damon in the HBO film\, Behind the Candelabra\, which was directed by Steven Soderbergh and won 11 Emmys. \nOn TV\, Tom hosted the NBC series\, The Marriage Ref\, which ran for two seasons and had a recurring role opposite Julia Louis-Dreyfus on the CBS series\, The New Adventures of Old Christine. \nTom is currently on his “Grateful Bread Tour.”
URL:https://nitelite.com/event/tom-papa-grateful-bread-tour-joliet-il/
LOCATION:Rialto Square Theatre\, 102 N. Chicago Street\, Joliet\, IL\, 60432\, United States
CATEGORIES:All Events,Comedy,Entertaiment,Event,Upcoming Events
ATTACH;FMTTYPE=image/jpeg:https://nitelite.com/wp-content/uploads/2025/09/TomPapa-Joliet-1200x628-02.jpg
END:VEVENT
BEGIN:VEVENT
DTSTART;TZID=America/Chicago:20260710T200000
DTEND;TZID=America/Chicago:20260710T200000
DTSTAMP:20260423T215046
CREATED:20260211T154932Z
LAST-MODIFIED:20260211T154932Z
UID:10000437-1783713600-1783713600@nitelite.com
SUMMARY:Get the Led Out
DESCRIPTION:Get the Led Out returns to the Coronado Theatre in Rockford\, IL on July 10\, 2026 at 8PM! \nFrom the bombastic and epic\, to the folky and mystical\, Get The Led Out (GTLO) have captured the essence of the recorded music of Led Zeppelin and brought it to the concert stage. The Philadelphia-based group consists of six veteran musicians intent on delivering Led Zeppelin live\, like you’ve never heard before. Utilizing the multi-instrumentalists at their disposal\, GTLO re-create the songs in all their depth and glory with the studio overdubs that Zeppelin themselves never performed. When you hear three guitars on the album…GTLO delivers three guitarists on stage. No wigs or fake English accents\, GTLO brings what the audience wants…a high energy Zeppelin concert with an honest\, heart- thumping intensity. \nDubbed by the media as “The American Led Zeppelin\,” Get The Led Out offers a strong focus on the early years. They also touch on the deeper cuts that were seldom\, if ever heard in concert. GTLO also include a special “acoustic set” with Zep favorites such as “Tangerine” and “Hey Hey What Can I Do.”\nGTLO has amassed a strong national touring history\, having performed at major club and PAC venues across the country. GTLO’s approach to their performance of this hallowed catalog is not unlike a classical performance. “Led Zeppelin are sort of the classical composers of the rock era\,” says lead vocalist Paul Sinclair. “I believe 100 years from now they will be looked at as the Bach or Beethoven of our time. As cliché as it sounds\, their music is timeless.” \nA GTLO concert mimics the “light and shade” that are the embodiment of “The Mighty Zep.” Whether it’s the passion and fury with which they deliver the blues-soaked\, groove- driven rock anthems\, it’s their attention to detail and nuance that makes a Get The Led Out performance a truly awe-inspiring event! \nBUY TICKETS
URL:https://nitelite.com/event/get-the-led-out-rockford/
LOCATION:Coronado Theatre\, 314 N. Main Street\, Rockford\, IL\, 61101\, United States
CATEGORIES:All Events,Entertaiment,Event,Live Music,Tribute Acts
ATTACH;FMTTYPE=image/jpeg:https://nitelite.com/wp-content/uploads/2026/02/GTLO-Peoria-1200x628-01.jpg
ORGANIZER;CN="NiteLite Promotions":MAILTO:events@nitelite.com
END:VEVENT
BEGIN:VEVENT
DTSTART;TZID=America/Chicago:20260821T200000
DTEND;TZID=America/Chicago:20260821T200000
DTSTAMP:20260423T215046
CREATED:20260210T202420Z
LAST-MODIFIED:20260210T205325Z
UID:10000435-1787342400-1787342400@nitelite.com
SUMMARY:The Australian Pink Floyd Show:  The Happiest Day of Our Lives - Greatest Hits 26
DESCRIPTION:The Australian Pink Floyd Show:  The Happiest Days of Our Lives – Greatest Hits 26 appears at RiverEdge Park in Aurora\, IL on August 21 at 8PM! \nThe Australian Pink Floyd Show is the leading show of its kind in the world. Performing the music of Pink Floyd with note for note perfection\, this critically acclaimed show has been astonishing audiences worldwide for nearly 40 years. Reproducing the complete Pink Floyd experience and bringing the music to new audiences\, TAPFS inspired a whole new genre of acts. \nThe show includes a world class light and laser show\, video animations\, state of the art\, high resolution LED screen technology and other special effects. In addition and in true Pink Floyd tradition\, there are several huge inflatables including a giant pig\, and their own unique Pink Kangaroo. \nBUY TICKETS
URL:https://nitelite.com/event/australian-pink-floyd-aurora-il/
LOCATION:RiverEdge Park\, 360 N. Broadway\, Aurora\, IL\, 60505\, United States
CATEGORIES:All Events,Entertaiment,Event,Live Music,Rock Music,Tribute Acts,Upcoming Events
ATTACH;FMTTYPE=image/jpeg:https://nitelite.com/wp-content/uploads/2026/02/cc3aee81-8a16-44dd-8f4f-132f08b53ab8.jpg
ORGANIZER;CN="NiteLite Promotions":MAILTO:events@nitelite.com
END:VEVENT
BEGIN:VEVENT
DTSTART;TZID=America/Chicago:20261010T200000
DTEND;TZID=America/Chicago:20261010T200000
DTSTAMP:20260423T215046
CREATED:20260210T211329Z
LAST-MODIFIED:20260210T211551Z
UID:10000436-1791662400-1791662400@nitelite.com
SUMMARY:Get the Led Out
DESCRIPTION:Get the Led Out returns to Prairie Home Alliance Theater in Peoria\, IL on October 10\, 2026 at 8PM! \nFrom the bombastic and epic\, to the folky and mystical\, Get The Led Out (GTLO) have captured the essence of the recorded music of Led Zeppelin and brought it to the concert stage. The Philadelphia-based group consists of six veteran musicians intent on delivering Led Zeppelin live\, like you’ve never heard before. Utilizing the multi-instrumentalists at their disposal\, GTLO re-create the songs in all their depth and glory with the studio overdubs that Zeppelin themselves never performed. When you hear three guitars on the album…GTLO delivers three guitarists on stage. No wigs or fake English accents\, GTLO brings what the audience wants…a high energy Zeppelin concert with an honest\, heart- thumping intensity. \nDubbed by the media as “The American Led Zeppelin\,” Get The Led Out offers a strong focus on the early years. They also touch on the deeper cuts that were seldom\, if ever heard in concert. GTLO also include a special “acoustic set” with Zep favorites such as “Tangerine” and “Hey Hey What Can I Do.”\nGTLO has amassed a strong national touring history\, having performed at major club and PAC venues across the country. GTLO’s approach to their performance of this hallowed catalog is not unlike a classical performance. “Led Zeppelin are sort of the classical composers of the rock era\,” says lead vocalist Paul Sinclair. “I believe 100 years from now they will be looked at as the Bach or Beethoven of our time. As cliché as it sounds\, their music is timeless.” \nA GTLO concert mimics the “light and shade” that are the embodiment of “The Mighty Zep.” Whether it’s the passion and fury with which they deliver the blues-soaked\, groove- driven rock anthems\, it’s their attention to detail and nuance that makes a Get The Led Out performance a truly awe-inspiring event! \nBUY TICKETS
URL:https://nitelite.com/event/get-the-led-out-peoria-2/
LOCATION:Prairie Home Alliance Theater
CATEGORIES:All Events,Entertaiment,Event,Live Music,Rock Music,Tribute Acts,Upcoming Events
ATTACH;FMTTYPE=image/jpeg:https://nitelite.com/wp-content/uploads/2026/02/GTLO-Peoria-1200x628-01.jpg
ORGANIZER;CN="NiteLite Promotions":MAILTO:events@nitelite.com
END:VEVENT
BEGIN:VEVENT
DTSTART;TZID=America/Chicago:20261014T190000
DTEND;TZID=America/Chicago:20261014T190000
DTSTAMP:20260423T215046
CREATED:20260403T150952Z
LAST-MODIFIED:20260403T151045Z
UID:10000442-1792004400-1792004400@nitelite.com
SUMMARY:The Price is Right Live!
DESCRIPTION:“Come on Down” to THE PRICE IS RIGHT LIVE™\, you could be next! This family-friendly show is making its way to you on October 14\, 2026 at 7PM at Prairie Home Alliance Theater in Peoria\, IL!\nThis isn’t just any stage show- it’s an interactive\, non-televised\, live version of the iconic game show you know and love\, hosted by our larger-than-life Celebrity Host who brings all the fun\, flair\, and unforgettable personality you expect from The Price Is Right.\nWatch as randomly selected contestants from the audience spin The Big Wheel™\, drop chips on Plinko™\, climb toward victory in Cliffhangers™\, and even take a shot at the fabulous Showcase—all surrounded by the classic sets and energy you know and love.\nWith incredible prizes up for grabs—appliances\, dream vacations\, electronics\, even a brand-new car— lucky audience members can win big without ever leaving their seats.\nHave ever dreamt of spinning The Big Wheel™\, now is your chance to come up on stage and try to land on ONE DOLLAR! Ready to meet our Celebrity Host? Hear first-hand stories and experience the history of The Price is Right! Check out our website for details on special packages that are available now!\nFor over 20 years\, fans across America have packed the house\, winning over $15 million in prizes\, and now it’s your turn… So\, grab your friends and your family\, bring that big-game energy\, and get ready to hear those three magic words…\nCOME… ON… DOWN! The next contestant could be YOU!\n\nWANT TO PLAY?\nNO PURCHASE NECESSARY. Open to legal residents of 50 United States and Canada (excluding Puerto Rico)\, 18 years or older. Ticket purchase will not increase your chances of being selected to play. To register for the chance to be a contestant\, an email will be sent to those who have already purchased tickets 2 weeks prior to show date with details on how to register OR visit CHECK IN at or near the venue box office up to 2 hours prior to show time. For complete rules and regulations\, including eligibility requirements\, visit or call the box office. To enter the venue to watch show\, a ticket purchase is required. Void where prohibited. Price is Right Live: ®/© 2026 FremantleMedia Netherlands. 2026. All Rights Reserved.\n\nBUY TICKETS
URL:https://nitelite.com/event/the-price-is-right-live-peoria-il-2/
LOCATION:Prairie Home Alliance Theater
CATEGORIES:All Events,Event,Upcoming Events
ATTACH;FMTTYPE=image/jpeg:https://nitelite.com/wp-content/uploads/2026/04/ec398ef6-c917-42b8-bbb0-ce59b8d39b54.jpg
END:VEVENT
BEGIN:VEVENT
DTSTART;TZID=America/Chicago:20261029T190000
DTEND;TZID=America/Chicago:20261029T190000
DTSTAMP:20260423T215046
CREATED:20260325T183857Z
LAST-MODIFIED:20260325T183903Z
UID:10000440-1793300400-1793300400@nitelite.com
SUMMARY:William Shatner Live On-stage with Star Trek II: The Wrath of Khan
DESCRIPTION:William Shatner Live On-Stage with Star Trek II:  The Wrath of Khan appears at the Rialto Square Theatre in Joliet\, IL on October 29 at 7PM! \nFollowing a screening of the classic film “Star Trek II: The Wrath of Khan\,” Shatner\, one of Hollywood’s most recognizable and beloved figures\, will take to the stage to share fascinating and humorous behind-the-scenes stories from his seven decades-long career as an actor\, producer\, director\, writer and – most recently – space-traveler. Fans will also have a chance to ask Mr. Shatner questions during an audience-led Q&A. \nA limited number of VIP tickets will be available which include premium seating and a photo opportunity with Mr. Shatner. Tickets go on sale Friday\, March 27th at 10 AM at Rialtosquare.com\, or at The Rialto Square Theatre Box Office. \nDon’t miss your chance to see a Hollywood legend in this thrill-of-a-lifetime evening. Produced by Mills Entertainment. \nBUY TICKETS
URL:https://nitelite.com/event/william-shatner-joliet-il/
LOCATION:Rialto Square Theatre\, 102 N. Chicago Street\, Joliet\, IL\, 60432\, United States
CATEGORIES:All Events,Entertaiment,Event,Upcoming Events
ATTACH;FMTTYPE=image/jpeg:https://nitelite.com/wp-content/uploads/2026/03/474fc69f-7b3f-4df4-82e1-59f1ee6a3565.jpg
END:VEVENT
BEGIN:VEVENT
DTSTART;TZID=America/Chicago:20261101T190000
DTEND;TZID=America/Chicago:20270103T190000
DTSTAMP:20260423T215046
CREATED:20260325T184309Z
LAST-MODIFIED:20260325T184650Z
UID:10000441-1793559600-1799002800@nitelite.com
SUMMARY:Micky Dolenz - 60 Years of the Monkees
DESCRIPTION:Micky Dolenz – 60 Years of the Monkees appears at the Rialto Square Theatre in Joliet\, IL on November 1\, 2026 at 7PM! \nMicky Dolenz is an actor\, singer\, director\, producer\, writer\, radio DJ\, inventor\, and all-around performer extraordinaire\, and stands tall as a paragon of taste and accomplishment in the rough-and-tumble world of showbusiness and entertainment. \nMicky is best known as a vocalist and drummer of the 1960’s pop legends The Monkees. The Monkees not only achieved great success as a TV show\, but also as recording artists; selling in excess of 65 million units\, and achieving worldwide success. Their first four albums–THE MONKEES (1966); MORE OF THE MONKEES (1967) );HEADQUARTERS(1967); and PISCES\, AQUARIUS\, CAPRICORN AND JONES\, LTD. (1967) all reached the number one position on the charts and launched three number-one singles: “Last Train to Clarksville\,” “I’m a Believer” (both with lead vocals by Micky)\, and “Daydream Believer.” \nThe group’s first five albums also went platinum. Micky has also released several critically as of the Monkees appears at the Rialto Square Theatre in Joliet\, IL on November 1\, 2026 at 7PM!cclaimed solo albums: KING FOR A DAY; REMEMBER; and A LITTLE BIT BROADWAY; ALITTLE BIT ROCK AND ROLL. \nBUY TICKETS
URL:https://nitelite.com/event/micky-dolenz-joliet/
LOCATION:Rialto Square Theatre\, 102 N. Chicago Street\, Joliet\, IL\, 60432\, United States
CATEGORIES:All Events,Entertaiment,Event,Live Music,Upcoming Events
ATTACH;FMTTYPE=image/jpeg:https://nitelite.com/wp-content/uploads/2026/03/3ddbf4be-32fa-49b2-8b31-9552ebf2cb6f.jpg
END:VEVENT
BEGIN:VEVENT
DTSTART;TZID=America/Chicago:20261114T193000
DTEND;TZID=America/Chicago:20261114T193000
DTSTAMP:20260423T215046
CREATED:20260421T213343Z
LAST-MODIFIED:20260421T213343Z
UID:10000444-1794684600-1794684600@nitelite.com
SUMMARY:Bored Teachers: "Is It Friday Yet?!" Comedy Tour
DESCRIPTION:Bored Teachers:  “Is It Friday Yet?!” Comedy Tour appears at the Rialto Square Theatre in Joliet\, IL on November 14\, 2026 at 7:30PM! \nThey’ve graded the papers\, survived the staff meetings\, and lost their last ounce of patience… and now they’re taking it out on stage! \nBored Teachers is BACK with brand-new jokes\, bigger laughs\, and the most relatable teacher comedy you’ll ever hear. For nearly a decade\, Bored Teachers has been the #1 voice of teacher humor—racking up over 1 billion views\, amassing 10 million+ followers\, and hosting the #1 teacher-comedy podcast on the planet. \nSince 2022\, they’ve performed for 200\,000+ teachers worldwide\, and sold out 200+ theatres across 49 states\, 5 countries\, and 3 continents. Their BRAND NEW “IS IT FRIDAY YET?!” tour starting January 2026 is more than a comedy show – it’s the ultimate night of laughter and solidarity for anyone who’s ever worked in education\, taught a lesson\, or just survived parent-teacher conferences. \nGet ready to laugh until you cry as the funniest teacher-comedians in the world share their side-splitting stories\, savage truths\, and hilarious classroom confessions. Whether you’re a teacher\, a parent\, or just someone who’s been in school\, this show will have you nodding\, clapping\, and hollering\, “That’s SO TRUE!” \nBUY TICKETS
URL:https://nitelite.com/event/bored-teachers-joliet-il-2/
LOCATION:Rialto Square Theatre\, 102 N. Chicago Street\, Joliet\, Illinois\, 60432\, United States
CATEGORIES:All Events,Comedy,Entertaiment,Event,Upcoming Events
ATTACH;FMTTYPE=image/jpeg:https://nitelite.com/wp-content/uploads/2026/04/6c8b9dbc-ae1b-468f-a6d9-59836a58a275.jpg
END:VEVENT
BEGIN:VEVENT
DTSTART;TZID=America/Chicago:20261115T150000
DTEND;TZID=America/Chicago:20261115T150000
DTSTAMP:20260423T215046
CREATED:20260421T213903Z
LAST-MODIFIED:20260421T213903Z
UID:10000445-1794754800-1794754800@nitelite.com
SUMMARY:Bored Teachers: "Is It Friday Yet?!" Comedy Tour
DESCRIPTION:Bored Teachers:  “Is It Friday Yet?!” Comedy Tour appears at the UIS Performing Arts Center in Springfield\, IL on November 15\, 2026 at 3PM! \nThey’ve graded the papers\, survived the staff meetings\, and lost their last ounce of patience… and now they’re taking it out on stage! \nBored Teachers is BACK with brand-new jokes\, bigger laughs\, and the most relatable teacher comedy you’ll ever hear. For nearly a decade\, Bored Teachers has been the #1 voice of teacher humor—racking up over 1 billion views\, amassing 10 million+ followers\, and hosting the #1 teacher-comedy podcast on the planet. \nSince 2022\, they’ve performed for 200\,000+ teachers worldwide\, and sold out 200+ theatres across 49 states\, 5 countries\, and 3 continents. Their BRAND NEW “IS IT FRIDAY YET?!” tour starting January 2026 is more than a comedy show – it’s the ultimate night of laughter and solidarity for anyone who’s ever worked in education\, taught a lesson\, or just survived parent-teacher conferences. \nGet ready to laugh until you cry as the funniest teacher-comedians in the world share their side-splitting stories\, savage truths\, and hilarious classroom confessions. Whether you’re a teacher\, a parent\, or just someone who’s been in school\, this show will have you nodding\, clapping\, and hollering\, “That’s SO TRUE!” \nBUY TICKETS
URL:https://nitelite.com/event/bored-teachers-springfield-il-2/
LOCATION:UIS Performing Arts Center\, One University Plaza\, MS PAC 292\, Springfield\, IL\, 62703\, United States
CATEGORIES:All Events,Comedy,Entertaiment,Event,Upcoming Events
ATTACH;FMTTYPE=image/jpeg:https://nitelite.com/wp-content/uploads/2026/04/9a851e30-e18b-4622-95e0-ac4077e4969c.jpg
END:VEVENT
END:VCALENDAR