BEGIN:VCALENDAR
VERSION:2.0
PRODID:-//NiteLite Promotions - ECPv6.15.20//NONSGML v1.0//EN
CALSCALE:GREGORIAN
METHOD:PUBLISH
X-ORIGINAL-URL:https://nitelite.com
X-WR-CALDESC:Events for NiteLite Promotions
REFRESH-INTERVAL;VALUE=DURATION:PT1H
X-Robots-Tag:noindex
X-PUBLISHED-TTL:PT1H
BEGIN:VTIMEZONE
TZID:America/Chicago
BEGIN:DAYLIGHT
TZOFFSETFROM:-0600
TZOFFSETTO:-0500
TZNAME:CDT
DTSTART:20230312T080000
END:DAYLIGHT
BEGIN:STANDARD
TZOFFSETFROM:-0500
TZOFFSETTO:-0600
TZNAME:CST
DTSTART:20231105T070000
END:STANDARD
BEGIN:DAYLIGHT
TZOFFSETFROM:-0600
TZOFFSETTO:-0500
TZNAME:CDT
DTSTART:20240310T080000
END:DAYLIGHT
BEGIN:STANDARD
TZOFFSETFROM:-0500
TZOFFSETTO:-0600
TZNAME:CST
DTSTART:20241103T070000
END:STANDARD
BEGIN:DAYLIGHT
TZOFFSETFROM:-0600
TZOFFSETTO:-0500
TZNAME:CDT
DTSTART:20250309T080000
END:DAYLIGHT
BEGIN:STANDARD
TZOFFSETFROM:-0500
TZOFFSETTO:-0600
TZNAME:CST
DTSTART:20251102T070000
END:STANDARD
END:VTIMEZONE
BEGIN:VEVENT
DTSTART;TZID=America/Chicago:20241101T193000
DTEND;TZID=America/Chicago:20241101T193000
DTSTAMP:20260425T105111
CREATED:20240322T212619Z
LAST-MODIFIED:20240322T212626Z
UID:10000306-1730489400-1730489400@nitelite.com
SUMMARY:Kansas:  50th Anniversary Tour - Another Fork In The Road
DESCRIPTION:Kansas: 50th Anniversary Tour – Another Fork In The Road appears at the Coronado Performing Arts Center in Rockford\, IL on November 1 at 7:30PM! \nWith a legendary career spanning five decades\, KANSAS has firmly established itself as one of America’s iconic classic rock bands. This “garage band” from Topeka released their debut album in 1974 after being discovered by Wally Gold\, who worked for Don Kirshner\, and have gone on to sell more than 30 million albums worldwide. \nComposing a catalogue that includes sixteen studio albums and five live albums\, KANSAS has produced eight gold albums\, three sextuple-Platinum albums (Leftoverture\, Point of Know Return\, Best of KANSAS)\, one platinum live album (Two for the Show)\, one quadruple-Platinum single ‘Carry On Wayward Son\,’ and another triple-Platinum single ‘Dust in the Wind.’ KANSAS appeared on the Billboard charts for over 200 weeks throughout the ‘70’s and ‘80’s and played to sold-out arenas and stadiums throughout North America\, Europe and Japan. ‘Carry On Wayward Son’ continues to be one of the top five most played songs on classic rock radio\, and ‘Dust In the Wind’ has been played on the radio more than three million times! \nThe summer of 2020 marked the release of “The Absence of Presence\,” KANSAS’s sixteenth studio album\, which debuted at #10 on Billboard’s Top Current Albums chart. The wide-ranging progressive rock album\, released by InsideOut Music\, follows-up 2016’s “The Prelude Implicit\,” which debuted at #14 on Billboard’s Top 200 Albums chart. \nThroughout 2016-2022\, the band celebrated the anniversaries of multi-Platinum breakout albums “Leftoverture” and “Point of Know Return” with anniversary tours for both albums. Both tours were commemorated with live album releases “Leftoverture Live & Beyond” (2017) & “Point of Know Return Live & Beyond” (2021). \nThe band is currently comprised of original drummer Phil Ehart\, bassist/vocalist Billy Greer\, vocalist/keyboardist Ronnie Platt\, keyboardist/vocalist Tom Brislin\, violinist/guitarist Joe Deninzon\, and original guitarist Richard Williams. With no signs of slowing down\, KANSAS continues to perform in front of large and enthusiastic audiences. \nAlong with constant touring\, KANSAS continues to remain a fixture of Classic Rock radio and popular culture. The band continues to reach a whole new audience through their unmistakable presence in various commercials\, live sports broadcasts\, popular video games Rock Band\, Guitar Hero\, and Grand Theft Auto; the band’s documentary film “KANSAS: Miracles Out of Nowhere\,” and a guest appearance on The CW’s television show ‘Walker.’ The band’s songs have also been included in various television shows such as ‘Supernatural\,’ ‘Reacher\,’ ‘All Elite Wrestling\,’ ‘South Park\,’ ‘The Office\,’ and ‘The Simpsons;’ as well as blockbuster films including ‘Old School\,’ ‘The Suicide Squad\,’ ‘Anchorman\,’ ‘Pitch Perfect\,’ and ‘Happy Gilmore.’ \nBuy Tickets:  https://www.ticketmaster.com/event/04006066CCA131A0
URL:https://nitelite.com/event/kansas-rockford-il/
LOCATION:Coronado Theatre\, 314 N. Main Street\, Rockford\, IL\, 61101\, United States
CATEGORIES:All Events,Entertaiment,Event,Live Music,Rock Music,Upcoming Events
ATTACH;FMTTYPE=image/jpeg:https://nitelite.com/wp-content/uploads/2024/03/Kansas-Rockford-1200x628-01.jpg
END:VEVENT
BEGIN:VEVENT
DTSTART;TZID=America/Chicago:20241102T193000
DTEND;TZID=America/Chicago:20241102T193000
DTSTAMP:20260425T105111
CREATED:20240322T213018Z
LAST-MODIFIED:20240322T213119Z
UID:10000307-1730575800-1730575800@nitelite.com
SUMMARY:Kansas: 50th Anniversary Tour - Another Fork In The Road
DESCRIPTION:Kansas: 50th Anniversary Tour – Another Fork In The Road appears at the Fox Cities Performing Arts Center in Appleton\, WI on November 2 at 7:30PM! \nWith a legendary career spanning five decades\, KANSAS has firmly established itself as one of America’s iconic classic rock bands. This “garage band” from Topeka released their debut album in 1974 after being discovered by Wally Gold\, who worked for Don Kirshner\, and have gone on to sell more than 30 million albums worldwide. \nComposing a catalogue that includes sixteen studio albums and five live albums\, KANSAS has produced eight gold albums\, three sextuple-Platinum albums (Leftoverture\, Point of Know Return\, Best of KANSAS)\, one platinum live album (Two for the Show)\, one quadruple-Platinum single ‘Carry On Wayward Son\,’ and another triple-Platinum single ‘Dust in the Wind.’ KANSAS appeared on the Billboard charts for over 200 weeks throughout the ‘70’s and ‘80’s and played to sold-out arenas and stadiums throughout North America\, Europe and Japan. ‘Carry On Wayward Son’ continues to be one of the top five most played songs on classic rock radio\, and ‘Dust In the Wind’ has been played on the radio more than three million times! \nThe summer of 2020 marked the release of “The Absence of Presence\,” KANSAS’s sixteenth studio album\, which debuted at #10 on Billboard’s Top Current Albums chart. The wide-ranging progressive rock album\, released by InsideOut Music\, follows-up 2016’s “The Prelude Implicit\,” which debuted at #14 on Billboard’s Top 200 Albums chart. \nThroughout 2016-2022\, the band celebrated the anniversaries of multi-Platinum breakout albums “Leftoverture” and “Point of Know Return” with anniversary tours for both albums. Both tours were commemorated with live album releases “Leftoverture Live & Beyond” (2017) & “Point of Know Return Live & Beyond” (2021). \nThe band is currently comprised of original drummer Phil Ehart\, bassist/vocalist Billy Greer\, vocalist/keyboardist Ronnie Platt\, keyboardist/vocalist Tom Brislin\, violinist/guitarist Joe Deninzon\, and original guitarist Richard Williams. With no signs of slowing down\, KANSAS continues to perform in front of large and enthusiastic audiences. \nAlong with constant touring\, KANSAS continues to remain a fixture of Classic Rock radio and popular culture. The band continues to reach a whole new audience through their unmistakable presence in various commercials\, live sports broadcasts\, popular video games Rock Band\, Guitar Hero\, and Grand Theft Auto; the band’s documentary film “KANSAS: Miracles Out of Nowhere\,” and a guest appearance on The CW’s television show ‘Walker.’ The band’s songs have also been included in various television shows such as ‘Supernatural\,’ ‘Reacher\,’ ‘All Elite Wrestling\,’ ‘South Park\,’ ‘The Office\,’ and ‘The Simpsons;’ as well as blockbuster films including ‘Old School\,’ ‘The Suicide Squad\,’ ‘Anchorman\,’ ‘Pitch Perfect\,’ and ‘Happy Gilmore.’ \nBuy Tickets: https://www.ticketmaster.com/kansas-50th-anniversary-tour-another-fork-appleton-wisconsin-11-02-2024/event/0700606CCCDF29B3
URL:https://nitelite.com/event/kansas-50th-anniversary-tour-another-fork-in-the-road/
LOCATION:Fox Cities Performing Arts Center\, 400 West College Avenue\, Appleton\, WI\, 54911\, United States
CATEGORIES:All Events,Entertaiment,Event,Live Music,Rock Music,Upcoming Events
ATTACH;FMTTYPE=image/jpeg:https://nitelite.com/wp-content/uploads/2024/03/Kansas-Rockford-1200x628-01.jpg
END:VEVENT
BEGIN:VEVENT
DTSTART;TZID=America/Chicago:20241109T193000
DTEND;TZID=America/Chicago:20241109T193000
DTSTAMP:20260425T105111
CREATED:20240322T213449Z
LAST-MODIFIED:20240322T213449Z
UID:10000308-1731180600-1731180600@nitelite.com
SUMMARY:Kansas: 50th Anniversary Tour - Another Fork In The Road
DESCRIPTION:Kansas: 50th Anniversary Tour – Another Fork In The Road appears at the Rialto Square Theatre in Joliet\, IL on November 9 at 7:30PM! \nWith a legendary career spanning five decades\, KANSAS has firmly established itself as one of America’s iconic classic rock bands. This “garage band” from Topeka released their debut album in 1974 after being discovered by Wally Gold\, who worked for Don Kirshner\, and have gone on to sell more than 30 million albums worldwide. \nComposing a catalogue that includes sixteen studio albums and five live albums\, KANSAS has produced eight gold albums\, three sextuple-Platinum albums (Leftoverture\, Point of Know Return\, Best of KANSAS)\, one platinum live album (Two for the Show)\, one quadruple-Platinum single ‘Carry On Wayward Son\,’ and another triple-Platinum single ‘Dust in the Wind.’ KANSAS appeared on the Billboard charts for over 200 weeks throughout the ‘70’s and ‘80’s and played to sold-out arenas and stadiums throughout North America\, Europe and Japan. ‘Carry On Wayward Son’ continues to be one of the top five most played songs on classic rock radio\, and ‘Dust In the Wind’ has been played on the radio more than three million times! \nThe summer of 2020 marked the release of “The Absence of Presence\,” KANSAS’s sixteenth studio album\, which debuted at #10 on Billboard’s Top Current Albums chart. The wide-ranging progressive rock album\, released by InsideOut Music\, follows-up 2016’s “The Prelude Implicit\,” which debuted at #14 on Billboard’s Top 200 Albums chart. \nThroughout 2016-2022\, the band celebrated the anniversaries of multi-Platinum breakout albums “Leftoverture” and “Point of Know Return” with anniversary tours for both albums. Both tours were commemorated with live album releases “Leftoverture Live & Beyond” (2017) & “Point of Know Return Live & Beyond” (2021). \nThe band is currently comprised of original drummer Phil Ehart\, bassist/vocalist Billy Greer\, vocalist/keyboardist Ronnie Platt\, keyboardist/vocalist Tom Brislin\, violinist/guitarist Joe Deninzon\, and original guitarist Richard Williams. With no signs of slowing down\, KANSAS continues to perform in front of large and enthusiastic audiences. \nAlong with constant touring\, KANSAS continues to remain a fixture of Classic Rock radio and popular culture. The band continues to reach a whole new audience through their unmistakable presence in various commercials\, live sports broadcasts\, popular video games Rock Band\, Guitar Hero\, and Grand Theft Auto; the band’s documentary film “KANSAS: Miracles Out of Nowhere\,” and a guest appearance on The CW’s television show ‘Walker.’ The band’s songs have also been included in various television shows such as ‘Supernatural\,’ ‘Reacher\,’ ‘All Elite Wrestling\,’ ‘South Park\,’ ‘The Office\,’ and ‘The Simpsons;’ as well as blockbuster films including ‘Old School\,’ ‘The Suicide Squad\,’ ‘Anchorman\,’ ‘Pitch Perfect\,’ and ‘Happy Gilmore.’ \nBuy Tickets: https://www.ticketmaster.com/event/0700605BBBE82C5F
URL:https://nitelite.com/event/kansas-joliet-il/
LOCATION:Rialto Square Theatre\, 102 N. Chicago Street\, Joliet\, IL\, 60432\, United States
CATEGORIES:All Events,Event,Live Music,Rock Music,Upcoming Events
ATTACH;FMTTYPE=image/jpeg:https://nitelite.com/wp-content/uploads/2024/03/Kansas-Rockford-1200x628-01.jpg
END:VEVENT
END:VCALENDAR