BEGIN:VCALENDAR
VERSION:2.0
PRODID:-//NiteLite Promotions - ECPv6.15.20//NONSGML v1.0//EN
CALSCALE:GREGORIAN
METHOD:PUBLISH
X-WR-CALNAME:NiteLite Promotions
X-ORIGINAL-URL:https://nitelite.com
X-WR-CALDESC:Events for NiteLite Promotions
REFRESH-INTERVAL;VALUE=DURATION:PT1H
X-Robots-Tag:noindex
X-PUBLISHED-TTL:PT1H
BEGIN:VTIMEZONE
TZID:America/Chicago
BEGIN:DAYLIGHT
TZOFFSETFROM:-0600
TZOFFSETTO:-0500
TZNAME:CDT
DTSTART:20240310T080000
END:DAYLIGHT
BEGIN:STANDARD
TZOFFSETFROM:-0500
TZOFFSETTO:-0600
TZNAME:CST
DTSTART:20241103T070000
END:STANDARD
BEGIN:DAYLIGHT
TZOFFSETFROM:-0600
TZOFFSETTO:-0500
TZNAME:CDT
DTSTART:20250309T080000
END:DAYLIGHT
BEGIN:STANDARD
TZOFFSETFROM:-0500
TZOFFSETTO:-0600
TZNAME:CST
DTSTART:20251102T070000
END:STANDARD
BEGIN:DAYLIGHT
TZOFFSETFROM:-0600
TZOFFSETTO:-0500
TZNAME:CDT
DTSTART:20260308T080000
END:DAYLIGHT
BEGIN:STANDARD
TZOFFSETFROM:-0500
TZOFFSETTO:-0600
TZNAME:CST
DTSTART:20261101T070000
END:STANDARD
END:VTIMEZONE
BEGIN:VEVENT
DTSTART;TZID=America/Chicago:20250322T200000
DTEND;TZID=America/Chicago:20250322T200000
DTSTAMP:20260425T171239
CREATED:20240716T180026Z
LAST-MODIFIED:20240716T003531Z
UID:10000331-1742673600-1742673600@nitelite.com
SUMMARY:Burton Cummings of the Original 'The Guess Who' 60th Anniversary Hits Tour
DESCRIPTION:Burton Cummings of the Original ‘The Guess Who’ 60th Anniversary Hits Tour appears at the Rialto Square Theatre in Joliet\, IL on March 22 at 8PM! \nIn 1964\, a 16-year-old Cummings released two singles as a member of The Deverons. Just two years later\, he joined The Guess Who. It was with the original The Guess Who that Cummings’ signature vocals\, along with his songwriting and keyboard prowess would fuel massively big hits around the world including “These Eyes\,” “No Time\,” “Laughing” and their biggest hit “American Woman.” The latter track topping the Billboard Hot 100 for three weeks in 1970. Following the band’s breakup in 1975\, Cummings found solo success with “Stand Tall\,” an international hit that spent 21 weeks on the Billboard Hot 100\, peaking at #10. \nToday\, Cummings remains at the top of his game as an unrivaled singer\, songwriter\, showman\, and recording artist. Don’t miss your chance to see this music legend live!  Tickets on sale Friday\, July 19 at 10am!
URL:https://nitelite.com/event/burton-cummings-joliet-il/
LOCATION:Rialto Square Theatre\, 102 N. Chicago Street\, Joliet\, IL\, 60432\, United States
CATEGORIES:All Events,Entertaiment,Event,Live Music,Rock Music,Upcoming Events
ATTACH;FMTTYPE=image/jpeg:https://nitelite.com/wp-content/uploads/2024/07/BCummings-Joliet-1200x628-01.jpg
END:VEVENT
END:VCALENDAR