BEGIN:VCALENDAR
VERSION:2.0
PRODID:-//NiteLite Promotions - ECPv6.15.20//NONSGML v1.0//EN
CALSCALE:GREGORIAN
METHOD:PUBLISH
X-WR-CALNAME:NiteLite Promotions
X-ORIGINAL-URL:https://nitelite.com
X-WR-CALDESC:Events for NiteLite Promotions
REFRESH-INTERVAL;VALUE=DURATION:PT1H
X-Robots-Tag:noindex
X-PUBLISHED-TTL:PT1H
BEGIN:VTIMEZONE
TZID:America/Chicago
BEGIN:DAYLIGHT
TZOFFSETFROM:-0600
TZOFFSETTO:-0500
TZNAME:CDT
DTSTART:20240310T080000
END:DAYLIGHT
BEGIN:STANDARD
TZOFFSETFROM:-0500
TZOFFSETTO:-0600
TZNAME:CST
DTSTART:20241103T070000
END:STANDARD
BEGIN:DAYLIGHT
TZOFFSETFROM:-0600
TZOFFSETTO:-0500
TZNAME:CDT
DTSTART:20250309T080000
END:DAYLIGHT
BEGIN:STANDARD
TZOFFSETFROM:-0500
TZOFFSETTO:-0600
TZNAME:CST
DTSTART:20251102T070000
END:STANDARD
BEGIN:DAYLIGHT
TZOFFSETFROM:-0600
TZOFFSETTO:-0500
TZNAME:CDT
DTSTART:20260308T080000
END:DAYLIGHT
BEGIN:STANDARD
TZOFFSETFROM:-0500
TZOFFSETTO:-0600
TZNAME:CST
DTSTART:20261101T070000
END:STANDARD
END:VTIMEZONE
BEGIN:VEVENT
DTSTART;TZID=America/Chicago:20250320T193000
DTEND;TZID=America/Chicago:20250320T193000
DTSTAMP:20260425T052342
CREATED:20241119T194614Z
LAST-MODIFIED:20241119T194614Z
UID:10000347-1742499000-1742499000@nitelite.com
SUMMARY:Bored Teachers:  The Struggle is Real! Comedy Tour
DESCRIPTION:Bored Teachers:  The Struggle is Real!  Comedy Tour appears on March 20\, 2025 at 7:30pm at the Paramount Theatre in Cedar Rapids\, IA. \nBored Teachers are BACK with all new material on their “The Struggle is Real!” Comedy Tour. For years\, Bored Teachers Studios has brought a sense of humor to teachers around the world to ease their daily struggle in the classroom. They’ve amassed over a billion views on their viral videos on social media\, over 10 million followers\, and the #1 ranked teacher-comedy podcast—#6 of all Stand Up Comedy shows on Apple Podcasts. Since 2022\, Bored Teachers has been selling out comedy clubs and major theatres across 49 states\, bringing laughter to over 150\,000 teachers throughout the school year and has become the main event to attend in all of teacher world. Even non-teacher fans have reviewed it as one of the funniest stand up shows they’ve ever seen! The Bored Teachers Show is a comedy powerhouse that anyone who’s ever been in a classroom can relate to! \nPlease note that PG-13 language is used during some sets. \nBuy Tickets:  https://www.creventslive.com/events/2025/boredteachers
URL:https://nitelite.com/event/bored-teachers-cedar-rapids-ia/
LOCATION:Paramount Theatre\, 370 1st Avenue\, Cedar Rapids\, IA\, 52401\, United States
CATEGORIES:All Events,Comedy,Entertaiment,Event,Upcoming Events
ATTACH;FMTTYPE=image/jpeg:https://nitelite.com/wp-content/uploads/2024/11/thumbnail_BTeachers-CRapids-1200x628-02.jpg
ORGANIZER;CN="NiteLite Promotions":MAILTO:events@nitelite.com
END:VEVENT
BEGIN:VEVENT
DTSTART;TZID=America/Chicago:20250321T193000
DTEND;TZID=America/Chicago:20250321T193000
DTSTAMP:20260425T052342
CREATED:20241119T195030Z
LAST-MODIFIED:20241119T195030Z
UID:10000348-1742585400-1742585400@nitelite.com
SUMMARY:Bored Teachers:  The Struggle is Real!  Comedy Tour
DESCRIPTION:Bored Teachers:  The Struggle is Real!  Comedy Tour appears on March 21\, 2025 at 7:30pm at the Fox Cities Performing Arts Center in Appleton\, WI! \nBored Teachers are BACK with all new material on their “The Struggle is Real!” Comedy Tour. For years\, Bored Teachers Studios has brought a sense of humor to teachers around the world to ease their daily struggle in the classroom. They’ve amassed over a billion views on their viral videos on social media\, over 10 million followers\, and the #1 ranked teacher-comedy podcast—#6 of all Stand Up Comedy shows on Apple Podcasts. Since 2022\, Bored Teachers has been selling out comedy clubs and major theatres across 49 states\, bringing laughter to over 150\,000 teachers throughout the school year and has become the main event to attend in all of teacher world. Even non-teacher fans have reviewed it as one of the funniest stand up shows they’ve ever seen! The Bored Teachers Show is a comedy powerhouse that anyone who’s ever been in a classroom can relate to \nPlease note that PG-13 language is used during some sets. \nBuy Tickets: https://foxcitiespac.com/event/bored-teachers-the-struggle-is-real/
URL:https://nitelite.com/event/bored-teachers-appleton-wi/
LOCATION:Fox Cities Performing Arts Center\, 400 West College Avenue\, Appleton\, WI\, 54911\, United States
CATEGORIES:All Events,Comedy,Entertaiment,Event,Upcoming Events
ATTACH;FMTTYPE=image/jpeg:https://nitelite.com/wp-content/uploads/2024/11/thumbnail_BTeachers-Appleton-1200x628-02.jpg
END:VEVENT
END:VCALENDAR