BEGIN:VCALENDAR
VERSION:2.0
PRODID:-//NiteLite Promotions - ECPv6.15.20//NONSGML v1.0//EN
CALSCALE:GREGORIAN
METHOD:PUBLISH
X-WR-CALNAME:NiteLite Promotions
X-ORIGINAL-URL:https://nitelite.com
X-WR-CALDESC:Events for NiteLite Promotions
REFRESH-INTERVAL;VALUE=DURATION:PT1H
X-Robots-Tag:noindex
X-PUBLISHED-TTL:PT1H
BEGIN:VTIMEZONE
TZID:America/Chicago
BEGIN:DAYLIGHT
TZOFFSETFROM:-0600
TZOFFSETTO:-0500
TZNAME:CDT
DTSTART:20230312T080000
END:DAYLIGHT
BEGIN:STANDARD
TZOFFSETFROM:-0500
TZOFFSETTO:-0600
TZNAME:CST
DTSTART:20231105T070000
END:STANDARD
BEGIN:DAYLIGHT
TZOFFSETFROM:-0600
TZOFFSETTO:-0500
TZNAME:CDT
DTSTART:20240310T080000
END:DAYLIGHT
BEGIN:STANDARD
TZOFFSETFROM:-0500
TZOFFSETTO:-0600
TZNAME:CST
DTSTART:20241103T070000
END:STANDARD
BEGIN:DAYLIGHT
TZOFFSETFROM:-0600
TZOFFSETTO:-0500
TZNAME:CDT
DTSTART:20250309T080000
END:DAYLIGHT
BEGIN:STANDARD
TZOFFSETFROM:-0500
TZOFFSETTO:-0600
TZNAME:CST
DTSTART:20251102T070000
END:STANDARD
END:VTIMEZONE
BEGIN:VEVENT
DTSTART;TZID=America/Chicago:20240822T193000
DTEND;TZID=America/Chicago:20240822T193000
DTSTAMP:20260425T153547
CREATED:20240531T225106Z
LAST-MODIFIED:20240531T225112Z
UID:10000326-1724355000-1724355000@nitelite.com
SUMMARY:Mac McAnally
DESCRIPTION:Mac McAnally appears on August 22 at 7:30PM at the North Shore Center for the Performing Arts in Skokie\, IL. \nRecord setting 10x CMA Musician of the Year\, Mac McAnally is a Nashville Songwriters HoF\, MississippiMusicians HoF and Alabama Music HoF inductee. The renowned songwriter\, singer\, and instrumentalisthas writtendozens of hit records for other artists\, several of which peaked at #1. His own recordingcareer began with debut hit single“It’s A Crazy World”andgrownto14 album releases. He has writtenhits for Alabama\, Jimmy Buffett\, Kenny Chesney\, and Sawyer Brown\, and has studio credits that includealbums by Toby Keith\, Linda Ronstadt\, George Strait and Dolly Parton among many others. \nBuy Tickets
URL:https://nitelite.com/event/mac-mcanally-skoki-il/
LOCATION:North Shore Center for the Performing Arts in Skokie\, 9501 Skokie Blvd.\, Skokie\, IL\, 60077\, United States
CATEGORIES:All Events,Entertaiment,Event,Live Music,Upcoming Events
ATTACH;FMTTYPE=image/jpeg:https://nitelite.com/wp-content/uploads/2024/05/thumbnail_McAnally-Skokie-1200x628-01.jpg
END:VEVENT
END:VCALENDAR