BEGIN:VCALENDAR
VERSION:2.0
PRODID:-//NiteLite Promotions - ECPv6.15.20//NONSGML v1.0//EN
CALSCALE:GREGORIAN
METHOD:PUBLISH
X-WR-CALNAME:NiteLite Promotions
X-ORIGINAL-URL:https://nitelite.com
X-WR-CALDESC:Events for NiteLite Promotions
REFRESH-INTERVAL;VALUE=DURATION:PT1H
X-Robots-Tag:noindex
X-PUBLISHED-TTL:PT1H
BEGIN:VTIMEZONE
TZID:America/Chicago
BEGIN:DAYLIGHT
TZOFFSETFROM:-0600
TZOFFSETTO:-0500
TZNAME:CDT
DTSTART:20250309T080000
END:DAYLIGHT
BEGIN:STANDARD
TZOFFSETFROM:-0500
TZOFFSETTO:-0600
TZNAME:CST
DTSTART:20251102T070000
END:STANDARD
BEGIN:DAYLIGHT
TZOFFSETFROM:-0600
TZOFFSETTO:-0500
TZNAME:CDT
DTSTART:20260308T080000
END:DAYLIGHT
BEGIN:STANDARD
TZOFFSETFROM:-0500
TZOFFSETTO:-0600
TZNAME:CST
DTSTART:20261101T070000
END:STANDARD
BEGIN:DAYLIGHT
TZOFFSETFROM:-0600
TZOFFSETTO:-0500
TZNAME:CDT
DTSTART:20270314T080000
END:DAYLIGHT
BEGIN:STANDARD
TZOFFSETFROM:-0500
TZOFFSETTO:-0600
TZNAME:CST
DTSTART:20271107T070000
END:STANDARD
END:VTIMEZONE
BEGIN:VEVENT
DTSTART;TZID=America/Chicago:20260206T200000
DTEND;TZID=America/Chicago:20260206T200000
DTSTAMP:20260424T223931
CREATED:20251010T185144Z
LAST-MODIFIED:20251010T190132Z
UID:10000424-1770408000-1770408000@nitelite.com
SUMMARY:The Simon & Garfunkel Story
DESCRIPTION:The Simon & Garfunkel Story appears on February 6\, 2026 at 8PM at the Bloomington Center for the Performing Arts in Bloomington\, IL. \nFew shows have experienced the phenomenal global success of The Simon & Garfunkel Story\, with multiple sold-out shows in over 50-countries worldwide and over 20 headline performances in London?s West End\, including multiple appearances at the world-famous London Palladium. \nUsing huge projection photos and original film footage\, the international hit show tells the story of the origins and meteoric rise of Simon & Garfunkel blended together seamlessly with a full live band performing all the hits including Mrs. Robinson\, Cecilia\, Bridge Over Troubled Water\, Homeward Bound and many more. \nWith standing ovations at every performance at the show Art Garfunkel himself loved\, you don’t want to miss this international sensation. \nBUY TICKETS \n 
URL:https://nitelite.com/event/the-simon-and-garfunkel-story-bloomington-il/
LOCATION:Bloomington Center for the Performing Arts\, 600 N. East Street\, Bloomington\, 61701\, United States
CATEGORIES:All Events,Entertaiment,Event,Live Music,Tribute Acts,Upcoming Events
ATTACH;FMTTYPE=image/jpeg:https://nitelite.com/wp-content/uploads/2025/10/thumbnail_Simon-Garf-Blmngtn-1200x628-01.jpg
END:VEVENT
BEGIN:VEVENT
DTSTART;TZID=America/Chicago:20260221T193000
DTEND;TZID=America/Chicago:20260221T193000
DTSTAMP:20260424T223931
CREATED:20250520T222201Z
LAST-MODIFIED:20250520T222201Z
UID:10000388-1771702200-1771702200@nitelite.com
SUMMARY:Mania:  The Abba Tribute
DESCRIPTION:Mania:  The Abba Tribute returns to the Rialto Square Theatre in Joliet\, IL on February 21\, 2026 at 7:30PM! \nTake A Chance On MANIA……and you won’t be disappointed! \nMania: The ABBA Tribute has successfully toured every continent in the world and has played over 3\,000 live concerts in over 35 countries. Recent highlights included a second run in London’s West End where the show performed for a month in the iconic Shaftesbury Theatre\, London in May 2021. The show also enjoyed an 80-date sell-out USA National tour in 2022/2023\, Mania continues in its quest to bring the music of the Swedish ’Supergroup’ to millions of fans\, old and new! \nFeaturing an extraordinary cast of talented musicians and performers\, Mania: The ABBA Tribute delivers an authentic and unforgettable tribute to the legendary Swedish band that has captured the hearts of fans for generations. With stunning costumes\, energetic choreography\, and impeccable musicianship\, Mania: The ABBA Tribute recreates the magic of ABBA’s music in all its glory. From “Dancing Queen” to “Waterloo\,” “Mamma Mia” to “Take a Chance on Me\,” the band performs all of ABBA’s greatest hits with passion and precision\, transporting audiences back to the disco era of the 1970s. \nThe upcoming tour promises to be an unforgettable experience for fans of ABBA and lovers of great music. With stunning visuals\, electrifying performances\, and all of ABBA’s greatest hits\, Mania: The ABBA Tribute is a hit with audiences worldwide and Maniacs who return every year! \nBUY TICKETS
URL:https://nitelite.com/event/mania-the-abba-tribute-joliet-il-3/
LOCATION:Rialto Square Theatre\, 102 N. Chicago Street\, Joliet\, IL\, 60432\, United States
CATEGORIES:All Events,Entertaiment,Event,Live Music,Tribute Acts,Upcoming Events
ATTACH;FMTTYPE=image/jpeg:https://nitelite.com/wp-content/uploads/2025/05/Mania-Joliet-22126-1920px1080.jpg
END:VEVENT
END:VCALENDAR