BEGIN:VCALENDAR
VERSION:2.0
PRODID:-//NiteLite Promotions - ECPv6.15.20//NONSGML v1.0//EN
CALSCALE:GREGORIAN
METHOD:PUBLISH
X-ORIGINAL-URL:https://nitelite.com
X-WR-CALDESC:Events for NiteLite Promotions
REFRESH-INTERVAL;VALUE=DURATION:PT1H
X-Robots-Tag:noindex
X-PUBLISHED-TTL:PT1H
BEGIN:VTIMEZONE
TZID:America/Chicago
BEGIN:DAYLIGHT
TZOFFSETFROM:-0600
TZOFFSETTO:-0500
TZNAME:CDT
DTSTART:20250309T080000
END:DAYLIGHT
BEGIN:STANDARD
TZOFFSETFROM:-0500
TZOFFSETTO:-0600
TZNAME:CST
DTSTART:20251102T070000
END:STANDARD
BEGIN:DAYLIGHT
TZOFFSETFROM:-0600
TZOFFSETTO:-0500
TZNAME:CDT
DTSTART:20260308T080000
END:DAYLIGHT
BEGIN:STANDARD
TZOFFSETFROM:-0500
TZOFFSETTO:-0600
TZNAME:CST
DTSTART:20261101T070000
END:STANDARD
BEGIN:DAYLIGHT
TZOFFSETFROM:-0600
TZOFFSETTO:-0500
TZNAME:CDT
DTSTART:20270314T080000
END:DAYLIGHT
BEGIN:STANDARD
TZOFFSETFROM:-0500
TZOFFSETTO:-0600
TZNAME:CST
DTSTART:20271107T070000
END:STANDARD
END:VTIMEZONE
BEGIN:VEVENT
DTSTART;TZID=America/Chicago:20260131T200000
DTEND;TZID=America/Chicago:20260131T200000
DTSTAMP:20260423T153851
CREATED:20250930T223138Z
LAST-MODIFIED:20250930T223144Z
UID:10000421-1769889600-1769889600@nitelite.com
SUMMARY:Drew Lynch
DESCRIPTION:Drew Lynch appears at the Rialto Square Theatre in Joliet\, IL on January 31\, 2026 at 8PM! \nComedian and actor Drew Lynch captured the hearts of America with his Golden Buzzer performance on Season 10 of America’s Got Talent (NBC)\, where he finished in second place. Since then\, Drew has amassed millions of followers on social media while touring the world nonstop to sold out audiences. In February 2023\, Drew released his second special ‘And These Are Jokes’ which is catching steam all over the internet. He also appeared in a recurring role in the final season of IFC’s hit series Maron as well as TBS’ Conan. A favorite on the podcast circuit\, Drew has made multiple appearances on some of the most downloaded shows\, giving his unique take on everything from pop culture to news\nheadlines to the life of a traveling comic. \nBUY TICKETS
URL:https://nitelite.com/event/drew-lynch-joliet-il-2/
LOCATION:Rialto Square Theatre\, 102 N. Chicago Street\, Joliet\, IL\, 60432\, United States
CATEGORIES:All Events,Entertaiment,Event,Live Music,Upcoming Events
ATTACH;FMTTYPE=image/jpeg:https://nitelite.com/wp-content/uploads/2025/09/thumbnail_DLynch-Joliet-1200x628-02.jpg
END:VEVENT
END:VCALENDAR