BEGIN:VCALENDAR
VERSION:2.0
PRODID:-//NiteLite Promotions - ECPv6.15.20//NONSGML v1.0//EN
CALSCALE:GREGORIAN
METHOD:PUBLISH
X-WR-CALNAME:NiteLite Promotions
X-ORIGINAL-URL:https://nitelite.com
X-WR-CALDESC:Events for NiteLite Promotions
REFRESH-INTERVAL;VALUE=DURATION:PT1H
X-Robots-Tag:noindex
X-PUBLISHED-TTL:PT1H
BEGIN:VTIMEZONE
TZID:America/Chicago
BEGIN:DAYLIGHT
TZOFFSETFROM:-0600
TZOFFSETTO:-0500
TZNAME:CDT
DTSTART:20240310T080000
END:DAYLIGHT
BEGIN:STANDARD
TZOFFSETFROM:-0500
TZOFFSETTO:-0600
TZNAME:CST
DTSTART:20241103T070000
END:STANDARD
BEGIN:DAYLIGHT
TZOFFSETFROM:-0600
TZOFFSETTO:-0500
TZNAME:CDT
DTSTART:20250309T080000
END:DAYLIGHT
BEGIN:STANDARD
TZOFFSETFROM:-0500
TZOFFSETTO:-0600
TZNAME:CST
DTSTART:20251102T070000
END:STANDARD
BEGIN:DAYLIGHT
TZOFFSETFROM:-0600
TZOFFSETTO:-0500
TZNAME:CDT
DTSTART:20260308T080000
END:DAYLIGHT
BEGIN:STANDARD
TZOFFSETFROM:-0500
TZOFFSETTO:-0600
TZNAME:CST
DTSTART:20261101T070000
END:STANDARD
END:VTIMEZONE
BEGIN:VEVENT
DTSTART;TZID=America/Chicago:20250405T193000
DTEND;TZID=America/Chicago:20250405T193000
DTSTAMP:20260424T194351
CREATED:20241119T232824Z
LAST-MODIFIED:20241119T232830Z
UID:10000366-1743881400-1743881400@nitelite.com
SUMMARY:MJ Live - Michael Jackson Tribute
DESCRIPTION:MJ Live – Michael Jackson Tribute appears at the Rialto Square Theatre in Joliet\, IL on April 5\, 2025 at 7:30PM! \nAs the No. 1 Michael Jackson tribute show in the world\, MJ LIVE recreates the electrifying stage show of one of the greatest performers of all time. From iconic dance moves like the moonwalk to timeless hits like “Bad\,” “Billie Jean\,” and “Beat It\,” the spot-on show brings all the Gloved One’s staples to life. Dance and sing along during the special Jackson 5 segment featuring classics like “I’ll Be There\,” “I Want You Back\,” “ABC\,” and more. Dazzling lighting and effects\, plus the MJ LIVE dancers and a live band\, make this show a truly spectacular fitting of the King of Pop. \nAbout MJ LIVE Michael Jackson Tribute Concert \nMJ LIVE is the #1 Michael Jackson tribute show in the world\, showcasing the energy\, excitement\, spectacle and pure joy of this legendary superstar and his music. This incredible\, theatrical stage production with its powerful sound\, spectacular lighting\, visual effects\, team of dancers and live band on stage takes audiences back to when the King of Pop ruled the charts – along with the Jalles Franca’s spot-on\, breathtaking impersonations. Jalles Franca is the only Michael Jackson impersonator with a star on the Las Vegas Walk of Fame. \nBuy Tickets: https://rialtosquare.com/event/mj-live-michael-jackson-tribute/
URL:https://nitelite.com/event/mj-live-michael-jackson-tribute-joliet-il/
LOCATION:Rialto Square Theatre\, 102 N. Chicago Street\, Joliet\, IL\, 60432\, United States
CATEGORIES:All Events,Entertaiment,Event,Live Music,Tribute Acts,Upcoming Events
ATTACH;FMTTYPE=image/jpeg:https://nitelite.com/wp-content/uploads/2024/11/thumbnail_MJLive-Joliet-1200x628-02.jpg
END:VEVENT
END:VCALENDAR