BEGIN:VCALENDAR
VERSION:2.0
PRODID:-//NiteLite Promotions - ECPv6.15.20//NONSGML v1.0//EN
CALSCALE:GREGORIAN
METHOD:PUBLISH
X-WR-CALNAME:NiteLite Promotions
X-ORIGINAL-URL:https://nitelite.com
X-WR-CALDESC:Events for NiteLite Promotions
REFRESH-INTERVAL;VALUE=DURATION:PT1H
X-Robots-Tag:noindex
X-PUBLISHED-TTL:PT1H
BEGIN:VTIMEZONE
TZID:America/Chicago
BEGIN:DAYLIGHT
TZOFFSETFROM:-0600
TZOFFSETTO:-0500
TZNAME:CDT
DTSTART:20240310T080000
END:DAYLIGHT
BEGIN:STANDARD
TZOFFSETFROM:-0500
TZOFFSETTO:-0600
TZNAME:CST
DTSTART:20241103T070000
END:STANDARD
BEGIN:DAYLIGHT
TZOFFSETFROM:-0600
TZOFFSETTO:-0500
TZNAME:CDT
DTSTART:20250309T080000
END:DAYLIGHT
BEGIN:STANDARD
TZOFFSETFROM:-0500
TZOFFSETTO:-0600
TZNAME:CST
DTSTART:20251102T070000
END:STANDARD
BEGIN:DAYLIGHT
TZOFFSETFROM:-0600
TZOFFSETTO:-0500
TZNAME:CDT
DTSTART:20260308T080000
END:DAYLIGHT
BEGIN:STANDARD
TZOFFSETFROM:-0500
TZOFFSETTO:-0600
TZNAME:CST
DTSTART:20261101T070000
END:STANDARD
END:VTIMEZONE
BEGIN:VEVENT
DTSTART;TZID=America/Chicago:20251101T190000
DTEND;TZID=America/Chicago:20251101T190000
DTSTAMP:20260423T181630
CREATED:20250624T214621Z
LAST-MODIFIED:20250624T214621Z
UID:10000400-1762023600-1762023600@nitelite.com
SUMMARY:"The Sweet Caroline Tour" starring Jay White
DESCRIPTION:The “Sweet Caroline” Tour starring Jay White appears at the North Shore Center for the Performing Arts in Skokie on November 1\, 2025 at 7PM! \nThe World’s Most Authentic Neil Diamond Concert Celebration \nVisually spectacular and warmly familiar\, this powerful concert experience is not only a feast for the eyes and ears\, but for the heart. Combining the passion of Broadway with the power of a live concert\, we rediscover his charismatic presence in this uplifting production\, complete with a finale of heart-pounding patriotic pride. Headlining the Las Vegas Strip in over 2000 shows since 2002\, this Legacy Concert has been the only Neil Diamond tribute show to feature several of Diamond’s musicians\, including 45 year band member\, King Errisson. And Jay White is the only Diamond performer to have met Neil twice\, receiving both his written and verbal approval\, where on Diamond’s DVD “Stages”\, Neil personally told Jay to: “Keep up the good work.” \nWith a touch of class and a dash of Rock’n’Roll\, his authentic look and vocals have captivated audiences around the world\, with some 4000 additional PAC\, symphony and Amphitheater shows across the U.S. and Canada. Jay White was also selected by Hollywood Director Ron Howard\, to portray Neil Diamond in the Academy Award Nominated film\, Frost/Nixon. He’s appeared with Jay Leno and Kenny Rogers\, and on Entertainment Tonight where Leeza Gibbons called him: “uncanny and truly amazing”. Thanks to Diamond’s dozens of top 40 hits\, record setting SRO concerts\, Music Awards\, and his Rock”n”Roll Hall of Fame status\, Jay White continues the musical legacy with his Outstanding Concert Performance Award and for the several generations of loyal fans worldwide. \n“There’s more to a tribute than simply the look and the voice. With a charismatic persona\, some humor and some audience participation\, an entertainer must be able to create an exhilarating\, emotional experience that leaves the audience standing and cheering for more!” \nBUY TICKETS
URL:https://nitelite.com/event/jay-white-skokie-il/
LOCATION:North Shore Center for the Performing Arts in Skokie\, 9501 Skokie Blvd.\, Skokie\, IL\, 60077\, United States
CATEGORIES:All Events,Entertaiment,Event,Live Music,Tribute Acts,Upcoming Events
ATTACH;FMTTYPE=image/jpeg:https://nitelite.com/wp-content/uploads/2025/06/JayWhite.Skokie.6.jpg
END:VEVENT
BEGIN:VEVENT
DTSTART;TZID=America/Chicago:20251105T193000
DTEND;TZID=America/Chicago:20251105T193000
DTSTAMP:20260423T181630
CREATED:20250521T172520Z
LAST-MODIFIED:20250521T172642Z
UID:10000394-1762371000-1762371000@nitelite.com
SUMMARY:Straight No Chaser: Holiday Road Tour
DESCRIPTION:Straight No Chaser:  Holiday Road Tour appears at the Des Moines Civic Center on November 5\, 2025 at 7:30PM! \nRIAA-certified Gold and holiday favorites a cappella group Straight No Chaser are back for another festive fall with their “Holiday Road Tour.” Straight No Chaser will be sharing the joy\, “dad jokes\,” and songs of the season with families around the country starting in October. The “Holiday Road Tour” (a nod to the theme song of cult classic film National Lampoon’s Christmas Vacation) kicks off in Findlay\, Ohio on October 17\, with dates running all the way through New Years Eve. Tickets go on sale on May 14\, 2025 and full details can be found at SNCmusic.com. \nThe tour will coincide with the release of Holiday Road\, Straight No Chaser’s first full length collection of holiday songs since 2020’s Social Christmasing. The group will reveal more details\, including the full track listing\, in the upcoming months. \n“For Straight No Chaser\, it absolutely is the most wonderful time of the year\,” said group member Walter Chase. “This year\, we poured our hearts into our latest album\, Holiday Road. I am so excited to see which songs will be our audience’s favorites! If you come to our show\, you can expect to laugh\, sing and be fully prepared to ring in the holidays. We can’t wait to see you on the Holiday Road Tour!” \nBefore getting in the holiday mood\, Straight No Chaser is following up their totally fly 2024 summer tour packed full of 90s boy band\, pop\, and R&B hits\, with “Straight No Chaser Summer: 90s Part 2.” Featuring their own twist on 90s classics like Lisa Loeb’s “Stay (I Missed You)\,” “Everybody” by Backstreet Boys\, “Linger” from The Cranberries\, and Santana’s “Maria Maria\,” Straight No Chaser brings audiences of all ages back to a simpler time\, one unafraid of bright neons\, loud prints\, and cool boy bands. \nThe “90s Part 2” tour starts in July in Englewood\, NJ and dances its way across the country through the first week of September\, with O-Town as special guests on select dates. Straight No Chaser will then make a one-night-only appearance opening for the iconic Frankie Valli and The Four Seasons on September 6 at The Greek Theatre. Tickets for the summer dates are on sale now. For the full tour schedule and additional information\, please visit SNCmusic.com. \nInitially formed at Indiana University\, a cappella group Straight No Chaser emerged at the forefront of the modern day a cappella movement\, and has since sold more than three million albums worldwide\, garnered more than a billion streams on Pandora alone\, and sold more than 1.5 million concert tickets worldwide. In the fall of 2022\, the group performed in more than 60 cities across the US with multiple sold out shows\, including their 26th consecutive sell-out in Indianapolis. \nBUY TICKETS
URL:https://nitelite.com/event/straight-no-chaser-des-moines/
LOCATION:Des Moines Civic Center\, 221 Walnut Street\, Des Moines\, IA\, 50309\, United States
CATEGORIES:All Events,Entertaiment,Event,Live Music,Upcoming Events
ATTACH;FMTTYPE=image/jpeg:https://nitelite.com/wp-content/uploads/2025/05/SNC-DesMoines-1200x628-01.jpg
END:VEVENT
BEGIN:VEVENT
DTSTART;TZID=America/Chicago:20251106T193000
DTEND;TZID=America/Chicago:20251106T193000
DTSTAMP:20260423T181631
CREATED:20250321T221440Z
LAST-MODIFIED:20250321T221442Z
UID:10000372-1762457400-1762457400@nitelite.com
SUMMARY:Steve Hackett: Genesis Greats\, Lamb Highlights & Solo
DESCRIPTION:Steve Hackett:  Genesis Greats\, Lamb Highlights & Solo appears on November 6 at 7:30PM at the Rialto Square Theatre in Joliet\, IL! \nHis new show celebrates the 50th anniversary of The Lamb Lies Down On Broadway\, and Steve Hackett includes a selection of highlights from this iconic Genesis album. \nSteve Hackett’s timeless guitar work was woven throughout the classic Genesis albums of the ’70s. In recent years\, he and his world-class band have brought several of these albums back to concert halls to great acclaim. Many fans also asked for more of The Lamb’s songs to be included. What better way to celebrate the half-century of this remarkable album than to include a selection of Lamb Highlights alongside some of Hackett’s best solos and the essential Genesis Greats. \nAccompanying Steve for these dates will be long-standing musicians Roger King (keyboards)\, Nad Sylvan (vocals)\, Jonas Reingold (bass\, backing vocals)\, Rob Townsend (saxophone\, flutes\, additional keyboards) and for this North American tour\, Nick D’Virgilio on drums. \nBUY TICKETS
URL:https://nitelite.com/event/steve-hackett-genesis-greats-lamb-highlights-solo/
LOCATION:Rialto Square Theatre\, 102 N. Chicago Street\, Joliet\, IL\, 60432\, United States
CATEGORIES:All Events,Entertaiment,Event,Live Music,Upcoming Events
ATTACH;FMTTYPE=image/jpeg:https://nitelite.com/wp-content/uploads/2025/03/thumbnail_SHackett-Joliet-1200x628-02.2.jpg
END:VEVENT
BEGIN:VEVENT
DTSTART;TZID=America/Chicago:20251108T140000
DTEND;TZID=America/Chicago:20251108T140000
DTSTAMP:20260423T181631
CREATED:20250513T214545Z
LAST-MODIFIED:20250513T214545Z
UID:10000386-1762610400-1762610400@nitelite.com
SUMMARY:Sesame Street Live!  Elmo & Friends Say Hello
DESCRIPTION:Sesame Street Live!  Elmo & Friends Say Hello appears at the Rialto Square Theatre in Joliet\, IL on November 8\, 2025 at 2PM! \nElmo\, Abby Cadabby\, Cookie Monster\, and their friends from Sesame Street are coming to your neighborhood! At Elmo and Friends Say Hello\, you can sing and dance with your favorite furry friends while enjoying fun surprises along the way. So put on your dancing shoes and make your way to where the air is sweet for this all-new celebration on Sesame Street! \n“We are thrilled to continue to delight audiences with the Elmo and Friends Say Hello tour\,“ said Round Room Live Founder and co-CEO Stephen Shaw. “Elmo and his friends are beloved characters with a long history of delighting children\, and we’re honored to create magical moments for families all over the country in this interactive musical adventure.” \n“Elmo and Friends Say Hello takes the laughter and learning you love from Sesame Street and extends it to an engaging live experience filled with singing\, dancing\, and toe-tapping fun\,” said Hillary Strong\, Sesame Workshop Chief Development Officer. “The show includes everyone’s favorite furry friends and promises to be a memorable event for all ages.” \nEnhance your Elmo and Friends Say Hello ticket with an exclusive Photo Experience\, where your family will have the opportunity to make a lasting memory by taking a photo alongside some of your favorite Sesame Street friends. Please note: to attend\, each guest must have both a Photo Experience ticket and an Elmo and Friends Say Hello show ticket. Children must be accompanied by an adult. \nFans can visit SesameStreetLive.com now for tour dates and ticket information\, and sign up to be the first to hear news and exclusive offers. Follow Sesame Street Live social media for exclusive tour content. \nBUY TICKETS
URL:https://nitelite.com/event/sesame-street-live-joliet-il-2/
LOCATION:Rialto Square Theatre\, 102 N. Chicago Street\, Joliet\, IL\, 60432\, United States
CATEGORIES:All Events,Entertaiment,Event,Upcoming Events
ATTACH;FMTTYPE=image/jpeg:https://nitelite.com/wp-content/uploads/2025/05/thumbnail_SesStreet-Joliet-1200x628-02.jpg
END:VEVENT
BEGIN:VEVENT
DTSTART;TZID=America/Chicago:20251120T190000
DTEND;TZID=America/Chicago:20251120T190000
DTSTAMP:20260423T181631
CREATED:20250521T174858Z
LAST-MODIFIED:20250521T174858Z
UID:10000397-1763665200-1763665200@nitelite.com
SUMMARY:Brad Williams:  The Growth Spurt Tour
DESCRIPTION:Brad Williams:  The Growth Spurt Tour appears at the Rialto Square Theatre in Joliet\, IL on November 20\, 2025 at 7PM! \nPound for pound\, Brad Williams is the funniest comedian in the country right now\, and has become one of the most in-demand comedians working today. Williams started doing stand-up comedy as a teenager and has been touring successfully ever since\, routinely selling out prestigious venues all over the country and world. \nWilliams has parlayed his live performances into a multitude of stand-up television appearances\, including The Tonight Show\, Dave Attell’s Comedy Underground\, and Jimmy Kimmel Live. His first one-hour special\, Fun Size\, was the highest rated special on Showtime\, and a year later\, he followed that up with his second one\, Daddy Issues\, which was even more successful than the first. His third special in three years was an uproarious one\, hosting some of the edgiest comedians in the country from the prestigious Montreal Just For Laughs Festival. His last groundbreaking special on Netflix\, The Degenerates\, garnered more huge ratings and rave reviews. \nAlso an accomplished actor\, Williams has appeared on numerous TV shows and feature films\, including FX’s Legit\, Sam and Cat\, Mind of Mencia\, Pitboss\, a recurring role on the Hulu original show Deadbeat\, and memorable roles in a plethora of movies\, including Little Evil\, produced by Scott Stuber (Ted)\, as well as the Netflix original Christopher Guest film\, Mascots\, and most recently Reno 911: It’s A Wonderful Heist. \nRecently\, Brad became the first stand-up comedian to headline a Cirque de Soleil show in their 30 year history\, when he agreed to launch—and do a three month run of—their newest show Mad Apple\, at the magnificent 1200 seat New York New York Theater in Las Vegas. The show became an immediate smash hit to rave revues\, singling out Williams for his incredible ability to captivate his audiences with his extraordinary performances. \nIn addition to stand-up and acting\, Williams co-created and co-hosted one of the most successful podcasts in the world\, with friend and fellow comic Adam Ray\, entitled About Last Night\, which was always a mainstay on the iTunes charts during their five year run. Additionally\, he is also a regular contributor with a series of incredibly funny appearances on several national radio and podcast platforms\, including KROQ’s Kevin and Bean Show and The Adam Carolla Show.\nWilliams’ humorous and inspiring observations on disability\, relationships\, sex\, and race consistently win over audiences; proving anyone can overcome their shortcomings. His high energy live performances frequently produce standing ovations from audience members; which prompted the late Robin Williams to call him “Prozac with a head.” \nBUY TICKETSRialto
URL:https://nitelite.com/event/brad-williams-joliet-il-2/
LOCATION:Rialto Square Theatre\, 102 N. Chicago Street\, Joliet\, IL\, 60432\, United States
CATEGORIES:All Events,Comedy,Entertaiment,Event,Upcoming Events
ATTACH;FMTTYPE=image/jpeg:https://nitelite.com/wp-content/uploads/2025/05/BradWilliams-Joliet-112025-1920px1005.jpg
END:VEVENT
BEGIN:VEVENT
DTSTART;TZID=America/Chicago:20251123T180000
DTEND;TZID=America/Chicago:20251123T180000
DTSTAMP:20260423T181631
CREATED:20250811T174231Z
LAST-MODIFIED:20250811T174238Z
UID:10000409-1763920800-1763920800@nitelite.com
SUMMARY:Home Free:  Let Me Come Home Tour
DESCRIPTION:Home Free:  Let Me Come Home Tour appears on November 23 at 6PM at the Rialto Square Theatre in Joliet\, IL! \nThis winter\, all-vocal country sensation Home Free invites you to celebrate the season with their heartwarming holiday tour\, Let Me Come Home – named after their touching original track from their 2024 holiday album\, Any Kind of Christmas. \nKnown for their jaw-dropping harmonies\, signature country charm\, and a uniquely festive spirit\, Home Free brings audiences a seasonal experience like no other. Featuring Rob Lundquist\, Adam Rupp\, Tim Foust\, Adam Chance\, and new member Adam Bell-Bastien\, this extraordinary group has taken the world by storm with over 720\,000 album equivalents sold\, 830+ million views on YouTube\, and 1.8 million subscribers — earning the title of “Country music fans’ favorite a cappella group” (Taste of Country). \nFollowing six Top 3 albums — including their #1 on Billboard’s Current Country Albums Chart\, So Long Dixie (2022) — and successful releases like As Seen On TV (2023) and Crazy(er) Life (2024)\, Home Free continues to impress both fans and critics. They’ve earned glowing praise from Billboard\, Rolling Stone\, FOX & Friends\, and American Songwriter\, thanks to their incredible vocal arrangements\, heartfelt performances\, and engaging stage presence. \nNow\, they’re decking the halls with a joyful mix of holiday favorites\, moving originals\, and all vocal renditions of beloved seasonal tunes\, all brought to life in perfect harmony. From the twinkling nostalgia of timeless carols to the upbeat energy of new Christmas classics\, this show has something for every generation. And of course\, their emotional original\, Let Me Come Home\, anchors the evening with a heartfelt reminder of what the holidays are truly about — togetherness\, love\, and the feeling of home. \nWhether you’re a longtime fan or discovering their magic for the first time\, this is a holiday tradition you won’t want to miss. The Let Me Come Home Tour promises an evening full of warmth\, laughter\, incredible vocals\, and just the right touch of holiday magic — a magical evening that will remind you why this time of year is truly special. Bring your friends\, your family\, and your holiday spirit\, and let Home Free welcome you home for the holidays. \nBUY TICKETS
URL:https://nitelite.com/event/home-free-joliet-il/
LOCATION:Rialto Square Theatre\, 102 N. Chicago Street\, Joliet\, IL\, 60432\, United States
CATEGORIES:All Events,Entertaiment,Event,Live Music,Upcoming Events
ATTACH;FMTTYPE=image/jpeg:https://nitelite.com/wp-content/uploads/2025/08/thumbnail_HomeFree-Joliet-1200x628-02.jpg
END:VEVENT
BEGIN:VEVENT
DTSTART;TZID=America/Chicago:20251130T190000
DTEND;TZID=America/Chicago:20251130T190000
DTSTAMP:20260423T181631
CREATED:20250521T172054Z
LAST-MODIFIED:20250521T172127Z
UID:10000393-1764529200-1764529200@nitelite.com
SUMMARY:Straight No Chaser: Holiday Road Tour
DESCRIPTION:Straight No Chaser:  Holiday Road Tour appears at Fox Cities Performing Arts Center in Appleton\, WI on November 30\, 2025 at 7PM! \nRIAA-certified Gold and holiday favorites a cappella group Straight No Chaser are back for another festive fall with their “Holiday Road Tour.” Straight No Chaser will be sharing the joy\, “dad jokes\,” and songs of the season with families around the country starting in October. The “Holiday Road Tour” (a nod to the theme song of cult classic film National Lampoon’s Christmas Vacation) kicks off in Findlay\, Ohio on October 17\, with dates running all the way through New Years Eve. Tickets go on sale on May 14\, 2025 and full details can be found at SNCmusic.com. \nThe tour will coincide with the release of Holiday Road\, Straight No Chaser’s first full length collection of holiday songs since 2020’s Social Christmasing. The group will reveal more details\, including the full track listing\, in the upcoming months. \n“For Straight No Chaser\, it absolutely is the most wonderful time of the year\,” said group member Walter Chase. “This year\, we poured our hearts into our latest album\, Holiday Road. I am so excited to see which songs will be our audience’s favorites! If you come to our show\, you can expect to laugh\, sing and be fully prepared to ring in the holidays. We can’t wait to see you on the Holiday Road Tour!” \nBefore getting in the holiday mood\, Straight No Chaser is following up their totally fly 2024 summer tour packed full of 90s boy band\, pop\, and R&B hits\, with “Straight No Chaser Summer: 90s Part 2.” Featuring their own twist on 90s classics like Lisa Loeb’s “Stay (I Missed You)\,” “Everybody” by Backstreet Boys\, “Linger” from The Cranberries\, and Santana’s “Maria Maria\,” Straight No Chaser brings audiences of all ages back to a simpler time\, one unafraid of bright neons\, loud prints\, and cool boy bands. \nThe “90s Part 2” tour starts in July in Englewood\, NJ and dances its way across the country through the first week of September\, with O-Town as special guests on select dates. Straight No Chaser will then make a one-night-only appearance opening for the iconic Frankie Valli and The Four Seasons on September 6 at The Greek Theatre. Tickets for the summer dates are on sale now. For the full tour schedule and additional information\, please visit SNCmusic.com. \nInitially formed at Indiana University\, a cappella group Straight No Chaser emerged at the forefront of the modern day a cappella movement\, and has since sold more than three million albums worldwide\, garnered more than a billion streams on Pandora alone\, and sold more than 1.5 million concert tickets worldwide. In the fall of 2022\, the group performed in more than 60 cities across the US with multiple sold out shows\, including their 26th consecutive sell-out in Indianapolis. \nBUY TICKETS
URL:https://nitelite.com/event/straight-no-chaser-appleton-wi-3/
LOCATION:Fox Cities Performing Arts Center\, 400 West College Avenue\, Appleton\, WI\, 54911\, United States
CATEGORIES:All Events,Entertaiment,Event,Live Music,Upcoming Events
ATTACH;FMTTYPE=image/jpeg:https://nitelite.com/wp-content/uploads/2025/05/SNC-Appleton-1200x628-02.jpg
END:VEVENT
END:VCALENDAR