BEGIN:VCALENDAR
VERSION:2.0
PRODID:-//NiteLite Promotions - ECPv6.15.20//NONSGML v1.0//EN
CALSCALE:GREGORIAN
METHOD:PUBLISH
X-ORIGINAL-URL:https://nitelite.com
X-WR-CALDESC:Events for NiteLite Promotions
REFRESH-INTERVAL;VALUE=DURATION:PT1H
X-Robots-Tag:noindex
X-PUBLISHED-TTL:PT1H
BEGIN:VTIMEZONE
TZID:America/Chicago
BEGIN:DAYLIGHT
TZOFFSETFROM:-0600
TZOFFSETTO:-0500
TZNAME:CDT
DTSTART:20240310T080000
END:DAYLIGHT
BEGIN:STANDARD
TZOFFSETFROM:-0500
TZOFFSETTO:-0600
TZNAME:CST
DTSTART:20241103T070000
END:STANDARD
BEGIN:DAYLIGHT
TZOFFSETFROM:-0600
TZOFFSETTO:-0500
TZNAME:CDT
DTSTART:20250309T080000
END:DAYLIGHT
BEGIN:STANDARD
TZOFFSETFROM:-0500
TZOFFSETTO:-0600
TZNAME:CST
DTSTART:20251102T070000
END:STANDARD
BEGIN:DAYLIGHT
TZOFFSETFROM:-0600
TZOFFSETTO:-0500
TZNAME:CDT
DTSTART:20260308T080000
END:DAYLIGHT
BEGIN:STANDARD
TZOFFSETFROM:-0500
TZOFFSETTO:-0600
TZNAME:CST
DTSTART:20261101T070000
END:STANDARD
END:VTIMEZONE
BEGIN:VEVENT
DTSTART;TZID=America/Chicago:20250515T193000
DTEND;TZID=America/Chicago:20250515T193000
DTSTAMP:20260424T035455
CREATED:20241014T153140Z
LAST-MODIFIED:20241014T153153Z
UID:10000340-1747337400-1747337400@nitelite.com
SUMMARY:Kevin James:  Owls Don't Walk
DESCRIPTION:Kevin James:  Owls Don’t Walk appears at Morris Performing Arts Center in South Bend\, IN on May 15\, 2025 at 7:30PM! \nKevin James began his career as a stand-up on the Long Island comedy scene. After being discovered at the 1996 Montreal Comedy Festival\, he signed a network development deal to create his own sitcom. \nThe King of Queens\, which premiered in 1998\, ran for nine seasons on CBS with James starring and executive producing\, and it garnered him an Emmy nomination for Outstanding Lead Actor in a Comedy Series. The show concluded its run in 2007 but continues to air daily in syndication across the country and around the world. James also starred in\, and executive produced The Crew\, a Netflix sitcom set in the world of NASCAR. \nJames brought his stand-up act to TV with Sweat the Small Stuff\, a one-hour special for Comedy Central. Kevin James and Ray Romano executive produced and starred in the HBO Sports Special Making the Cut: The Road to Pebble Beach; a documentary about the Pebble Beach Pro Am Golf Tournament that was nominated for a Sports Emmy. His second comedy special Never Don’t Give Up premiered on Netflix to critical acclaim. \nJames made his feature film debut in Columbia Pictures’ Hitch starring opposite Will Smith\, and starred in\, produced and co-wrote the hit comedies Paul Blart: Mall Cop 1 & 2\, Zookeeper\, and Here Comes The Boom. James has starred alongside Adam Sandler in Pixels\, Grown Ups\, Grown Ups 2\, I Now Pronounce You Chuck and Larry\, and Hubie Halloween. He starred in the features True Memoirs of an International Assassin and Home Team for Netflix\, as well as the independent action thriller Becky. \nJames can currently be seen in his new one-hour special “Kevin James: Irregardless” for Prime Video. \nBuy Tickets
URL:https://nitelite.com/event/kevin-james-south-bend-in/
LOCATION:The Morris Performing Arts Center\, 211 N. Michigan Street\, South Bend\, IN\, 46601\, United States
CATEGORIES:All Events,Comedy,Entertaiment,Event,Upcoming Events
ATTACH;FMTTYPE=image/jpeg:https://nitelite.com/wp-content/uploads/2024/10/thumbnail_KJames-Toledo-1200x628-01.jpg
END:VEVENT
BEGIN:VEVENT
DTSTART;TZID=America/Chicago:20250516T190000
DTEND;TZID=America/Chicago:20250516T190000
DTSTAMP:20260424T035455
CREATED:20241014T161630Z
LAST-MODIFIED:20241014T161640Z
UID:10000342-1747422000-1747422000@nitelite.com
SUMMARY:Kevin James:  Owls Don't Walk
DESCRIPTION:Kevin James:  Owls Don’t Walk appears at Stranahan Theater in Toledo\, OH on May 16\, 2025 at 7:00PM! \nKevin James began his career as a stand-up on the Long Island comedy scene. After being discovered at the 1996 Montreal Comedy Festival\, he signed a network development deal to create his own sitcom. \nThe King of Queens\, which premiered in 1998\, ran for nine seasons on CBS with James starring and executive producing\, and it garnered him an Emmy nomination for Outstanding Lead Actor in a Comedy Series. The show concluded its run in 2007 but continues to air daily in syndication across the country and around the world. James also starred in\, and executive produced The Crew\, a Netflix sitcom set in the world of NASCAR. \nJames brought his stand-up act to TV with Sweat the Small Stuff\, a one-hour special for Comedy Central. Kevin James and Ray Romano executive produced and starred in the HBO Sports Special Making the Cut: The Road to Pebble Beach; a documentary about the Pebble Beach Pro Am Golf Tournament that was nominated for a Sports Emmy. His second comedy special Never Don’t Give Up premiered on Netflix to critical acclaim. \nJames made his feature film debut in Columbia Pictures’ Hitch starring opposite Will Smith\, and starred in\, produced and co-wrote the hit comedies Paul Blart: Mall Cop 1 & 2\, Zookeeper\, and Here Comes The Boom. James has starred alongside Adam Sandler in Pixels\, Grown Ups\, Grown Ups 2\, I Now Pronounce You Chuck and Larry\, and Hubie Halloween. He starred in the features True Memoirs of an International Assassin and Home Team for Netflix\, as well as the independent action thriller Becky. \nJames can currently be seen in his new one-hour special “Kevin James: Irregardless” for Prime Video. \nBuy Tickets
URL:https://nitelite.com/event/kevin-james-toledo-oh/
LOCATION:Stranahan Theater\, 4645 Heatherdowns Blvd.\, Toledo\, OH\, 43614\, United States
CATEGORIES:All Events,Comedy,Entertaiment,Event,Upcoming Events
ATTACH;FMTTYPE=image/jpeg:https://nitelite.com/wp-content/uploads/2024/10/thumbnail_KJames-Toledo-1200x628-01.jpg
END:VEVENT
BEGIN:VEVENT
DTSTART;TZID=America/Chicago:20250516T200000
DTEND;TZID=America/Chicago:20250516T200000
DTSTAMP:20260424T035455
CREATED:20241119T210205Z
LAST-MODIFIED:20241119T210205Z
UID:10000350-1747425600-1747425600@nitelite.com
SUMMARY:Tusk:  The World's #1 Tribute to Fleetwood Mac
DESCRIPTION:Tusk:  The World’s #1 Tribute to Fleetwood Mac appears on May 16\, 2025 at 8PM at the Rialto Square Theatre in Joliet\, IL! \nTusk has been criss-crossing the country since 2008 as The Ultimate Fleetwood Mac Tribute. But of all the Fleetwood Mac tributes playing around the United States today\, what exactly sets Tusk apart? \nIs it more than five skilled professionals turned masters of their trade through decades of individual musical study\, live performance\, creative risk\, and devotion to the art? \nIs it more than their affection and respect for the Fleetwood Mac experience\, an entity that continues to endure over 50 years of musical and cultural evolution? \nIs it more than vocal similarities\, common physical traits\, or good costumes? \nTo be sure\, one does not fare well in the tribute scene without displaying some or all of these characteristics. So what qualities does Tusk possess that can’t be learned\, bought\, or created simply from a desire to have them? \nChemistry. Synergy. Intuition. \nThe relationship among the five founding members of Tusk has a rich history that goes back more than four decades. Two met while playing Little League baseball. Two others met in middle school band and marched in lockstep through high school. All five have been playing music with one another over the years in various configurations of original bands\, jam bands\, singer-songwriter circles\, and alternative rock groups. Time\, trust\, and close friendship have cultivated an intimate familiarity with each other’s musical nuances\, shaping each performance with such precision that even the slightest variation\, virtually imperceptible to all but the five musicians sharing the stage\, is met with a wink and a nod\, and usually an inside joke. Tusk is more than a band; they are a family. \nExperience the wonder of a Tusk show for yourself. \nBuy Tickets:  https://www.ticketmaster.com/tusk-the-worlds-1-tribute-to-joliet-illinois-05-16-2025/event/07006149AF482E4D
URL:https://nitelite.com/event/tusk-joliet-il-2/
LOCATION:Rialto Square Theatre\, 102 N. Chicago Street\, Joliet\, IL\, 60432\, United States
CATEGORIES:All Events,Entertaiment,Event,Live Music,Tribute Acts,Upcoming Events
ATTACH;FMTTYPE=image/jpeg:https://nitelite.com/wp-content/uploads/2024/11/tusk-joliet-1200x628-01.jpg
END:VEVENT
END:VCALENDAR