BEGIN:VCALENDAR
VERSION:2.0
PRODID:-//NiteLite Promotions - ECPv6.15.20//NONSGML v1.0//EN
CALSCALE:GREGORIAN
METHOD:PUBLISH
X-ORIGINAL-URL:https://nitelite.com
X-WR-CALDESC:Events for NiteLite Promotions
REFRESH-INTERVAL;VALUE=DURATION:PT1H
X-Robots-Tag:noindex
X-PUBLISHED-TTL:PT1H
BEGIN:VTIMEZONE
TZID:America/Chicago
BEGIN:DAYLIGHT
TZOFFSETFROM:-0600
TZOFFSETTO:-0500
TZNAME:CDT
DTSTART:20240310T080000
END:DAYLIGHT
BEGIN:STANDARD
TZOFFSETFROM:-0500
TZOFFSETTO:-0600
TZNAME:CST
DTSTART:20241103T070000
END:STANDARD
BEGIN:DAYLIGHT
TZOFFSETFROM:-0600
TZOFFSETTO:-0500
TZNAME:CDT
DTSTART:20250309T080000
END:DAYLIGHT
BEGIN:STANDARD
TZOFFSETFROM:-0500
TZOFFSETTO:-0600
TZNAME:CST
DTSTART:20251102T070000
END:STANDARD
BEGIN:DAYLIGHT
TZOFFSETFROM:-0600
TZOFFSETTO:-0500
TZNAME:CDT
DTSTART:20260308T080000
END:DAYLIGHT
BEGIN:STANDARD
TZOFFSETFROM:-0500
TZOFFSETTO:-0600
TZNAME:CST
DTSTART:20261101T070000
END:STANDARD
END:VTIMEZONE
BEGIN:VEVENT
DTSTART;TZID=America/Chicago:20251213T170000
DTEND;TZID=America/Chicago:20251213T170000
DTSTAMP:20260424T051311
CREATED:20250721T211539Z
LAST-MODIFIED:20250721T211544Z
UID:10000407-1765645200-1765645200@nitelite.com
SUMMARY:A Magical Cirque Christmas
DESCRIPTION:A Magical Cirque Christmas appear on December 13 at 5PM & 8PM at the Fox Cities Performing Arts Center in Appleton\, WI! \nA Magical Cirque Christmas is a dazzling holiday variety show that captivates audiences of all ages. Bursting with festive charm\, laugh-out-loud comedy\, and heartwarming magic\, this high-flying spectacle showcases the extraordinary talents of the world’s most elite cirque performers. From gravity-defying acrobatics to jaw-dropping feats of strength and agility\, every act is set to a modern soundtrack of beloved Christmas classics. It’s a spellbinding winter journey through music\, movement\, and holiday joy perfect for the whole family. \nBUY TICKETS
URL:https://nitelite.com/event/a-magical-cirque-christmas-appleton-wi/
LOCATION:Fox Cities Performing Arts Center\, 400 West College Avenue\, Appleton\, WI\, 54911\, United States
CATEGORIES:All Events,Entertaiment,Event,Upcoming Events
ATTACH;FMTTYPE=image/jpeg:https://nitelite.com/wp-content/uploads/2025/07/thumbnail_Cirque-Appleton-1200x628-01.jpg
END:VEVENT
BEGIN:VEVENT
DTSTART;TZID=America/Chicago:20251213T190000
DTEND;TZID=America/Chicago:20251213T190000
DTSTAMP:20260424T051311
CREATED:20250411T215110Z
LAST-MODIFIED:20250411T215110Z
UID:10000383-1765652400-1765652400@nitelite.com
SUMMARY:The Rat Pack is Back for the Holidays
DESCRIPTION:The Rat Pack is Back for the Holidays returns to the Rialto Square Theatre in Joliet\, IL on December 13\, 2025 at 7PM! \nWhen Frank Sinatra\, Dean Martin\, and Sammy Davis Jr. get together\, the magic begins. There are no card tricks or rabbits pulled from a hat\, but lots of cheer (straight from the bar)\, plenty of laughs\, and their biggest hit songs\, including all your holiday favorites\, backed by a live swinging big band orchestra. \nDon’t miss Chris Jason as Frank Sinatra\, Drew Anthony as Dean Martin and Kenny Jones as Sammy Davis Jr. and their special Santa’s Helper stunning guest\, as they take you back to that glorious era and excitement of the 1960’s Sands Hotel & Casino’s Copa Room in Las Vegas with their wonderful holiday celebration of music and merry like no other. \nRemember\, “What started in Vegas all started with the Rat Pack.” \nBUY TICKETS
URL:https://nitelite.com/event/the-rat-pack-is-back-joliet-il/
LOCATION:Rialto Square Theatre\, 102 N. Chicago Street\, Joliet\, IL\, 60432\, United States
CATEGORIES:All Events,Entertaiment,Live Music,Tribute Acts,Upcoming Events
ATTACH;FMTTYPE=image/jpeg:https://nitelite.com/wp-content/uploads/2025/04/thumbnail_RatPack-Joliet-1200x628-02.jpg
END:VEVENT
BEGIN:VEVENT
DTSTART;TZID=America/Chicago:20251213T200000
DTEND;TZID=America/Chicago:20251213T200000
DTSTAMP:20260424T051311
CREATED:20250721T211708Z
LAST-MODIFIED:20250721T211830Z
UID:10000408-1765656000-1765656000@nitelite.com
SUMMARY:A Magical Cirque Christmas
DESCRIPTION:A Magical Cirque Christmas appear on December 13 at 5PM & 8PM at the Fox Cities Performing Arts Center in Appleton\, WI! \nA Magical Cirque Christmas is a dazzling holiday variety show that captivates audiences of all ages. Bursting with festive charm\, laugh-out-loud comedy\, and heartwarming magic\, this high-flying spectacle showcases the extraordinary talents of the world’s most elite cirque performers. From gravity-defying acrobatics to jaw-dropping feats of strength and agility\, every act is set to a modern soundtrack of beloved Christmas classics. It’s a spellbinding winter journey through music\, movement\, and holiday joy perfect for the whole family. \nBUY TICKETS \n 
URL:https://nitelite.com/event/a-magical-cirque-christmas-appleton-2/
LOCATION:Fox Cities Performing Arts Center\, 400 West College Avenue\, Appleton\, WI\, 54911\, United States
CATEGORIES:All Events,Entertaiment,Event,Upcoming Events
ATTACH;FMTTYPE=image/jpeg:https://nitelite.com/wp-content/uploads/2025/07/thumbnail_Cirque-Appleton-1200x628-01.jpg
END:VEVENT
END:VCALENDAR