BEGIN:VCALENDAR
VERSION:2.0
PRODID:-//NiteLite Promotions - ECPv6.15.20//NONSGML v1.0//EN
CALSCALE:GREGORIAN
METHOD:PUBLISH
X-ORIGINAL-URL:https://nitelite.com
X-WR-CALDESC:Events for NiteLite Promotions
REFRESH-INTERVAL;VALUE=DURATION:PT1H
X-Robots-Tag:noindex
X-PUBLISHED-TTL:PT1H
BEGIN:VTIMEZONE
TZID:America/Chicago
BEGIN:DAYLIGHT
TZOFFSETFROM:-0600
TZOFFSETTO:-0500
TZNAME:CDT
DTSTART:20240310T080000
END:DAYLIGHT
BEGIN:STANDARD
TZOFFSETFROM:-0500
TZOFFSETTO:-0600
TZNAME:CST
DTSTART:20241103T070000
END:STANDARD
BEGIN:DAYLIGHT
TZOFFSETFROM:-0600
TZOFFSETTO:-0500
TZNAME:CDT
DTSTART:20250309T080000
END:DAYLIGHT
BEGIN:STANDARD
TZOFFSETFROM:-0500
TZOFFSETTO:-0600
TZNAME:CST
DTSTART:20251102T070000
END:STANDARD
BEGIN:DAYLIGHT
TZOFFSETFROM:-0600
TZOFFSETTO:-0500
TZNAME:CDT
DTSTART:20260308T080000
END:DAYLIGHT
BEGIN:STANDARD
TZOFFSETFROM:-0500
TZOFFSETTO:-0600
TZNAME:CST
DTSTART:20261101T070000
END:STANDARD
END:VTIMEZONE
BEGIN:VEVENT
DTSTART;TZID=America/Chicago:20251212T200000
DTEND;TZID=America/Chicago:20251212T200000
DTSTAMP:20260424T035944
CREATED:20250715T152815Z
LAST-MODIFIED:20250715T152821Z
UID:10000401-1765569600-1765569600@nitelite.com
SUMMARY:Chris Isaak
DESCRIPTION:Chris Isaak appears on December 12\, 2025 at 8PM at the Rialto Square Theatre in Joliet\, IL! \nOver the course of his forty-year career\, Platinum-selling and GRAMMY-nominated singer & actor Chris Isaak has performed to sold-out crowds across the globe with his longtime band Silvertone. His music and film credits include thirteen critically acclaimed studio albums\, twelve chart-topping singles\, along with several motion pictures\, such as The Silence of the Lambs and That Thing You Do!. \nHis work has also taken him behind the scenes\, creating music for multiple film soundtracks\, including Eyes Wide Shut\, True Romance\, Wild at Heart\, and Blue Velvet. Isaak has starred in his own critically acclaimed television series\, The Chris Isaak Show on SHOWTIME\, has previously served as a judge on The X Factor Australia\, and hosted the music talk show\, The Chris Isaak Hour on BIO. 2024 marked the 35th Anniversary of Isaak’s beloved Heart-Shaped World album\, which includes his breakthrough classic “Wicked Game”. The newly released “Everybody Knows It’s Christmas’ is Isaak’s second career Christmas album and features 13 tracks of originals and covers. Isaak was recently honored with a Lifetime Achievement Award for Performance by the Americana Honors. \nBUY TICKETS
URL:https://nitelite.com/event/chris-isaak-joliet-il/
LOCATION:Rialto Square Theatre\, 102 N. Chicago Street\, Joliet\, IL\, 60432\, United States
CATEGORIES:All Events,Entertaiment,Event,Live Music,Upcoming Events
ATTACH;FMTTYPE=image/jpeg:https://nitelite.com/wp-content/uploads/2025/07/thumbnail_CIsaak-Joliet-1200x628-02.jpg
END:VEVENT
BEGIN:VEVENT
DTSTART;TZID=America/Chicago:20251212T200000
DTEND;TZID=America/Chicago:20251212T200000
DTSTAMP:20260424T035944
CREATED:20250815T174930Z
LAST-MODIFIED:20250815T174930Z
UID:10000410-1765569600-1765569600@nitelite.com
SUMMARY:Straight No Chaser:  Holiday Road Tour
DESCRIPTION:Straight No Chaser:  Holiday Road Tour appears on December 12 at 8PM at Embassy Theatre in Ft. Wayne\, IN! \nRIAA-certified Gold and holiday favorites a cappella group Straight No Chaser are back with their Holiday Road Tour. Straight No Chaser will be sharing the joy\, “dad jokes\,” and songs of the season with families around the country. The Holiday Road Tour  is a nod to the theme song of the cult classic film National Lampoon’s Christmas Vacation. \nBUY TICKETS
URL:https://nitelite.com/event/straight-no-chaser-ft-wayne-in-3/
LOCATION:The Embassy Theatre\, 125 W. Jefferson Blvd.\, Ft. Wayne\, IN\, 46802\, United States
CATEGORIES:All Events,Entertaiment,Event,Live Music,Upcoming Events
ATTACH;FMTTYPE=image/jpeg:https://nitelite.com/wp-content/uploads/2025/08/SNC-FtWayne-1200x628-01.jpg
ORGANIZER;CN="NiteLite Promotions":MAILTO:events@nitelite.com
END:VEVENT
END:VCALENDAR