BEGIN:VCALENDAR
VERSION:2.0
PRODID:-//NiteLite Promotions - ECPv6.15.20//NONSGML v1.0//EN
CALSCALE:GREGORIAN
METHOD:PUBLISH
X-WR-CALNAME:NiteLite Promotions
X-ORIGINAL-URL:https://nitelite.com
X-WR-CALDESC:Events for NiteLite Promotions
REFRESH-INTERVAL;VALUE=DURATION:PT1H
X-Robots-Tag:noindex
X-PUBLISHED-TTL:PT1H
BEGIN:VTIMEZONE
TZID:America/Chicago
BEGIN:DAYLIGHT
TZOFFSETFROM:-0600
TZOFFSETTO:-0500
TZNAME:CDT
DTSTART:20240310T080000
END:DAYLIGHT
BEGIN:STANDARD
TZOFFSETFROM:-0500
TZOFFSETTO:-0600
TZNAME:CST
DTSTART:20241103T070000
END:STANDARD
BEGIN:DAYLIGHT
TZOFFSETFROM:-0600
TZOFFSETTO:-0500
TZNAME:CDT
DTSTART:20250309T080000
END:DAYLIGHT
BEGIN:STANDARD
TZOFFSETFROM:-0500
TZOFFSETTO:-0600
TZNAME:CST
DTSTART:20251102T070000
END:STANDARD
BEGIN:DAYLIGHT
TZOFFSETFROM:-0600
TZOFFSETTO:-0500
TZNAME:CDT
DTSTART:20260308T080000
END:DAYLIGHT
BEGIN:STANDARD
TZOFFSETFROM:-0500
TZOFFSETTO:-0600
TZNAME:CST
DTSTART:20261101T070000
END:STANDARD
END:VTIMEZONE
BEGIN:VEVENT
DTSTART;TZID=America/Chicago:20251123T180000
DTEND;TZID=America/Chicago:20251123T180000
DTSTAMP:20260424T095324
CREATED:20250811T174231Z
LAST-MODIFIED:20250811T174238Z
UID:10000409-1763920800-1763920800@nitelite.com
SUMMARY:Home Free:  Let Me Come Home Tour
DESCRIPTION:Home Free:  Let Me Come Home Tour appears on November 23 at 6PM at the Rialto Square Theatre in Joliet\, IL! \nThis winter\, all-vocal country sensation Home Free invites you to celebrate the season with their heartwarming holiday tour\, Let Me Come Home – named after their touching original track from their 2024 holiday album\, Any Kind of Christmas. \nKnown for their jaw-dropping harmonies\, signature country charm\, and a uniquely festive spirit\, Home Free brings audiences a seasonal experience like no other. Featuring Rob Lundquist\, Adam Rupp\, Tim Foust\, Adam Chance\, and new member Adam Bell-Bastien\, this extraordinary group has taken the world by storm with over 720\,000 album equivalents sold\, 830+ million views on YouTube\, and 1.8 million subscribers — earning the title of “Country music fans’ favorite a cappella group” (Taste of Country). \nFollowing six Top 3 albums — including their #1 on Billboard’s Current Country Albums Chart\, So Long Dixie (2022) — and successful releases like As Seen On TV (2023) and Crazy(er) Life (2024)\, Home Free continues to impress both fans and critics. They’ve earned glowing praise from Billboard\, Rolling Stone\, FOX & Friends\, and American Songwriter\, thanks to their incredible vocal arrangements\, heartfelt performances\, and engaging stage presence. \nNow\, they’re decking the halls with a joyful mix of holiday favorites\, moving originals\, and all vocal renditions of beloved seasonal tunes\, all brought to life in perfect harmony. From the twinkling nostalgia of timeless carols to the upbeat energy of new Christmas classics\, this show has something for every generation. And of course\, their emotional original\, Let Me Come Home\, anchors the evening with a heartfelt reminder of what the holidays are truly about — togetherness\, love\, and the feeling of home. \nWhether you’re a longtime fan or discovering their magic for the first time\, this is a holiday tradition you won’t want to miss. The Let Me Come Home Tour promises an evening full of warmth\, laughter\, incredible vocals\, and just the right touch of holiday magic — a magical evening that will remind you why this time of year is truly special. Bring your friends\, your family\, and your holiday spirit\, and let Home Free welcome you home for the holidays. \nBUY TICKETS
URL:https://nitelite.com/event/home-free-joliet-il/
LOCATION:Rialto Square Theatre\, 102 N. Chicago Street\, Joliet\, IL\, 60432\, United States
CATEGORIES:All Events,Entertaiment,Event,Live Music,Upcoming Events
ATTACH;FMTTYPE=image/jpeg:https://nitelite.com/wp-content/uploads/2025/08/thumbnail_HomeFree-Joliet-1200x628-02.jpg
END:VEVENT
END:VCALENDAR