BEGIN:VCALENDAR
VERSION:2.0
PRODID:-//NiteLite Promotions - ECPv6.15.20//NONSGML v1.0//EN
CALSCALE:GREGORIAN
METHOD:PUBLISH
X-WR-CALNAME:NiteLite Promotions
X-ORIGINAL-URL:https://nitelite.com
X-WR-CALDESC:Events for NiteLite Promotions
REFRESH-INTERVAL;VALUE=DURATION:PT1H
X-Robots-Tag:noindex
X-PUBLISHED-TTL:PT1H
BEGIN:VTIMEZONE
TZID:America/Chicago
BEGIN:DAYLIGHT
TZOFFSETFROM:-0600
TZOFFSETTO:-0500
TZNAME:CDT
DTSTART:20240310T080000
END:DAYLIGHT
BEGIN:STANDARD
TZOFFSETFROM:-0500
TZOFFSETTO:-0600
TZNAME:CST
DTSTART:20241103T070000
END:STANDARD
BEGIN:DAYLIGHT
TZOFFSETFROM:-0600
TZOFFSETTO:-0500
TZNAME:CDT
DTSTART:20250309T080000
END:DAYLIGHT
BEGIN:STANDARD
TZOFFSETFROM:-0500
TZOFFSETTO:-0600
TZNAME:CST
DTSTART:20251102T070000
END:STANDARD
BEGIN:DAYLIGHT
TZOFFSETFROM:-0600
TZOFFSETTO:-0500
TZNAME:CDT
DTSTART:20260308T080000
END:DAYLIGHT
BEGIN:STANDARD
TZOFFSETFROM:-0500
TZOFFSETTO:-0600
TZNAME:CST
DTSTART:20261101T070000
END:STANDARD
END:VTIMEZONE
BEGIN:VEVENT
DTSTART;TZID=America/Chicago:20250222T170000
DTEND;TZID=America/Chicago:20250222T170000
DTSTAMP:20260425T183509
CREATED:20241113T211604Z
LAST-MODIFIED:20241113T211611Z
UID:10000343-1740243600-1740243600@nitelite.com
SUMMARY:Charlie Berens:  Good Old Fashioned Tour
DESCRIPTION:Charlie Berens:  Good Old Fashioned Tour appears at the Fox Cities Performing Arts Center in Appleton\, WI on February 22\, 2025 at 5PM & 8PM! \nCHARLIE BERENS is a comedian\, New York Times Best Selling Author\, Emmy-winning journalist\, musician and creator of the Manitowoc Minute. He creates weekly content for his various social platforms and has amassed over 9 million followers. \nIn 2017\, Charlie began hosting his weekly comedic online news show\, the Manitowoc Minute. Since then\, Charlie’s been creating Midwest-focused sketch comedy videos on his social media platforms. He’s also traveled the country with three sold out stand-up comedy tours. \nNote: If you are not in your seat when the show starts\, your purchased seat is not guaranteed. No Video or Photography Allowed for this event. \nBuy Tickets:  https://foxcitiespac.com/event/charlie-berens-good-old-fashioned-tour/
URL:https://nitelite.com/event/charlie-berens-appleton/
LOCATION:Fox Cities Performing Arts Center\, 400 West College Avenue\, Appleton\, WI\, 54911\, United States
CATEGORIES:All Events,Comedy,Entertaiment,Event,Upcoming Events
ATTACH;FMTTYPE=image/jpeg:https://nitelite.com/wp-content/uploads/2024/11/thumbnail_Berens-Appleton-1200x628-01.jpg
END:VEVENT
BEGIN:VEVENT
DTSTART;TZID=America/Chicago:20250222T200000
DTEND;TZID=America/Chicago:20250222T200000
DTSTAMP:20260425T183510
CREATED:20241113T211804Z
LAST-MODIFIED:20241113T211804Z
UID:10000344-1740254400-1740254400@nitelite.com
SUMMARY:Charlie Berens:  Good Old Fashioned Tour
DESCRIPTION:Charlie Berens:  Good Old Fashioned Tour appears at the Fox Cities Performing Arts Center in Appleton\, WI on February 22\, 2025 at 5PM & 8PM! \nCHARLIE BERENS is a comedian\, New York Times Best Selling Author\, Emmy-winning journalist\, musician and creator of the Manitowoc Minute. He creates weekly content for his various social platforms and has amassed over 9 million followers. \nIn 2017\, Charlie began hosting his weekly comedic online news show\, the Manitowoc Minute. Since then\, Charlie’s been creating Midwest-focused sketch comedy videos on his social media platforms. He’s also traveled the country with three sold out stand-up comedy tours. \nNote: If you are not in your seat when the show starts\, your purchased seat is not guaranteed. No Video or Photography Allowed for this event. \nBuy Tickets:  https://foxcitiespac.com/event/charlie-berens-good-old-fashioned-tour/
URL:https://nitelite.com/event/charlie-berens-good-old-fashioned-tour-6/
LOCATION:Fox Cities Performing Arts Center\, 400 West College Avenue\, Appleton\, WI\, 54911\, United States
CATEGORIES:All Events,Comedy,Entertaiment,Event,Upcoming Events
ATTACH;FMTTYPE=image/jpeg:https://nitelite.com/wp-content/uploads/2024/11/thumbnail_Berens-Appleton-1200x628-01.jpg
END:VEVENT
END:VCALENDAR