BEGIN:VCALENDAR
VERSION:2.0
PRODID:-//NiteLite Promotions - ECPv6.15.20//NONSGML v1.0//EN
CALSCALE:GREGORIAN
METHOD:PUBLISH
X-ORIGINAL-URL:https://nitelite.com
X-WR-CALDESC:Events for NiteLite Promotions
REFRESH-INTERVAL;VALUE=DURATION:PT1H
X-Robots-Tag:noindex
X-PUBLISHED-TTL:PT1H
BEGIN:VTIMEZONE
TZID:America/Chicago
BEGIN:DAYLIGHT
TZOFFSETFROM:-0600
TZOFFSETTO:-0500
TZNAME:CDT
DTSTART:20240310T080000
END:DAYLIGHT
BEGIN:STANDARD
TZOFFSETFROM:-0500
TZOFFSETTO:-0600
TZNAME:CST
DTSTART:20241103T070000
END:STANDARD
BEGIN:DAYLIGHT
TZOFFSETFROM:-0600
TZOFFSETTO:-0500
TZNAME:CDT
DTSTART:20250309T080000
END:DAYLIGHT
BEGIN:STANDARD
TZOFFSETFROM:-0500
TZOFFSETTO:-0600
TZNAME:CST
DTSTART:20251102T070000
END:STANDARD
BEGIN:DAYLIGHT
TZOFFSETFROM:-0600
TZOFFSETTO:-0500
TZNAME:CDT
DTSTART:20260308T080000
END:DAYLIGHT
BEGIN:STANDARD
TZOFFSETFROM:-0500
TZOFFSETTO:-0600
TZNAME:CST
DTSTART:20261101T070000
END:STANDARD
END:VTIMEZONE
BEGIN:VEVENT
DTSTART;TZID=America/Chicago:20250404T193000
DTEND;TZID=America/Chicago:20250404T193000
DTSTAMP:20260425T064902
CREATED:20241119T231635Z
LAST-MODIFIED:20241119T231639Z
UID:10000365-1743795000-1743795000@nitelite.com
SUMMARY:MJ Live - Michael Jackson Tribute
DESCRIPTION:MJ Live – Michael Jackson Tribute appears at the Genesee Theatre in Waukegan\, IL on April 4\, 2025 at 7:30PM! \nAs the No. 1 Michael Jackson tribute show in the world\, MJ LIVE recreates the electrifying stage show of one of the greatest performers of all time. From iconic dance moves like the moonwalk to timeless hits like “Bad\,” “Billie Jean\,” and “Beat It\,” the spot-on show brings all the Gloved One’s staples to life. Dance and sing along during the special Jackson 5 segment featuring classics like “I’ll Be There\,” “I Want You Back\,” “ABC\,” and more. Dazzling lighting and effects\, plus the MJ LIVE dancers and a live band\, make this show a truly spectacular fitting of the King of Pop. \nAbout MJ LIVE Michael Jackson Tribute Concert \nMJ LIVE is the #1 Michael Jackson tribute show in the world\, showcasing the energy\, excitement\, spectacle and pure joy of this legendary superstar and his music. This incredible\, theatrical stage production with its powerful sound\, spectacular lighting\, visual effects\, team of dancers and live band on stage takes audiences back to when the King of Pop ruled the charts – along with the Jalles Franca’s spot-on\, breathtaking impersonations. Jalles Franca is the only Michael Jackson impersonator with a star on the Las Vegas Walk of Fame. \nBuy Tickets: https://www.geneseetheatre.com/events/detail/mj-live-2025
URL:https://nitelite.com/event/mj-live-waukegan-il/
LOCATION:Genesee Theatre\, 203 N. Genesee Street\, Waukegan\, IL\, 60085\, United States
CATEGORIES:All Events,Entertaiment,Event,Live Music,Tribute Acts,Upcoming Events
ATTACH;FMTTYPE=image/jpeg:https://nitelite.com/wp-content/uploads/2024/11/24_012466_MJTribute-1200-x-628-Banner-Ads.jpg
END:VEVENT
BEGIN:VEVENT
DTSTART;TZID=America/Chicago:20250405T193000
DTEND;TZID=America/Chicago:20250405T193000
DTSTAMP:20260425T064902
CREATED:20241119T232824Z
LAST-MODIFIED:20241119T232830Z
UID:10000366-1743881400-1743881400@nitelite.com
SUMMARY:MJ Live - Michael Jackson Tribute
DESCRIPTION:MJ Live – Michael Jackson Tribute appears at the Rialto Square Theatre in Joliet\, IL on April 5\, 2025 at 7:30PM! \nAs the No. 1 Michael Jackson tribute show in the world\, MJ LIVE recreates the electrifying stage show of one of the greatest performers of all time. From iconic dance moves like the moonwalk to timeless hits like “Bad\,” “Billie Jean\,” and “Beat It\,” the spot-on show brings all the Gloved One’s staples to life. Dance and sing along during the special Jackson 5 segment featuring classics like “I’ll Be There\,” “I Want You Back\,” “ABC\,” and more. Dazzling lighting and effects\, plus the MJ LIVE dancers and a live band\, make this show a truly spectacular fitting of the King of Pop. \nAbout MJ LIVE Michael Jackson Tribute Concert \nMJ LIVE is the #1 Michael Jackson tribute show in the world\, showcasing the energy\, excitement\, spectacle and pure joy of this legendary superstar and his music. This incredible\, theatrical stage production with its powerful sound\, spectacular lighting\, visual effects\, team of dancers and live band on stage takes audiences back to when the King of Pop ruled the charts – along with the Jalles Franca’s spot-on\, breathtaking impersonations. Jalles Franca is the only Michael Jackson impersonator with a star on the Las Vegas Walk of Fame. \nBuy Tickets: https://rialtosquare.com/event/mj-live-michael-jackson-tribute/
URL:https://nitelite.com/event/mj-live-michael-jackson-tribute-joliet-il/
LOCATION:Rialto Square Theatre\, 102 N. Chicago Street\, Joliet\, IL\, 60432\, United States
CATEGORIES:All Events,Entertaiment,Event,Live Music,Tribute Acts,Upcoming Events
ATTACH;FMTTYPE=image/jpeg:https://nitelite.com/wp-content/uploads/2024/11/thumbnail_MJLive-Joliet-1200x628-02.jpg
END:VEVENT
BEGIN:VEVENT
DTSTART;TZID=America/Chicago:20250411T200000
DTEND;TZID=America/Chicago:20250411T200000
DTSTAMP:20260425T064902
CREATED:20241119T205208Z
LAST-MODIFIED:20241119T205208Z
UID:10000349-1744401600-1744401600@nitelite.com
SUMMARY:Hollywood Nights:  The Bob Seger Experience
DESCRIPTION:Hollywood Nights:  The Bob Seger Experience appears on April 11 at 8PM at the Coronado Theatre in Rockford\, IL! \nHollywood Nights – The Bob Seger Experience is the ultimate tribute to Bob Seger and the Silver Bullet Band. They are a 9-piece band based in New Jersey who continues to strive to recreate everything about Bob Seger and his music down to the core. They pride themselves on carrying on the legacy of Bob Seger’s unforgettable high-energy shows\, roaring raspy vocals\, and the groundwork Bob has laid over the past 30 years. Hollywood Nights shares the belief that only Bob and his fans have come to know\, learn\, and love: Represent the voice of every fan\, his or her values\, working-class background\, and the love of rock ‘n’ roll. If you are a true fan of Bob Seger and the Silver Bullet Band\, you won’t want to miss Hollywood Nights! \nBuy Tickets: https://www.ticketmaster.com/hollywood-nights-bob-seger-tribute-rockford-illinois-04-11-2025/event/04006167D7333969
URL:https://nitelite.com/event/hollywood-nights-rockford-il/
LOCATION:Coronado Theatre\, 314 N. Main Street\, Rockford\, IL\, 61101\, United States
CATEGORIES:All Events,Entertaiment,Event,Live Music,Rock Music,Tribute Acts,Upcoming Events
ATTACH;FMTTYPE=image/jpeg:https://nitelite.com/wp-content/uploads/2024/11/thumbnail_HNights-Rockford-1200x628-02.jpg
END:VEVENT
BEGIN:VEVENT
DTSTART;TZID=America/Chicago:20250412T190000
DTEND;TZID=America/Chicago:20250412T190000
DTSTAMP:20260425T064902
CREATED:20241119T215606Z
LAST-MODIFIED:20250103T201026Z
UID:10000356-1744484400-1744484400@nitelite.com
SUMMARY:The Princess Bride: An Inconceivable Evening with Cary Elwes
DESCRIPTION:Due to a scheduling conflict\, the January 18\, 2025 presentation of The Princess Bride: An Inconceivable Evening with Cary Elwes at the Kauffman Center for the Performing Arts in Kansas City\, MO\, has been rescheduled to Saturday\, April 12\, 2025. All tickets for the original show will be honored at the new date. \nTicketholders that are unable to attend the new date\, can reach out to their point of purchase for a refund within 30 days. Please contact the Kauffman Center box office with questions or for assistance. \nJoin Cary Elwes (Westley) for a behind-the-scenes look at life on and off the set of the classic film\, The Princess Bride. \nAfter a screening of the iconic movie\, Elwes will engage in a moderated discussion revealing never before shared secrets and tales of inconceivable antics! \nJourney back to the lands of Florin and Guilder in an adventure filled with fencing\, fighting\, torture\, revenge\, giants\, monsters\, chases\, escapes\, miracles\, and of course\, true love. \nElwes has been in a multitude of films and tv shows\, including Robin Hood: Men in Tights\, Bram Stoker’s Dracula\, Saw\, Twister\, Liar\, Liar\, Stranger Things and The Marvelous Mrs. Maisel. He recently starred in Guy Ritchie’s “Operation Fortune: Ruse de Guerre”\, “Mission Impossible: Dead Reckoning Part 1” with Tom Cruise\, Zack Snyder’s sci fi epic\, “Rebel Moon\, and his latest film “Sweetwater”\, based on the true story of the first African American signed to the NBA. \nNow Elwes is hitting the road to share with fans the personal stories behind the making of this piece of cinematic history. \nDon’t be a “Humperdinck”\, make haste to see The Princess Bride: An Inconceivable Evening with Cary Elwes for a night you will always “tweasure”. \nA limited number of VIP packages are available and include the best seats in the house\, a Meet and Greet with Cary Elwes\, and a signed copy of Cary Elwes best-selling book\, As You Wish: Inconceivable Tales from the Making of The Princess Bride. \nBuy Tickets:
URL:https://nitelite.com/event/the-princess-bride-an-inconceivable-evening-with-cary-elwes-kansas-city/
LOCATION:Kauffman Center for the Perfoming Arts\, 1601 Broadway Blvd.\, Kansas City\, MO\, 64108\, United States
CATEGORIES:All Events,Entertaiment,Event,Upcoming Events
ATTACH;FMTTYPE=image/jpeg:https://nitelite.com/wp-content/uploads/2024/11/KCPA_TPB_FBEvent_2025-UPDATED.jpg
END:VEVENT
BEGIN:VEVENT
DTSTART;TZID=America/Chicago:20250413T140000
DTEND;TZID=America/Chicago:20250413T140000
DTSTAMP:20260425T064902
CREATED:20241203T211703Z
LAST-MODIFIED:20241203T211706Z
UID:10000367-1744552800-1744552800@nitelite.com
SUMMARY:Blippi:  Join the Band Tour
DESCRIPTION:Blippi:  Join the Band Tour appears at the Rialto Square Theatre in Joliet\, IL on April 13\, 2025 at 2PM! \nRound Room Live and Moonbug Entertainment are proud to announce a new live show\, Blippi: Join the Band Tour. The brand-new production features musicians playing LIVE on stage and promises to bring the vivacious\, energetic\, and educational antics of global sensation Blippi to stages across North America in a never-before-seen show\, with a stop in Joliet on April 13th. \nJoin Blippi to make music in your hometown in the brand new live Blippi: Join the Band Tour! Blippi will be joined onstage by Meekah along with their singing and dancing buddies and LIVE musicians. They’ll explore what makes music\, including sounds\, rhythms and instruments\, with fan-favorite Blippi hits. So grab your drumsticks\, tune up your guitar\, and move those feet with Blippi and get ready for a musical performance that’s fun for the whole family! \n“We are turning it up to 11 with the Blippi: Join the Band Tour this Spring\,” said Stephen Shaw\, Founder and Co-President of Round Room Live. “Blippi is a rockstar for today’s kids and has been delighting millions of children and families all over the world. A brand new show that amps up the excitement to an even higher volume with a live band onstage was the next logical step in continuing Blippi touring around the world.” \n“Following the success of previous tours\, Blippi: Join the Band Tour will bring families to their feet across the country to dance and sing along to their favorite Blippi hits as well as some brand new songs.” Susan Vargo\, Head of Global Experiences at Moonbug Entertainment added\, “Parents and kids alike will share in making music the Blippi way\, with curiosity and silliness center stage!” \nBlippi on Tour has traveled the globe multiple times and has delighted millions of international fans throughout North America\, the United Kingdom\, Mexico\, Africa\, Asia\, and the Middle East\, with plans to visit many more new countries in 2024 and beyond. \nBlippi inspires curiosity in preschoolers around the world by creating content and experiences that are relatable\, accessible and make learning fun. Blippi has become a worldwide sensation with more than one billion monthly views across platforms including Netflix\, HBO Max\, Cartoonito\, Sky\, Amazon and YouTube\, and millions of fans around the world. The franchise has expanded rapidly since it was acquired by Moonbug Entertainment in 2020. Blippi is available in more than 20 languages\, including ASL\, and is distributed by more than 30 global broadcast and streaming partners. Blippi’s buddies Meekah and Juca have spun off into their own shows and Blippi lives off the screen as well with sold-out live events\, popular music tracks\, and in-demand toys available at all major retailers. \nFor Blippi: Join the Band Tour\, the characters Blippi and Meekah will be played by professional stage performers selected specifically for the tour. \nFans can visit BlippiOnTour.com now for tour dates and ticket information\, and follow Blippi On Tour social media for exclusive tour content. \nBuy Tickets:  https://www.ticketmaster.com/blippi-join-the-band-tour-joliet-illinois-04-13-2025/event/07006174C55C3ED5
URL:https://nitelite.com/event/blippi-join-the-band-tour-joliet-il/
LOCATION:Rialto Square Theatre\, 102 N. Chicago Street\, Joliet\, IL\, 60432\, United States
CATEGORIES:All Events,Entertaiment,Event,Upcoming Events
ATTACH;FMTTYPE=image/jpeg:https://nitelite.com/wp-content/uploads/2024/12/Blippi-Joliet-1200x628-02.jpg
END:VEVENT
BEGIN:VEVENT
DTSTART;TZID=America/Chicago:20250425T200000
DTEND;TZID=America/Chicago:20250425T200000
DTSTAMP:20260425T064902
CREATED:20240924T211156Z
LAST-MODIFIED:20240924T211210Z
UID:10000337-1745611200-1745611200@nitelite.com
SUMMARY:Dude Dad:  On Thin Ice Comedy Tour
DESCRIPTION:Dude Dad:  On Thin Ice Comedy Tour appears at the Ames Center in Burnsville\, MN on April 25\, 2025 at 8PM! \nDude Dad invites you to a parents night out for the On Thin ice Comedy Tour!   And\, yes…Heidi will be there too!\nTaylor Calmus AKA ‘Dude Dad’ is Colorado based video creator who has become a viral sensation through his comedy videos. A father of 4 kids and a husband to his wife Heidi\, Taylor taps into the relatability of parenthood to help parents laugh at their own struggles.  This event is 18+ \n​Post Show Meet & Greet options available to add to any ticket.  \nTickets on sale Friday 9/27 at 10am!
URL:https://nitelite.com/event/dude-dad-burnsville-mn/
LOCATION:Ames Center\, 12600 Nicollet Avenue\, Burnsville\, MN\, 55337\, United States
CATEGORIES:All Events,Comedy,Entertaiment,Event,Upcoming Events
ATTACH;FMTTYPE=image/jpeg:https://nitelite.com/wp-content/uploads/2024/09/DudeDad-Burnsville-1920x1080-01.jpg
END:VEVENT
BEGIN:VEVENT
DTSTART;TZID=America/Chicago:20250426T200000
DTEND;TZID=America/Chicago:20250426T200000
DTSTAMP:20260425T064902
CREATED:20240924T212237Z
LAST-MODIFIED:20240924T212249Z
UID:10000338-1745697600-1745697600@nitelite.com
SUMMARY:Dude Dad:  On Thin Ice Comedy Tour
DESCRIPTION:Dude Dad:  On Thin Ice Comedy Tour appears at the DECC Symphony Hall in Duluth\, MN on April 26 at 8PM! \nDude Dad invites you to a parents night out for the On Thin ice Comedy Tour!   And\, yes…Heidi will be there too!\nTaylor Calmus AKA ‘Dude Dad’ is Colorado based video creator who has become a viral sensation through his comedy videos. A father of 4 kids and a husband to his wife Heidi\, Taylor taps into the relatability of parenthood to help parents laugh at their own struggles.  This event is 18+ \n​Post Show Meet & Greet options available to add to any ticket.  \nTickets on sale Friday 9/27 at 10am!
URL:https://nitelite.com/event/dude-dad-duluth-mn/
LOCATION:IL
CATEGORIES:All Events,Comedy,Entertaiment,Event,Upcoming Events
ATTACH;FMTTYPE=image/jpeg:https://nitelite.com/wp-content/uploads/2024/09/DudeDad-Duluth-1920x1080-01.jpg
ORGANIZER;CN="NiteLite Promotions":MAILTO:events@nitelite.com
END:VEVENT
END:VCALENDAR