BEGIN:VCALENDAR
VERSION:2.0
PRODID:-//NiteLite Promotions - ECPv6.15.20//NONSGML v1.0//EN
CALSCALE:GREGORIAN
METHOD:PUBLISH
X-WR-CALNAME:NiteLite Promotions
X-ORIGINAL-URL:https://nitelite.com
X-WR-CALDESC:Events for NiteLite Promotions
REFRESH-INTERVAL;VALUE=DURATION:PT1H
X-Robots-Tag:noindex
X-PUBLISHED-TTL:PT1H
BEGIN:VTIMEZONE
TZID:America/Chicago
BEGIN:DAYLIGHT
TZOFFSETFROM:-0600
TZOFFSETTO:-0500
TZNAME:CDT
DTSTART:20250309T080000
END:DAYLIGHT
BEGIN:STANDARD
TZOFFSETFROM:-0500
TZOFFSETTO:-0600
TZNAME:CST
DTSTART:20251102T070000
END:STANDARD
BEGIN:DAYLIGHT
TZOFFSETFROM:-0600
TZOFFSETTO:-0500
TZNAME:CDT
DTSTART:20260308T080000
END:DAYLIGHT
BEGIN:STANDARD
TZOFFSETFROM:-0500
TZOFFSETTO:-0600
TZNAME:CST
DTSTART:20261101T070000
END:STANDARD
BEGIN:DAYLIGHT
TZOFFSETFROM:-0600
TZOFFSETTO:-0500
TZNAME:CDT
DTSTART:20270314T080000
END:DAYLIGHT
BEGIN:STANDARD
TZOFFSETFROM:-0500
TZOFFSETTO:-0600
TZNAME:CST
DTSTART:20271107T070000
END:STANDARD
END:VTIMEZONE
BEGIN:VEVENT
DTSTART;TZID=America/Chicago:20260417T193000
DTEND;TZID=America/Chicago:20260417T193000
DTSTAMP:20260423T123443
CREATED:20260210T201235Z
LAST-MODIFIED:20260325T191909Z
UID:10000434-1776454200-1776454200@nitelite.com
SUMMARY:Forever K-Pop - A Celebration Concert
DESCRIPTION:Forever K-Pop – A Celebration Concert appears at the Rialto Square Theatre in Joliet\, IL on April 17 at 7:30PM! \nInspired by the worldwide K-Pop phenomenon and recent smash-hit film KPop Demon Hunters\, Forever K-Pop – A Celebration Concert (www.ForeverKpopLive.com) brings a next-level\, fan-powered tribute experience and high-octane production featuring today’s biggest K-Pop hits to life on stage in a cinematic spectacle unlike anything audiences have seen in a tribute concert before. With BTS returning to the global stage\, the K-pop genre will see renewed momentum\, drawing increased attention from longtime fans and new audiences worldwide. \nDesigned as a high-energy K-pop revue\, Forever K-Pop – A Celebration Concert fuses electrifying live vocals and choreography\, bold costuming\, and cinematic visuals into a dazzling live performance. Presented in two exhilarating 45-\nminute acts\, the show captures the pulse of the global K-pop movement while spotlighting iconic moments and breakout\nanthems including Katseye’s “Debut\,” and “Golden” and “Soda Pop” by K-Pop Demon Hunters’ breakout sensations HUNTR/X (Huntrix) and Saja Boys\, respectively. Other chart-topping hits in the set list include “Seven” by Jungkook featuring Latto\, BTS’ “Butter\,” BLACKPINK’s “Ddu-Du Ddu-Du\,” NewJeans’ “Supershy\,” and Stray Kids’ “Maniac.” \n“K-pop’s worldwide popularity is truly staggering. Its creativity\, its passion\, its community – all of that energy has inspired us to craft a concert event that captures the joy and spectacle fans crave\,” says Justin Sudds\, executive producer at Right Angle Entertainment. “We’ve built this show for the fans who live for K-pop\, dance practice videos\, fancams\, music video premieres\, and the electrifying sensation of seeing their favorite songs performed onstage.” \n“Forever K-Pop delivers nonstop momentum and an adrenaline-fueled lineup of crowd-igniting anthems\, dance-floor\nfavorites\, and instantly recognizable hits designed to get the entire room moving\,” says Dean Elliott\, Executive Creative\nDirector at Maple Tree Entertainment. “The result is a massive\, feel-good dance party for tweens\, teens\, families\, and\ndevoted fans alike.” \nFrom the creators and producers of Ninja Kids Infinite Possibilities: Live!\, Jay Shetty: Love Rules\, The Life and Music of George Michael\, and The Simon & Garfunkel Story\, Forever K-Pop – A Celebration Concert promises a euphoric night powered by breathtaking vocals\, razor-sharp choreography\, and the unmistakable pulse of the global K-pop wave. Every musical number becomes a sensory event — a whirlwind of light\, movement\, and sound that transports audiences straight to a stadium in Seoul. Fan experiences elevate the night even further\, with lobby dance takeovers\, selfie zones\, and branded backdrops\, exclusive photocards\, and jumbo-screen shoutouts. \nK-pop’s global momentum shows no signs of slowing. According to Forbes\, in just six months K-pop acts generated $228 million in ticket sales across 1.6 million fans. Now\, with Forever K Pop – A Celebration Concert\, audiences everywhere can feel the rush of the genre’s signature sound and spectacle — live\, loud\, and up close!
URL:https://nitelite.com/event/forever-k-pop-joliet-il/
LOCATION:Rialto Square Theatre\, 102 N. Chicago Street\, Joliet\, IL\, 60432\, United States
CATEGORIES:All Events,Entertaiment,Event,Tribute Acts,Upcoming Events
ATTACH;FMTTYPE=image/jpeg:https://nitelite.com/wp-content/uploads/2026/02/d9f8422c-25a0-4cb2-9c9e-daca7012a41f.jpg
ORGANIZER;CN="NiteLite Promotions":MAILTO:events@nitelite.com
END:VEVENT
END:VCALENDAR