BEGIN:VCALENDAR
VERSION:2.0
PRODID:-//NiteLite Promotions - ECPv6.15.20//NONSGML v1.0//EN
CALSCALE:GREGORIAN
METHOD:PUBLISH
X-WR-CALNAME:NiteLite Promotions
X-ORIGINAL-URL:https://nitelite.com
X-WR-CALDESC:Events for NiteLite Promotions
REFRESH-INTERVAL;VALUE=DURATION:PT1H
X-Robots-Tag:noindex
X-PUBLISHED-TTL:PT1H
BEGIN:VTIMEZONE
TZID:America/Chicago
BEGIN:DAYLIGHT
TZOFFSETFROM:-0600
TZOFFSETTO:-0500
TZNAME:CDT
DTSTART:20250309T080000
END:DAYLIGHT
BEGIN:STANDARD
TZOFFSETFROM:-0500
TZOFFSETTO:-0600
TZNAME:CST
DTSTART:20251102T070000
END:STANDARD
BEGIN:DAYLIGHT
TZOFFSETFROM:-0600
TZOFFSETTO:-0500
TZNAME:CDT
DTSTART:20260308T080000
END:DAYLIGHT
BEGIN:STANDARD
TZOFFSETFROM:-0500
TZOFFSETTO:-0600
TZNAME:CST
DTSTART:20261101T070000
END:STANDARD
BEGIN:DAYLIGHT
TZOFFSETFROM:-0600
TZOFFSETTO:-0500
TZNAME:CDT
DTSTART:20270314T080000
END:DAYLIGHT
BEGIN:STANDARD
TZOFFSETFROM:-0500
TZOFFSETTO:-0600
TZNAME:CST
DTSTART:20271107T070000
END:STANDARD
END:VTIMEZONE
BEGIN:VEVENT
DTSTART;TZID=America/Chicago:20260404T190000
DTEND;TZID=America/Chicago:20260404T190000
DTSTAMP:20260423T123449
CREATED:20251118T220600Z
LAST-MODIFIED:20251118T221248Z
UID:10000428-1775329200-1775329200@nitelite.com
SUMMARY:Celtic Woman - A New Era
DESCRIPTION:Celtic Woman – A New Era appears at the Rialto Square Theatre in Joliet\, IL on April 4\, 2026 at 7PM! \nGRAMMY ® nominated global music sensation Celtic Woman returns to North America and Canada in Spring 2026 with their all-new show A New Era. \nCelebrating their rich musical and cultural heritage with a fresh and contemporary spirit\, A New Era marks the beginning of a new chapter for the world-renowned ensemble. \nThis tour marks a new\, exciting chapter in the group’s celebrated 21-year journey\, blending the ensemble’s signature sound with fresh arrangements and dynamic stage production. \nA New Era showcases the timeless traditions of Irish music and culture while reflecting on Celtic Woman’s continued evolution. Audiences can expect a captivating performance featuring new orchestrations\, exquisite harmonies and world-class musicianship brought to life by sopranos Mairéad Carlin\, Muirgen O’Mahony\, Sean-Nós singer Caitríona Sherlock\, and fiddle player Ciara Ní Mhurchú\, together with the Celtic Woman band and dancers. \nSince their debut in 2004\, Celtic Woman has captivated millions of fans worldwide with their powerful performances and storytelling. The group has achieved over 3 billion streams\, 12.5 million global equivalent album sales\, and performed to millions of fans across 23 countries. With A New Era\, the group invites audiences to experience the next chapter in their extraordinary story\, one that honours the past while embracing the future. \nTickets on sale Friday\, December 5
URL:https://nitelite.com/event/celtic-woman-joliet-il/
LOCATION:Rialto Square Theatre\, 102 N. Chicago Street\, Joliet\, IL\, 60432\, United States
CATEGORIES:All Events,Entertaiment,Event,Live Music,Upcoming Events
ATTACH;FMTTYPE=image/jpeg:https://nitelite.com/wp-content/uploads/2025/11/CelticW-Joliet-1200x628-02.jpg
END:VEVENT
END:VCALENDAR