BEGIN:VCALENDAR
VERSION:2.0
PRODID:-//NiteLite Promotions - ECPv6.15.20//NONSGML v1.0//EN
CALSCALE:GREGORIAN
METHOD:PUBLISH
X-ORIGINAL-URL:https://nitelite.com
X-WR-CALDESC:Events for NiteLite Promotions
REFRESH-INTERVAL;VALUE=DURATION:PT1H
X-Robots-Tag:noindex
X-PUBLISHED-TTL:PT1H
BEGIN:VTIMEZONE
TZID:America/Chicago
BEGIN:DAYLIGHT
TZOFFSETFROM:-0600
TZOFFSETTO:-0500
TZNAME:CDT
DTSTART:20250309T080000
END:DAYLIGHT
BEGIN:STANDARD
TZOFFSETFROM:-0500
TZOFFSETTO:-0600
TZNAME:CST
DTSTART:20251102T070000
END:STANDARD
BEGIN:DAYLIGHT
TZOFFSETFROM:-0600
TZOFFSETTO:-0500
TZNAME:CDT
DTSTART:20260308T080000
END:DAYLIGHT
BEGIN:STANDARD
TZOFFSETFROM:-0500
TZOFFSETTO:-0600
TZNAME:CST
DTSTART:20261101T070000
END:STANDARD
BEGIN:DAYLIGHT
TZOFFSETFROM:-0600
TZOFFSETTO:-0500
TZNAME:CDT
DTSTART:20270314T080000
END:DAYLIGHT
BEGIN:STANDARD
TZOFFSETFROM:-0500
TZOFFSETTO:-0600
TZNAME:CST
DTSTART:20271107T070000
END:STANDARD
END:VTIMEZONE
BEGIN:VEVENT
DTSTART;TZID=America/Chicago:20260326T193000
DTEND;TZID=America/Chicago:20260326T193000
DTSTAMP:20260423T135832
CREATED:20251208T215524Z
LAST-MODIFIED:20251208T215538Z
UID:10000430-1774553400-1774553400@nitelite.com
SUMMARY:Jake Owen - Dreams to Dream Tour
DESCRIPTION:Jake Owen – Dreams to Dream Tour special guest Kendall Marvel\, is heading to the Meyer Theatre in Green Bay\, WI on March 26\, 2026 at 7:30PM! \nJake Owen is a country music mainstay with a career boasting a collection of gold and platinum records\, 10 No.1 singles\, and more than 2.5 Billion U.S. on-demand streams. The chart-topping superstar and ACM award winner is signatured by his laid-back style and hit recordings such as “Barefoot Blue Jean Night\,” “Beachin’\,” “Anywhere With You\,” “Alone With You” and “The One That Got Away.” \nThe recording artist\, headlining entertainer and actor has released nine albums\, headlined tours globally\, and appeared in the movie Our Friend (2019). As a member of The Heartbreak On The Map Tour\, Jake performed 30 show dates sharing the stage with Dan + Shay in 2024. \nThe music business executive\, philanthropist and father of two is a partner in Good Company Entertainment (a Nashville-based management and label service company) and the founder of The Jake Owen Foundation (2010). The nonprofit lends financial support to children battling cancer and other catastrophic childhood diseases. The organization also assists youth organizations in Owen’s hometown of Vero Beach\, Florida. \nBUY TICKETS
URL:https://nitelite.com/event/jake-owen-green-bay-wi/
LOCATION:Meyer Theatre\, 117 South Washington Street\, Green Bay\, WI\, 54301\, United States
CATEGORIES:All Events,Country Music,Entertaiment,Event,Live Music,Upcoming Events
ATTACH;FMTTYPE=image/jpeg:https://nitelite.com/wp-content/uploads/2025/12/JOwen-GBay-1200x628-01.jpg
END:VEVENT
END:VCALENDAR