BEGIN:VCALENDAR
VERSION:2.0
PRODID:-//NiteLite Promotions - ECPv6.15.20//NONSGML v1.0//EN
CALSCALE:GREGORIAN
METHOD:PUBLISH
X-WR-CALNAME:NiteLite Promotions
X-ORIGINAL-URL:https://nitelite.com
X-WR-CALDESC:Events for NiteLite Promotions
REFRESH-INTERVAL;VALUE=DURATION:PT1H
X-Robots-Tag:noindex
X-PUBLISHED-TTL:PT1H
BEGIN:VTIMEZONE
TZID:America/Chicago
BEGIN:DAYLIGHT
TZOFFSETFROM:-0600
TZOFFSETTO:-0500
TZNAME:CDT
DTSTART:20250309T080000
END:DAYLIGHT
BEGIN:STANDARD
TZOFFSETFROM:-0500
TZOFFSETTO:-0600
TZNAME:CST
DTSTART:20251102T070000
END:STANDARD
BEGIN:DAYLIGHT
TZOFFSETFROM:-0600
TZOFFSETTO:-0500
TZNAME:CDT
DTSTART:20260308T080000
END:DAYLIGHT
BEGIN:STANDARD
TZOFFSETFROM:-0500
TZOFFSETTO:-0600
TZNAME:CST
DTSTART:20261101T070000
END:STANDARD
BEGIN:DAYLIGHT
TZOFFSETFROM:-0600
TZOFFSETTO:-0500
TZNAME:CDT
DTSTART:20270314T080000
END:DAYLIGHT
BEGIN:STANDARD
TZOFFSETFROM:-0500
TZOFFSETTO:-0600
TZNAME:CST
DTSTART:20271107T070000
END:STANDARD
END:VTIMEZONE
BEGIN:VEVENT
DTSTART;TZID=America/Chicago:20260319T193000
DTEND;TZID=America/Chicago:20260319T193000
DTSTAMP:20260423T135412
CREATED:20250715T221723Z
LAST-MODIFIED:20251010T183907Z
UID:10000403-1773948600-1773948600@nitelite.com
SUMMARY:Craig Ferguson:  Pants on Fire
DESCRIPTION:Craig Ferguson:  Pants on Fire appears on March 19\, 2025 at 7:30PM at the Overture Center in Madison\, WI! \nCraig Ferguson is a multiple Grammy nominated\, Peabody and Emmy Award-winning actor\, writer\, producer\, director and comedian with a diverse career that encompasses film\, television and the stage. He is a New York Times bestselling author and has recorded numerous standup specials for Netflix\, Epix\, Comedy Central and Amazon \nThe wildly popular Late Late Show with Craig Ferguson ran on CBS for ten years and remains a cult favorite on YouTube racking up millions of views every year on fan posted bootleg clips. \nBorn in Glasgow\, Scotland\, Ferguson got his start in the entertainment industry as a drummer for some of the worst punk bands in the U.K. Following his musical stint\, he began bartending in a local pub in Glasgow where he was introduced to Sir Michael Boyd\, the artistic directo r of The Tron Theatre in Glasgow\, who persuaded Ferguson to try acting. After several low paying acting gigs\, Ferguson discovered he had a knack for comedy and was soon the star of his own BBC television show\, “The Ferguson Theory.” After several stints on the UK comedy circuit\, Ferguson brought his act to America in 1995 to star with Betty White and Marie Osmond in the short-lived ABC comedy\, “Maybe This Time.” After the show ended\, ABC decided to add the talented Scotsman to “The Drew Carey Show\,” playing Drew Carey’s boss\, ‘Nigel Wick\,’ from 1996-2003. \nIn 2016\, Ferguson debuted his original History Channel show\, “Join or Die\,” which featured him and his celebrity friends debating provocative topics with history experts. He also hosted Celebrity Name Game in syndication where he won the Emmy for best host two years in a row and The Hustler for ABC/Disney. \nFerguson has written the feature films “The Big Tease” and “Saving Grace”. In 2003\, he made his directorial debut with “I’ll Be There\,” which he also wrote and starred in. “I’ll Be There” went on to receive the Audience Award for Best Film at the Aspen\, Dallas\, and Valencia film festivals. Craig was also named “best new director” at the Napa Valley Film Festival. Ferguson’s other film credits include\, “Niagra Motel\,” “Lenny the Wonder Dog\,” “Prendimi l’anima\,” “Life Without Dick\,” “Chain of Fools” and “Born Romantic.” In 2011\, Ferguson portrayed ‘Owl’ in the Disney classic “Winnie the Pooh\,” and in 2012 he portrayed ‘Lord Macintosh’ in Disney’s Oscar winning animated feature “Brave.”  He also voices Gobber in the hugely successful How To Train Your Dragon movies. \nFerguson has achieved notable success on the North American comedy circuit and has performed to sold-out theaters all across the country\, including Carnegie Hall and Radio City Music Hall. He has five widely acclaimed stand-up comedy specials: “A Wee Bit O’ Revolution” which premiere in 2009 on Comedy Central; “Does This Need to Be Said” in 2011 on EPIX and Comedy Central; “I’m Here to Help” in 2013 on Netflix\, which earned him a Grammy nomination for Best Comedy Album; “Just Being Honest” in 2015 on EPIX\, which earned him a second Grammy nomination for Best Comedy Album; and “Tickle Fight” in 2017 on Netflix and the six part stand up/docu-series “Hobo Fabulous” on Amazon in 2020. \nIn 2006\, Ferguson debuted his first novel entitled Between the Bridge and the River\, which made it onto the bestseller list.  In 2008\, Ferguson succeeded in becoming a US Citizen. His first gig as a new American was hosting the White House Correspondence Dinner in the company of President George W Bush and Vice President Dick Cheney. Critics raved of his witty and comical deliverance speech to the 3\,000 attendees who included political journalists\, celebrities\, and Washington’s power players. In 2009\, Harper Collins published Ferguson’s memoir American on Purpose – a book about why and how late night funnyman Craig Ferguson became an American. The book was listed on the New York Times bestseller list. It was also nominated for a Grammy Award for Best Spoken Word. \nHis most recent book Riding the Elephant- a series of linked biographical stories- is available from Penguin books. \nBUY TICKETS \nAges 16+
URL:https://nitelite.com/event/craig-ferguson-madison/
LOCATION:Overture Center for the Arts\, 201 State Street\, Madison\, WI\, 53703\, United States
CATEGORIES:All Events,Comedy,Entertaiment,Event,Upcoming Events
ATTACH;FMTTYPE=image/jpeg:https://nitelite.com/wp-content/uploads/2025/07/CFerguson-Madison-1200x628-01.jpg
END:VEVENT
END:VCALENDAR