BEGIN:VCALENDAR
VERSION:2.0
PRODID:-//NiteLite Promotions - ECPv6.15.20//NONSGML v1.0//EN
CALSCALE:GREGORIAN
METHOD:PUBLISH
X-ORIGINAL-URL:https://nitelite.com
X-WR-CALDESC:Events for NiteLite Promotions
REFRESH-INTERVAL;VALUE=DURATION:PT1H
X-Robots-Tag:noindex
X-PUBLISHED-TTL:PT1H
BEGIN:VTIMEZONE
TZID:America/Chicago
BEGIN:DAYLIGHT
TZOFFSETFROM:-0600
TZOFFSETTO:-0500
TZNAME:CDT
DTSTART:20240310T080000
END:DAYLIGHT
BEGIN:STANDARD
TZOFFSETFROM:-0500
TZOFFSETTO:-0600
TZNAME:CST
DTSTART:20241103T070000
END:STANDARD
BEGIN:DAYLIGHT
TZOFFSETFROM:-0600
TZOFFSETTO:-0500
TZNAME:CDT
DTSTART:20250309T080000
END:DAYLIGHT
BEGIN:STANDARD
TZOFFSETFROM:-0500
TZOFFSETTO:-0600
TZNAME:CST
DTSTART:20251102T070000
END:STANDARD
BEGIN:DAYLIGHT
TZOFFSETFROM:-0600
TZOFFSETTO:-0500
TZNAME:CDT
DTSTART:20260308T080000
END:DAYLIGHT
BEGIN:STANDARD
TZOFFSETFROM:-0500
TZOFFSETTO:-0600
TZNAME:CST
DTSTART:20261101T070000
END:STANDARD
END:VTIMEZONE
BEGIN:VEVENT
DTSTART;TZID=America/Chicago:20250806T193000
DTEND;TZID=America/Chicago:20250806T193000
DTSTAMP:20260424T091419
CREATED:20250521T165853Z
LAST-MODIFIED:20250521T165853Z
UID:10000389-1754508600-1754508600@nitelite.com
SUMMARY:The Australian Pink Floyd Show: Wish You Were Here 50th Anniversary Tour
DESCRIPTION:The Australian Pink Floyd Show:  Wish You Were Here 50th Anniversary Tour appears at the Rialto Square Theatre in Joliet\, IL on August 6\, 2025 at 7:30PM! \nThe Times describes it as “The Gold Standard” \nThe Daily Mirror as “The Kings of the Genre” \nCelebrating the 60th Anniversary of Pink Floyd’s formation in 1965 as well as the 50th Anniversary of their album\, Wish You Were Here\, The Australian Pink Floyd Show returns in 2025. \nHaving sold more than 4 million tickets worldwide\, The Australian Pink Floyd Show gave its first ever concert in Adelaide\, Australia in 1988. Since then\, they have performed in over 35 countries worldwide; played at David Gilmour’s 50th birthday celebration and were even joined on stage by David Gilmour and Rick Wright. \nTAPFS is the leading show of its kind in the world. \nPerforming the music of Pink Floyd with note for note perfection\, this critically acclaimed show has been astonishing audiences worldwide for nearly 40 years. Always striving to reproduce the complete Pink Floyd experience and bring the music to new audiences\, TAPFS inspired a whole new genre of acts. \nThe show includes a world class light and laser show\, video animations\, state of the art\, high resolution LED screen technology and other special effects. In addition and in true Pink Floyd tradition\, there are several huge inflatables including a giant pig\, and their own unique Pink Kangaroo. \nThey have worked with Pink Floyd touring musicians like Guy Pratt and Durga McBroom. Lorelei McBroom\, who was a member of the Pink Floyd touring band on both the Momentary Lapse Of Reason and Delicate Sound Of Thunder Tours has been a member of TAPFS for 15 years. \nOften described as being much more than a tribute band\, The Australian Pink Floyd Show is the first Pink Floyd tribute show that took the concept into the worldwide arena circuit. The band has played to sell out audiences throughout Europe\, UK\, America\, Canada & South America. \nWith over 35 years of history\, the world’s biggest\, best\, and greatest Pink Floyd tribute show continues to delight its global fan base. \nFrom its humble origins in the bars & clubs of Adelaide\, in recent years the band has become a truly international affair\, with band members from Australia\, the UK\, France and the USA. \n“For the record TAPFS are a phenomenon to be witnessed live… It’s almost enough to make you forget you haven’t been watching Pink Floyd\, but a surrogate band” – Prog \n“The most popular tribute band in the world” – Sunday Times ‘Culture’ \nNEW FOR 2025 \nFor the 50th Anniversary of Wish You Were Here\, the 2025 Australian Pink Floyd Show tour will bring to the stage the songs that mean so much to Pink Floyd fans all over the world. State of the art lighting and video\, pinpoint lasers\, huge inflatables and flawless live sound that was the benchmark of Pink Floyd shows\, TAPFS guarantees to deliver a memorable live experience for audiences old and new.\nReplicating music from every phase of Pink Floyd’s journey\, this tour reinforces TAPFS’s dedication to the heritage of Barrett\, Waters\, Gilmour\, Wright & Mason with a show that pays sincere and genuine tribute to those legendary Pink Floyd productions. \n2025 BAND LINEUP \nDavid Domminney Fowler – Guitar & Vocals\nPaul Bonney – Drums\nLuc Ledy-Lepine – Guitar\nRicky Howard – Bass & Vocals\nChris Barnes – Vocals\nDavid Parsons – Keyboards\nAlex Francois – Saxophone\nLorelei McBroom – Backing Vocals\nLara Smiles – Backing Vocals\nEmily Lynn – Backing Vocals \nBUY TICKETS
URL:https://nitelite.com/event/aussie-pink-floyd-joliet/
LOCATION:Rialto Square Theatre\, 102 N. Chicago Street\, Joliet\, IL\, 60432\, United States
CATEGORIES:All Events,Entertaiment,Event,Live Music,Tribute Acts,Upcoming Events
ATTACH;FMTTYPE=image/jpeg:https://nitelite.com/wp-content/uploads/2025/05/thumbnail_AUPinkFloyd-Joliet-1200x628-02.jpg
END:VEVENT
END:VCALENDAR