BEGIN:VCALENDAR
VERSION:2.0
PRODID:-//NiteLite Promotions - ECPv6.15.20//NONSGML v1.0//EN
CALSCALE:GREGORIAN
METHOD:PUBLISH
X-ORIGINAL-URL:https://nitelite.com
X-WR-CALDESC:Events for NiteLite Promotions
REFRESH-INTERVAL;VALUE=DURATION:PT1H
X-Robots-Tag:noindex
X-PUBLISHED-TTL:PT1H
BEGIN:VTIMEZONE
TZID:America/Chicago
BEGIN:DAYLIGHT
TZOFFSETFROM:-0600
TZOFFSETTO:-0500
TZNAME:CDT
DTSTART:20240310T080000
END:DAYLIGHT
BEGIN:STANDARD
TZOFFSETFROM:-0500
TZOFFSETTO:-0600
TZNAME:CST
DTSTART:20241103T070000
END:STANDARD
BEGIN:DAYLIGHT
TZOFFSETFROM:-0600
TZOFFSETTO:-0500
TZNAME:CDT
DTSTART:20250309T080000
END:DAYLIGHT
BEGIN:STANDARD
TZOFFSETFROM:-0500
TZOFFSETTO:-0600
TZNAME:CST
DTSTART:20251102T070000
END:STANDARD
BEGIN:DAYLIGHT
TZOFFSETFROM:-0600
TZOFFSETTO:-0500
TZNAME:CDT
DTSTART:20260308T080000
END:DAYLIGHT
BEGIN:STANDARD
TZOFFSETFROM:-0500
TZOFFSETTO:-0600
TZNAME:CST
DTSTART:20261101T070000
END:STANDARD
END:VTIMEZONE
BEGIN:VEVENT
DTSTART;TZID=America/Chicago:20250411T200000
DTEND;TZID=America/Chicago:20250411T200000
DTSTAMP:20260424T130838
CREATED:20241119T205208Z
LAST-MODIFIED:20241119T205208Z
UID:10000349-1744401600-1744401600@nitelite.com
SUMMARY:Hollywood Nights:  The Bob Seger Experience
DESCRIPTION:Hollywood Nights:  The Bob Seger Experience appears on April 11 at 8PM at the Coronado Theatre in Rockford\, IL! \nHollywood Nights – The Bob Seger Experience is the ultimate tribute to Bob Seger and the Silver Bullet Band. They are a 9-piece band based in New Jersey who continues to strive to recreate everything about Bob Seger and his music down to the core. They pride themselves on carrying on the legacy of Bob Seger’s unforgettable high-energy shows\, roaring raspy vocals\, and the groundwork Bob has laid over the past 30 years. Hollywood Nights shares the belief that only Bob and his fans have come to know\, learn\, and love: Represent the voice of every fan\, his or her values\, working-class background\, and the love of rock ‘n’ roll. If you are a true fan of Bob Seger and the Silver Bullet Band\, you won’t want to miss Hollywood Nights! \nBuy Tickets: https://www.ticketmaster.com/hollywood-nights-bob-seger-tribute-rockford-illinois-04-11-2025/event/04006167D7333969
URL:https://nitelite.com/event/hollywood-nights-rockford-il/
LOCATION:Coronado Theatre\, 314 N. Main Street\, Rockford\, IL\, 61101\, United States
CATEGORIES:All Events,Entertaiment,Event,Live Music,Rock Music,Tribute Acts,Upcoming Events
ATTACH;FMTTYPE=image/jpeg:https://nitelite.com/wp-content/uploads/2024/11/thumbnail_HNights-Rockford-1200x628-02.jpg
END:VEVENT
END:VCALENDAR