BEGIN:VCALENDAR
VERSION:2.0
PRODID:-//NiteLite Promotions - ECPv6.15.20//NONSGML v1.0//EN
CALSCALE:GREGORIAN
METHOD:PUBLISH
X-WR-CALNAME:NiteLite Promotions
X-ORIGINAL-URL:https://nitelite.com
X-WR-CALDESC:Events for NiteLite Promotions
REFRESH-INTERVAL;VALUE=DURATION:PT1H
X-Robots-Tag:noindex
X-PUBLISHED-TTL:PT1H
BEGIN:VTIMEZONE
TZID:America/Chicago
BEGIN:DAYLIGHT
TZOFFSETFROM:-0600
TZOFFSETTO:-0500
TZNAME:CDT
DTSTART:20240310T080000
END:DAYLIGHT
BEGIN:STANDARD
TZOFFSETFROM:-0500
TZOFFSETTO:-0600
TZNAME:CST
DTSTART:20241103T070000
END:STANDARD
BEGIN:DAYLIGHT
TZOFFSETFROM:-0600
TZOFFSETTO:-0500
TZNAME:CDT
DTSTART:20250309T080000
END:DAYLIGHT
BEGIN:STANDARD
TZOFFSETFROM:-0500
TZOFFSETTO:-0600
TZNAME:CST
DTSTART:20251102T070000
END:STANDARD
BEGIN:DAYLIGHT
TZOFFSETFROM:-0600
TZOFFSETTO:-0500
TZNAME:CDT
DTSTART:20260308T080000
END:DAYLIGHT
BEGIN:STANDARD
TZOFFSETFROM:-0500
TZOFFSETTO:-0600
TZNAME:CST
DTSTART:20261101T070000
END:STANDARD
END:VTIMEZONE
BEGIN:VEVENT
DTSTART;TZID=America/Chicago:20250313T190000
DTEND;TZID=America/Chicago:20250313T190000
DTSTAMP:20260424T144527
CREATED:20241119T221705Z
LAST-MODIFIED:20241119T221709Z
UID:10000360-1741892400-1741892400@nitelite.com
SUMMARY:Let's Sing Taylor
DESCRIPTION:Let’s Sing Taylor appears at the Rialto Square Theatre in Joliet\, IL on March 13 at 7PM! \nLet’s Sing Taylor – A Live Band Experience – is the ultimate tribute to the music of Taylor Swift. We can show you incredible things\, including the most faithful and lively covers of Queen Taylor’s expansive and sacred catalog. Taking the country by storm\, we’re bringing the communal experience of celebrating Taylor’s music in a live setting to Swifties near and far. \nSo\, let the games begin. Calling all Swifties to sing your hearts out and sport your Taylor-inspired attire. You can show up at our party any time. \nBuy Tickets: https://www.ticketmaster.com/lets-sing-taylor-a-live-band-joliet-illinois-03-13-2025/event/070061589E5D2F05
URL:https://nitelite.com/event/lets-sing-taylor-joliet-il/
LOCATION:Rialto Square Theatre\, 102 N. Chicago Street\, Joliet\, IL\, 60432\, United States
CATEGORIES:All Events,Entertaiment,Event,Live Music,Tribute Acts,Upcoming Events
ATTACH;FMTTYPE=image/jpeg:https://nitelite.com/wp-content/uploads/2024/11/thumbnail_LSTaylor-Joliet-1200x628-01.jpg
END:VEVENT
END:VCALENDAR